BEGIN:VCALENDAR
VERSION:2.0
PRODID:-//City of Newton, IL | Jasper County, IL - ECPv6.15.0//NONSGML v1.0//EN
CALSCALE:GREGORIAN
METHOD:PUBLISH
X-WR-CALNAME:City of Newton, IL | Jasper County, IL
X-ORIGINAL-URL:https://jaspercountyillinois.gov
X-WR-CALDESC:Events for City of Newton, IL | Jasper County, IL
REFRESH-INTERVAL;VALUE=DURATION:PT1H
X-Robots-Tag:noindex
X-PUBLISHED-TTL:PT1H
BEGIN:VTIMEZONE
TZID:America/Chicago
BEGIN:DAYLIGHT
TZOFFSETFROM:-0600
TZOFFSETTO:-0500
TZNAME:CDT
DTSTART:20260308T080000
END:DAYLIGHT
BEGIN:STANDARD
TZOFFSETFROM:-0500
TZOFFSETTO:-0600
TZNAME:CST
DTSTART:20261101T070000
END:STANDARD
END:VTIMEZONE
BEGIN:VEVENT
DTSTART;TZID=America/Chicago:20260505T180000
DTEND;TZID=America/Chicago:20260505T193000
DTSTAMP:20260422T100839
CREATED:20251126T162554Z
LAST-MODIFIED:20251126T162554Z
UID:10000488-1778004000-1778009400@jaspercountyillinois.gov
SUMMARY:City Council Meeting
DESCRIPTION:Regularly scheduled Newton City Council meetings are held at 6:00 pm on the first and third Tuesday of each month. The City Council meetings and committee meetings are held at City Hall located at 108 N. Van Buren in Newton.
URL:https://jaspercountyillinois.gov/event/city-council-meeting-81/
LOCATION:City Hall\, 108 N Van Buren St\, Newton\, IL\, 62448\, United States
CATEGORIES:Public Meetings
END:VEVENT
BEGIN:VEVENT
DTSTART;TZID=America/Chicago:20260519T180000
DTEND;TZID=America/Chicago:20260519T193000
DTSTAMP:20260422T100839
CREATED:20251126T162727Z
LAST-MODIFIED:20251126T162727Z
UID:10000489-1779213600-1779219000@jaspercountyillinois.gov
SUMMARY:City Council Meeting
DESCRIPTION:Regularly scheduled Newton City Council meetings are held at 6:00 pm on the first and third Tuesday of each month. The City Council meetings and committee meetings are held at City Hall located at 108 N. Van Buren in Newton.
URL:https://jaspercountyillinois.gov/event/city-council-meeting-82/
LOCATION:City Hall\, 108 N Van Buren St\, Newton\, IL\, 62448\, United States
CATEGORIES:Public Meetings
END:VEVENT
BEGIN:VEVENT
DTSTART;TZID=America/Chicago:20260521T180000
DTEND;TZID=America/Chicago:20260521T190000
DTSTAMP:20260422T100839
CREATED:20260413T165402Z
LAST-MODIFIED:20260413T165405Z
UID:10000528-1779386400-1779390000@jaspercountyillinois.gov
SUMMARY:County Board Meeting
DESCRIPTION:
URL:https://jaspercountyillinois.gov/event/county-board-meeting-42-8/
LOCATION:County Office Building\, 204 W Washington St\, Newton\, IL\, 62448\, United States
CATEGORIES:Public Meetings
END:VEVENT
BEGIN:VEVENT
DTSTART;VALUE=DATE:20260525
DTEND;VALUE=DATE:20260526
DTSTAMP:20260422T100839
CREATED:20251216T160557Z
LAST-MODIFIED:20251216T160557Z
UID:10000511-1779667200-1779753599@jaspercountyillinois.gov
SUMMARY:County Offices Closed due to observance of Memorial Day
DESCRIPTION:
URL:https://jaspercountyillinois.gov/event/county-offices-closed-due-to-observance-of-memorial-day-2/
END:VEVENT
BEGIN:VEVENT
DTSTART;TZID=America/Chicago:20260602T180000
DTEND;TZID=America/Chicago:20260602T193000
DTSTAMP:20260422T100839
CREATED:20251126T163105Z
LAST-MODIFIED:20251126T163105Z
UID:10000490-1780423200-1780428600@jaspercountyillinois.gov
SUMMARY:City Council Meeting
DESCRIPTION:Regularly scheduled Newton City Council meetings are held at 6:00 pm on the first and third Tuesday of each month. The City Council meetings and committee meetings are held at City Hall located at 108 N. Van Buren in Newton.
URL:https://jaspercountyillinois.gov/event/city-council-meeting-83/
LOCATION:City Hall\, 108 N Van Buren St\, Newton\, IL\, 62448\, United States
CATEGORIES:Public Meetings
END:VEVENT
BEGIN:VEVENT
DTSTART;TZID=America/Chicago:20260616T180000
DTEND;TZID=America/Chicago:20260616T193000
DTSTAMP:20260422T100839
CREATED:20251126T163332Z
LAST-MODIFIED:20251126T163332Z
UID:10000491-1781632800-1781638200@jaspercountyillinois.gov
SUMMARY:City Council Meeting
DESCRIPTION:Regularly scheduled Newton City Council meetings are held at 6:00 pm on the first and third Tuesday of each month. The City Council meetings and committee meetings are held at City Hall located at 108 N. Van Buren in Newton.
URL:https://jaspercountyillinois.gov/event/city-council-meeting-84/
LOCATION:City Hall\, 108 N Van Buren St\, Newton\, IL\, 62448\, United States
CATEGORIES:Public Meetings
END:VEVENT
BEGIN:VEVENT
DTSTART;TZID=America/Chicago:20260618T180000
DTEND;TZID=America/Chicago:20260618T190000
DTSTAMP:20260422T100839
CREATED:20260413T165346Z
LAST-MODIFIED:20260413T165349Z
UID:10000529-1781805600-1781809200@jaspercountyillinois.gov
SUMMARY:County Board Meeting
DESCRIPTION:
URL:https://jaspercountyillinois.gov/event/county-board-meeting-42-7/
LOCATION:County Office Building\, 204 W Washington St\, Newton\, IL\, 62448\, United States
CATEGORIES:Public Meetings
END:VEVENT
BEGIN:VEVENT
DTSTART;VALUE=DATE:20260619
DTEND;VALUE=DATE:20260620
DTSTAMP:20260422T100839
CREATED:20251216T160826Z
LAST-MODIFIED:20251216T160826Z
UID:10000512-1781827200-1781913599@jaspercountyillinois.gov
SUMMARY:County Offices Closed due to observance of Juneteenth
DESCRIPTION:
URL:https://jaspercountyillinois.gov/event/county-offices-closed-due-to-observance-of-juneteenth-2/
END:VEVENT
BEGIN:VEVENT
DTSTART;VALUE=DATE:20260703
DTEND;VALUE=DATE:20260704
DTSTAMP:20260422T100839
CREATED:20251216T161100Z
LAST-MODIFIED:20251216T161100Z
UID:10000513-1783036800-1783123199@jaspercountyillinois.gov
SUMMARY:County Offices Closed due to observance of Independence Day
DESCRIPTION:
URL:https://jaspercountyillinois.gov/event/county-offices-closed-due-to-observance-of-independence-day-2/
END:VEVENT
BEGIN:VEVENT
DTSTART;TZID=America/Chicago:20260707T180000
DTEND;TZID=America/Chicago:20260707T193000
DTSTAMP:20260422T100839
CREATED:20251126T163612Z
LAST-MODIFIED:20251126T163612Z
UID:10000492-1783447200-1783452600@jaspercountyillinois.gov
SUMMARY:City Council Meeting
DESCRIPTION:Regularly scheduled Newton City Council meetings are held at 6:00 pm on the first and third Tuesday of each month. The City Council meetings and committee meetings are held at City Hall located at 108 N. Van Buren in Newton.
URL:https://jaspercountyillinois.gov/event/city-council-meeting-85/
LOCATION:City Hall\, 108 N Van Buren St\, Newton\, IL\, 62448\, United States
CATEGORIES:Public Meetings
END:VEVENT
BEGIN:VEVENT
DTSTART;TZID=America/Chicago:20260716T180000
DTEND;TZID=America/Chicago:20260716T190000
DTSTAMP:20260422T100839
CREATED:20260413T165303Z
LAST-MODIFIED:20260413T165308Z
UID:10000530-1784224800-1784228400@jaspercountyillinois.gov
SUMMARY:County Board Meeting
DESCRIPTION:
URL:https://jaspercountyillinois.gov/event/county-board-meeting-42-4/
LOCATION:County Office Building\, 204 W Washington St\, Newton\, IL\, 62448\, United States
CATEGORIES:Public Meetings
END:VEVENT
BEGIN:VEVENT
DTSTART;TZID=America/Chicago:20260721T180000
DTEND;TZID=America/Chicago:20260721T193000
DTSTAMP:20260422T100839
CREATED:20251126T163736Z
LAST-MODIFIED:20251126T163736Z
UID:10000493-1784656800-1784662200@jaspercountyillinois.gov
SUMMARY:City Council Meeting
DESCRIPTION:Regularly scheduled Newton City Council meetings are held at 6:00 pm on the first and third Tuesday of each month. The City Council meetings and committee meetings are held at City Hall located at 108 N. Van Buren in Newton.
URL:https://jaspercountyillinois.gov/event/city-council-meeting-86/
LOCATION:City Hall\, 108 N Van Buren St\, Newton\, IL\, 62448\, United States
CATEGORIES:Public Meetings
END:VEVENT
BEGIN:VEVENT
DTSTART;TZID=America/Chicago:20260804T180000
DTEND;TZID=America/Chicago:20260804T193000
DTSTAMP:20260422T100839
CREATED:20251126T163851Z
LAST-MODIFIED:20251126T163851Z
UID:10000494-1785866400-1785871800@jaspercountyillinois.gov
SUMMARY:City Council Meeting
DESCRIPTION:Regularly scheduled Newton City Council meetings are held at 6:00 pm on the first and third Tuesday of each month. The City Council meetings and committee meetings are held at City Hall located at 108 N. Van Buren in Newton.
URL:https://jaspercountyillinois.gov/event/city-council-meeting-87/
LOCATION:City Hall\, 108 N Van Buren St\, Newton\, IL\, 62448\, United States
CATEGORIES:Public Meetings
END:VEVENT
BEGIN:VEVENT
DTSTART;TZID=America/Chicago:20260818T180000
DTEND;TZID=America/Chicago:20260818T193000
DTSTAMP:20260422T100839
CREATED:20251126T164014Z
LAST-MODIFIED:20251126T164014Z
UID:10000495-1787076000-1787081400@jaspercountyillinois.gov
SUMMARY:City Council Meeting
DESCRIPTION:Regularly scheduled Newton City Council meetings are held at 6:00 pm on the first and third Tuesday of each month. The City Council meetings and committee meetings are held at City Hall located at 108 N. Van Buren in Newton.
URL:https://jaspercountyillinois.gov/event/city-council-meeting-88/
LOCATION:City Hall\, 108 N Van Buren St\, Newton\, IL\, 62448\, United States
CATEGORIES:Public Meetings
END:VEVENT
BEGIN:VEVENT
DTSTART;TZID=America/Chicago:20260820T180000
DTEND;TZID=America/Chicago:20260820T190000
DTSTAMP:20260422T100839
CREATED:20260413T165323Z
LAST-MODIFIED:20260413T165329Z
UID:10000531-1787248800-1787252400@jaspercountyillinois.gov
SUMMARY:County Board Meeting
DESCRIPTION:
URL:https://jaspercountyillinois.gov/event/county-board-meeting-42-5/
LOCATION:County Office Building\, 204 W Washington St\, Newton\, IL\, 62448\, United States
CATEGORIES:Public Meetings
END:VEVENT
BEGIN:VEVENT
DTSTART;TZID=America/Chicago:20260901T180000
DTEND;TZID=America/Chicago:20260901T193000
DTSTAMP:20260422T100839
CREATED:20251126T164549Z
LAST-MODIFIED:20251126T164549Z
UID:10000496-1788285600-1788291000@jaspercountyillinois.gov
SUMMARY:City Council Meeting
DESCRIPTION:Regularly scheduled Newton City Council meetings are held at 6:00 pm on the first and third Tuesday of each month. The City Council meetings and committee meetings are held at City Hall located at 108 N. Van Buren in Newton.
URL:https://jaspercountyillinois.gov/event/city-council-meeting-89/
LOCATION:City Hall\, 108 N Van Buren St\, Newton\, IL\, 62448\, United States
CATEGORIES:Public Meetings
END:VEVENT
BEGIN:VEVENT
DTSTART;VALUE=DATE:20260907
DTEND;VALUE=DATE:20260908
DTSTAMP:20260422T100839
CREATED:20251216T161639Z
LAST-MODIFIED:20251216T161639Z
UID:10000514-1788739200-1788825599@jaspercountyillinois.gov
SUMMARY:County Offices Closed due to observance of Labor Day
DESCRIPTION:
URL:https://jaspercountyillinois.gov/event/county-offices-closed-due-to-observance-of-labor-day-2/
END:VEVENT
BEGIN:VEVENT
DTSTART;TZID=America/Chicago:20260915T180000
DTEND;TZID=America/Chicago:20260915T193000
DTSTAMP:20260422T100839
CREATED:20251126T164746Z
LAST-MODIFIED:20251126T164746Z
UID:10000497-1789495200-1789500600@jaspercountyillinois.gov
SUMMARY:City Council Meeting
DESCRIPTION:Regularly scheduled Newton City Council meetings are held at 6:00 pm on the first and third Tuesday of each month. The City Council meetings and committee meetings are held at City Hall located at 108 N. Van Buren in Newton.
URL:https://jaspercountyillinois.gov/event/city-council-meeting-90/
LOCATION:City Hall\, 108 N Van Buren St\, Newton\, IL\, 62448\, United States
CATEGORIES:Public Meetings
END:VEVENT
BEGIN:VEVENT
DTSTART;TZID=America/Chicago:20260917T180000
DTEND;TZID=America/Chicago:20260917T190000
DTSTAMP:20260422T100839
CREATED:20260413T165345Z
LAST-MODIFIED:20260413T165349Z
UID:10000532-1789668000-1789671600@jaspercountyillinois.gov
SUMMARY:County Board Meeting
DESCRIPTION:
URL:https://jaspercountyillinois.gov/event/county-board-meeting-42-6/
LOCATION:County Office Building\, 204 W Washington St\, Newton\, IL\, 62448\, United States
CATEGORIES:Public Meetings
END:VEVENT
BEGIN:VEVENT
DTSTART;TZID=America/Chicago:20260917T180000
DTEND;TZID=America/Chicago:20260917T190000
DTSTAMP:20260422T100839
CREATED:20260413T165749Z
LAST-MODIFIED:20260413T165751Z
UID:10000569-1789668000-1789671600@jaspercountyillinois.gov
SUMMARY:County Board Meeting
DESCRIPTION:
URL:https://jaspercountyillinois.gov/event/county-board-meeting-42-10/
LOCATION:County Office Building\, 204 W Washington St\, Newton\, IL\, 62448\, United States
CATEGORIES:Public Meetings
END:VEVENT
BEGIN:VEVENT
DTSTART;TZID=America/Chicago:20261006T180000
DTEND;TZID=America/Chicago:20261006T193000
DTSTAMP:20260422T100839
CREATED:20251126T164936Z
LAST-MODIFIED:20251126T164936Z
UID:10000498-1791309600-1791315000@jaspercountyillinois.gov
SUMMARY:City Council Meeting
DESCRIPTION:Regularly scheduled Newton City Council meetings are held at 6:00 pm on the first and third Tuesday of each month. The City Council meetings and committee meetings are held at City Hall located at 108 N. Van Buren in Newton.
URL:https://jaspercountyillinois.gov/event/city-council-meeting-91/
LOCATION:City Hall\, 108 N Van Buren St\, Newton\, IL\, 62448\, United States
CATEGORIES:Public Meetings
END:VEVENT
BEGIN:VEVENT
DTSTART;VALUE=DATE:20261012
DTEND;VALUE=DATE:20261013
DTSTAMP:20260422T100839
CREATED:20251216T161959Z
LAST-MODIFIED:20251216T161959Z
UID:10000515-1791763200-1791849599@jaspercountyillinois.gov
SUMMARY:County Offices Closed due to observance of Columbus Day
DESCRIPTION:
URL:https://jaspercountyillinois.gov/event/county-offices-closed-due-to-observance-of-columbus-day-2/
END:VEVENT
BEGIN:VEVENT
DTSTART;TZID=America/Chicago:20261015T180000
DTEND;TZID=America/Chicago:20261015T190000
DTSTAMP:20260422T100839
CREATED:20260413T165120Z
LAST-MODIFIED:20260413T165124Z
UID:10000533-1792087200-1792090800@jaspercountyillinois.gov
SUMMARY:County Board Meeting
DESCRIPTION:
URL:https://jaspercountyillinois.gov/event/county-board-meeting-42-3/
LOCATION:County Office Building\, 204 W Washington St\, Newton\, IL\, 62448\, United States
CATEGORIES:Public Meetings
END:VEVENT
BEGIN:VEVENT
DTSTART;TZID=America/Chicago:20261020T180000
DTEND;TZID=America/Chicago:20261020T193000
DTSTAMP:20260422T100839
CREATED:20251126T165037Z
LAST-MODIFIED:20251126T165037Z
UID:10000499-1792519200-1792524600@jaspercountyillinois.gov
SUMMARY:City Council Meeting
DESCRIPTION:Regularly scheduled Newton City Council meetings are held at 6:00 pm on the first and third Tuesday of each month. The City Council meetings and committee meetings are held at City Hall located at 108 N. Van Buren in Newton.
URL:https://jaspercountyillinois.gov/event/city-council-meeting-92/
LOCATION:City Hall\, 108 N Van Buren St\, Newton\, IL\, 62448\, United States
CATEGORIES:Public Meetings
END:VEVENT
BEGIN:VEVENT
DTSTART;TZID=America/Chicago:20261103T180000
DTEND;TZID=America/Chicago:20261103T193000
DTSTAMP:20260422T100839
CREATED:20251126T170301Z
LAST-MODIFIED:20251126T170301Z
UID:10000503-1793728800-1793734200@jaspercountyillinois.gov
SUMMARY:City Council Meeting
DESCRIPTION:Regularly scheduled Newton City Council meetings are held at 6:00 pm on the first and third Tuesday of each month. The City Council meetings and committee meetings are held at City Hall located at 108 N. Van Buren in Newton.
URL:https://jaspercountyillinois.gov/event/city-council-meeting-96/
LOCATION:City Hall\, 108 N Van Buren St\, Newton\, IL\, 62448\, United States
CATEGORIES:Public Meetings
END:VEVENT
BEGIN:VEVENT
DTSTART;VALUE=DATE:20261111
DTEND;VALUE=DATE:20261112
DTSTAMP:20260422T100839
CREATED:20251216T162141Z
LAST-MODIFIED:20251216T162141Z
UID:10000516-1794355200-1794441599@jaspercountyillinois.gov
SUMMARY:County Offices Closed due to observance of Veterans Day
DESCRIPTION:
URL:https://jaspercountyillinois.gov/event/county-offices-closed-due-to-observance-of-veterans-day-2/
END:VEVENT
BEGIN:VEVENT
DTSTART;TZID=America/Chicago:20261117T180000
DTEND;TZID=America/Chicago:20261117T193000
DTSTAMP:20260422T100839
CREATED:20251126T165202Z
LAST-MODIFIED:20251126T165202Z
UID:10000500-1794938400-1794943800@jaspercountyillinois.gov
SUMMARY:City Council Meeting
DESCRIPTION:Regularly scheduled Newton City Council meetings are held at 6:00 pm on the first and third Tuesday of each month. The City Council meetings and committee meetings are held at City Hall located at 108 N. Van Buren in Newton.
URL:https://jaspercountyillinois.gov/event/city-council-meeting-93/
LOCATION:City Hall\, 108 N Van Buren St\, Newton\, IL\, 62448\, United States
CATEGORIES:Public Meetings
END:VEVENT
BEGIN:VEVENT
DTSTART;TZID=America/Chicago:20261119T180000
DTEND;TZID=America/Chicago:20261119T190000
DTSTAMP:20260422T100839
CREATED:20260413T165017Z
LAST-MODIFIED:20260413T165019Z
UID:10000534-1795111200-1795114800@jaspercountyillinois.gov
SUMMARY:County Board Meeting
DESCRIPTION:
URL:https://jaspercountyillinois.gov/event/county-board-meeting-42-2/
LOCATION:County Office Building\, 204 W Washington St\, Newton\, IL\, 62448\, United States
CATEGORIES:Public Meetings
END:VEVENT
BEGIN:VEVENT
DTSTART;VALUE=DATE:20261126
DTEND;VALUE=DATE:20261127
DTSTAMP:20260422T100839
CREATED:20251216T162348Z
LAST-MODIFIED:20251216T162348Z
UID:10000517-1795651200-1795737599@jaspercountyillinois.gov
SUMMARY:County Offices Closed due to observance of Thanksgiving Holiday
DESCRIPTION:
URL:https://jaspercountyillinois.gov/event/county-offices-closed-due-to-observance-of-thanksgiving-holiday-4/
END:VEVENT
BEGIN:VEVENT
DTSTART;VALUE=DATE:20261127
DTEND;VALUE=DATE:20261128
DTSTAMP:20260422T100839
CREATED:20251216T162548Z
LAST-MODIFIED:20251216T162548Z
UID:10000518-1795737600-1795823999@jaspercountyillinois.gov
SUMMARY:County Offices Closed due to observance of Thanksgiving Holiday
DESCRIPTION:
URL:https://jaspercountyillinois.gov/event/county-offices-closed-due-to-observance-of-thanksgiving-holiday-5/
END:VEVENT
END:VCALENDAR