BEGIN:VCALENDAR
VERSION:2.0
PRODID:-//City of Newton, IL | Jasper County, IL - ECPv6.15.0//NONSGML v1.0//EN
CALSCALE:GREGORIAN
METHOD:PUBLISH
X-ORIGINAL-URL:https://jaspercountyillinois.gov
X-WR-CALDESC:Events for City of Newton, IL | Jasper County, IL
REFRESH-INTERVAL;VALUE=DURATION:PT1H
X-Robots-Tag:noindex
X-PUBLISHED-TTL:PT1H
BEGIN:VTIMEZONE
TZID:America/Chicago
BEGIN:DAYLIGHT
TZOFFSETFROM:-0600
TZOFFSETTO:-0500
TZNAME:CDT
DTSTART:20250309T080000
END:DAYLIGHT
BEGIN:STANDARD
TZOFFSETFROM:-0500
TZOFFSETTO:-0600
TZNAME:CST
DTSTART:20251102T070000
END:STANDARD
END:VTIMEZONE
BEGIN:VEVENT
DTSTART;VALUE=DATE:20250915
DTEND;VALUE=DATE:20250916
DTSTAMP:20260422T105003
CREATED:20250710T150604Z
LAST-MODIFIED:20250710T150604Z
UID:10000442-1757894400-1757980799@jaspercountyillinois.gov
SUMMARY:Second Installment of Real Estate Tax Bills Due
DESCRIPTION:
URL:https://jaspercountyillinois.gov/event/second-installment-of-real-estate-tax-bills-due-2/
LOCATION:IL
END:VEVENT
BEGIN:VEVENT
DTSTART;TZID=America/Chicago:20250910T173000
DTEND;TZID=America/Chicago:20250910T183000
DTSTAMP:20260422T105003
CREATED:20250908T174445Z
LAST-MODIFIED:20250915T190131Z
UID:10000458-1757525400-1757529000@jaspercountyillinois.gov
SUMMARY:Electric Committee Meeting
DESCRIPTION:There will be a meeting of the Electric Committee on Wednesday\, September 10\, 2025 at 5:30 PM in the City Council Room at Newton City Hall located at 108 N. Van Buren St.\, Newton\, Illinois.
URL:https://jaspercountyillinois.gov/event/electric-committee-meeting-27/
LOCATION:City Hall\, 108 N Van Buren St\, Newton\, IL\, 62448\, United States
END:VEVENT
BEGIN:VEVENT
DTSTART;TZID=America/Chicago:20250909T180000
DTEND;TZID=America/Chicago:20250909T190000
DTSTAMP:20260422T105003
CREATED:20250905T144753Z
LAST-MODIFIED:20250915T190022Z
UID:10000457-1757440800-1757444400@jaspercountyillinois.gov
SUMMARY:Zoning Board of Appeals Meeting
DESCRIPTION:There will be a Zoning Board of Appeals Meeting on Wednesday\, September 9\, 2025 at 6:00 PM located in the council room at Newton City Hall located at 108 N. Van Buren St.\, Newton\, Illinois.
URL:https://jaspercountyillinois.gov/event/zoning-board-of-appeals-meeting-4/
LOCATION:City Hall\, 108 N Van Buren St\, Newton\, IL\, 62448\, United States
END:VEVENT
BEGIN:VEVENT
DTSTART;TZID=America/Chicago:20250903T183000
DTEND;TZID=America/Chicago:20250903T190000
DTSTAMP:20260422T105003
CREATED:20250905T143101Z
LAST-MODIFIED:20250905T143133Z
UID:10000456-1756924200-1756926000@jaspercountyillinois.gov
SUMMARY:Personnel Committee Meeting
DESCRIPTION:There will be a meeting of the Personnel Committee on Wednesday\, September 3\, 2025 immediately following the Street and Alley Committee Meeting in the council room of the Newton City Hall at 108 N. Van Buren St.\, Newton\, Illinois.
URL:https://jaspercountyillinois.gov/event/personnel-committee-meeting-20/
LOCATION:City Hall\, 108 N Van Buren St\, Newton\, IL\, 62448\, United States
END:VEVENT
BEGIN:VEVENT
DTSTART;TZID=America/Chicago:20250903T173000
DTEND;TZID=America/Chicago:20250903T183000
DTSTAMP:20260422T105003
CREATED:20250905T142749Z
LAST-MODIFIED:20250905T145853Z
UID:10000455-1756920600-1756924200@jaspercountyillinois.gov
SUMMARY:Street and Alley Committee Meeting
DESCRIPTION:There will be a Street and Alley Committee Meeting on Wednesday\, September 3\, 2025 at 5:30 PM in the council room of Newton City Hall at 108 N. Van Buren\, Newton\, Illinois. \n 
URL:https://jaspercountyillinois.gov/event/street-and-alley-committee-meeting-15/
LOCATION:City Hall\, 108 N Van Buren St\, Newton\, IL\, 62448\, United States
END:VEVENT
BEGIN:VEVENT
DTSTART;TZID=America/Chicago:20250902T180000
DTEND;TZID=America/Chicago:20250902T193000
DTSTAMP:20260422T105003
CREATED:20250327T200155Z
LAST-MODIFIED:20250924T203307Z
UID:10000403-1756836000-1756841400@jaspercountyillinois.gov
SUMMARY:City Council Meeting
DESCRIPTION:Regularly scheduled Newton City Council meetings are held at 6:00 pm on the first and third Tuesday of each month. The City Council meetings and committee meetings are held at City Hall located at 108 N. Van Buren in Newton. \nYou may attend Newton City Council Meetings virtually\, via Zoom:\nNewton City Council Zoom Link\nMeeting ID: 464 346 8337\nPasscode: 106564\nPhone (if calling in): 312-626-6799 \n 
URL:https://jaspercountyillinois.gov/event/city-council-meeting-65/
LOCATION:City Hall\, 108 N Van Buren St\, Newton\, IL\, 62448\, United States
CATEGORIES:Public Meetings
END:VEVENT
BEGIN:VEVENT
DTSTART;TZID=America/Chicago:20250902T173000
DTEND;TZID=America/Chicago:20250902T180000
DTSTAMP:20260422T105003
CREATED:20250822T134637Z
LAST-MODIFIED:20250822T134637Z
UID:10000452-1756834200-1756836000@jaspercountyillinois.gov
SUMMARY:Public Notice for Open Space Lands Acquisition and Development Grant
DESCRIPTION:PUBLIC NOTICE \nOPEN SPACE LANDS ACQUISITION AND DEVELOPMENT GRANT \nThe City of Newton will hold a Public Hearing to receive community input on the proposed application to the Illinois Department of Natural Resources for funding under the Open Space Lands Acquisition and Development (OSLAD) Grant.  The purposed projects will consist of upgrades at Peterson Park\, such as resurfacing and painting the tennis courts and basketball court\, new playground equipment and new fencing around the mini golf area. \nResidents and other interested persons are encouraged to attend and provide input to help shape the development of this important community resource.  The hearing will be held on Tuesday\, September 2\, 2025 at 5:30 PM in the City Council Room at Newton City Hall located at 108 N. Van Buren St.\, Newton\, Illinois.
URL:https://jaspercountyillinois.gov/event/public-notice-for-open-space-lands-acquisition-and-development-grant/
LOCATION:City Hall\, 108 N Van Buren St\, Newton\, IL\, 62448\, United States
CATEGORIES:Public Meetings
END:VEVENT
BEGIN:VEVENT
DTSTART;TZID=America/Chicago:20250902T173000
DTEND;TZID=America/Chicago:20250902T180000
DTSTAMP:20260422T105003
CREATED:20250822T134343Z
LAST-MODIFIED:20250822T134343Z
UID:10000451-1756834200-1756836000@jaspercountyillinois.gov
SUMMARY:Public Notice for Safe Routes to School Grant
DESCRIPTION:PUBLIC NOTICE \nSAFE ROUTES TO SCHOOL GRANT  \nThe City of Newton will hold a Public Hearing to receive input on the proposed application for the Safe Routes to School (SRTS) Grant through the Illinois Department of Transportation.  The project consists of new sidewalks along both sides of South Van Buren St. from Reynolds St. to Wilson St.  This will help improve pedestrian and bicycle access and also improve the safety of students traveling to and from school. \nAll interested persons are invited to attend the public hearing and provide comments.  The hearing will be held on Tuesday\, September 2\, 2025 at 5:30 PM in the City Council Room at Newton City Hall located at 108 N. Van Buren St.\, Newton\, Illinois.
URL:https://jaspercountyillinois.gov/event/public-notice-for-safe-routes-to-school-grant/
LOCATION:City Hall\, 108 N Van Buren St\, Newton\, IL\, 62448\, United States
CATEGORIES:Public Meetings
END:VEVENT
BEGIN:VEVENT
DTSTART;TZID=America/Chicago:20250902T053000
DTEND;TZID=America/Chicago:20250902T180000
DTSTAMP:20260422T105003
CREATED:20250905T142553Z
LAST-MODIFIED:20250905T142553Z
UID:10000454-1756791000-1756836000@jaspercountyillinois.gov
SUMMARY:Finance and Audit Committee Meeting
DESCRIPTION:There will be a Finance/Audit Committee Meeting on Tuesday\, September 2\, 2025\, immediately following the Public Hearing for the OSLAD Grant beginning at 5:30 PM\, in the Council Room at Newton City Hall located at 108 N. Van Buren St.\, Newton\, Illinois.
URL:https://jaspercountyillinois.gov/event/finance-and-audit-committee-meeting-23/
LOCATION:City Hall\, 108 N Van Buren St\, Newton\, IL\, 62448\, United States
END:VEVENT
BEGIN:VEVENT
DTSTART;TZID=America/Chicago:20250901T070000
DTEND;TZID=America/Chicago:20250901T160000
DTSTAMP:20260422T105003
CREATED:20250822T145254Z
LAST-MODIFIED:20250827T153618Z
UID:10000453-1756710000-1756742400@jaspercountyillinois.gov
SUMMARY:City Offices Closed in Observance of Labor Day
DESCRIPTION:The City of Newton Offices will be closed Monday\, September 1\, 2025 in Observance of Labor Day.
URL:https://jaspercountyillinois.gov/event/city-offices-closed/
LOCATION:City Hall\, 108 N Van Buren St\, Newton\, IL\, 62448\, United States
END:VEVENT
BEGIN:VEVENT
DTSTART;VALUE=DATE:20250901
DTEND;VALUE=DATE:20250902
DTSTAMP:20260422T105003
CREATED:20250211T195852Z
LAST-MODIFIED:20250211T195852Z
UID:10000383-1756684800-1756771199@jaspercountyillinois.gov
SUMMARY:County Offices Closed due to observance of Labor Day
DESCRIPTION:
URL:https://jaspercountyillinois.gov/event/county-offices-closed-due-to-observance-of-labor-day/
LOCATION:IL
END:VEVENT
BEGIN:VEVENT
DTSTART;TZID=America/Chicago:20250821T180000
DTEND;TZID=America/Chicago:20250821T190000
DTSTAMP:20260422T105003
CREATED:20241203T203112Z
LAST-MODIFIED:20250909T184309Z
UID:10000331-1755799200-1755802800@jaspercountyillinois.gov
SUMMARY:County Board Meeting
DESCRIPTION:
URL:https://jaspercountyillinois.gov/event/county-board-meeting-32/
LOCATION:County Office Building\, 204 W Washington St\, Newton\, IL\, 62448\, United States
CATEGORIES:Public Meetings
END:VEVENT
BEGIN:VEVENT
DTSTART;TZID=America/Chicago:20250819T180000
DTEND;TZID=America/Chicago:20250819T193000
DTSTAMP:20260422T105003
CREATED:20250327T200058Z
LAST-MODIFIED:20250910T145006Z
UID:10000402-1755626400-1755631800@jaspercountyillinois.gov
SUMMARY:City Council Meeting
DESCRIPTION:Regularly scheduled Newton City Council meetings are held at 6:00 pm on the first and third Tuesday of each month. The City Council meetings and committee meetings are held at City Hall located at 108 N. Van Buren in Newton. \n  \nYou may attend Newton City Council Meetings virtually\, via Zoom:\nNewton City Council Zoom Link\nMeeting ID: 464 346 8337\nPasscode: 106564\nPhone (if calling in): 312-626-6799
URL:https://jaspercountyillinois.gov/event/city-council-meeting-64/
LOCATION:City Hall\, 108 N Van Buren St\, Newton\, IL\, 62448\, United States
CATEGORIES:Public Meetings
END:VEVENT
BEGIN:VEVENT
DTSTART;TZID=America/Chicago:20250818T180000
DTEND;TZID=America/Chicago:20250818T190000
DTSTAMP:20260422T105003
CREATED:20250813T175831Z
LAST-MODIFIED:20250819T133454Z
UID:10000450-1755540000-1755543600@jaspercountyillinois.gov
SUMMARY:Finance and Audit Committee Meeting
DESCRIPTION:There will be a Finance/Audit Committee Meeting on Monday\, August 18\, 2025 at 6:00 PM in the Council Room at Newton City Hall located at 108 N. Van Buren St.\, Newton\, Illinois.
URL:https://jaspercountyillinois.gov/event/finance-and-audit-committee-meeting-22/
LOCATION:City Hall\, 108 N Van Buren St\, Newton\, IL\, 62448\, United States
END:VEVENT
BEGIN:VEVENT
DTSTART;VALUE=DATE:20250815
DTEND;VALUE=DATE:20250816
DTSTAMP:20260422T105003
CREATED:20250710T150305Z
LAST-MODIFIED:20250710T150305Z
UID:10000441-1755216000-1755302399@jaspercountyillinois.gov
SUMMARY:Last Day to Submit Bids for County Trustee's Sealed Bid Auction
DESCRIPTION:
URL:https://jaspercountyillinois.gov/event/last-day-to-submit-bids-for-county-trustees-sealed-bid-auction-2/
LOCATION:IL
END:VEVENT
BEGIN:VEVENT
DTSTART;VALUE=DATE:20250815
DTEND;VALUE=DATE:20250816
DTSTAMP:20260422T105003
CREATED:20250710T145950Z
LAST-MODIFIED:20250710T145950Z
UID:10000440-1755216000-1755302399@jaspercountyillinois.gov
SUMMARY:First Installment of Real Estate Tax Bills Due
DESCRIPTION:
URL:https://jaspercountyillinois.gov/event/first-installment-of-real-estate-tax-bills-due-2/
LOCATION:IL
END:VEVENT
BEGIN:VEVENT
DTSTART;TZID=America/Chicago:20250812T193000
DTEND;TZID=America/Chicago:20250812T200000
DTSTAMP:20260422T105003
CREATED:20250806T184200Z
LAST-MODIFIED:20250813T192727Z
UID:10000449-1755027000-1755028800@jaspercountyillinois.gov
SUMMARY:Finance and Audit Committee Meeting
DESCRIPTION:There will be a Finance/Audit Committee Meeting on Tuesday\, August 12\, 2025 immediately following the Personnel Committee Meeting in the Council Room at Newton City Hall located at 108 N. Van Buren St.\, Newton\, Illinois.
URL:https://jaspercountyillinois.gov/event/finance-and-audit-committee-meeting-21/
LOCATION:City Hall\, 108 N Van Buren St\, Newton\, IL\, 62448\, United States
CATEGORIES:Committee Meetings
END:VEVENT
BEGIN:VEVENT
DTSTART;TZID=America/Chicago:20250812T190000
DTEND;TZID=America/Chicago:20250812T193000
DTSTAMP:20260422T105003
CREATED:20250806T182000Z
LAST-MODIFIED:20250813T192617Z
UID:10000448-1755025200-1755027000@jaspercountyillinois.gov
SUMMARY:Personnel Committee Meeting
DESCRIPTION:There will be a meeting of the Personnel Committee on Tuesday\, August 12\, 2025 immediately following the Police and Building Permit Committee Meeting in the council room of the Newton City Hall at 108 N. Van Buren St.\, Newton\, Illinois. \n 
URL:https://jaspercountyillinois.gov/event/personnel-committee-meeting-19/
LOCATION:City Hall\, 108 N Van Buren St\, Newton\, IL\, 62448\, United States
CATEGORIES:Committee Meetings
END:VEVENT
BEGIN:VEVENT
DTSTART;TZID=America/Chicago:20250812T183000
DTEND;TZID=America/Chicago:20250812T193000
DTSTAMP:20260422T105003
CREATED:20250731T183741Z
LAST-MODIFIED:20250813T192444Z
UID:10000447-1755023400-1755027000@jaspercountyillinois.gov
SUMMARY:Police and Building Permit Committee Meeting
DESCRIPTION:There will be a meeting of the Police and Building Permit Committee on Tuesday\, August 12\, 2025 at 6:30 PM in the council room of Newton City Hall at 108 N Van Buren\, Newton\, Illinois.
URL:https://jaspercountyillinois.gov/event/police-and-building-permit-committee-meeting-12/
LOCATION:City Hall\, 108 N Van Buren St\, Newton\, IL\, 62448\, United States
CATEGORIES:Committee Meetings
END:VEVENT
BEGIN:VEVENT
DTSTART;TZID=America/Chicago:20250805T180000
DTEND;TZID=America/Chicago:20250805T193000
DTSTAMP:20260422T105003
CREATED:20250327T200005Z
LAST-MODIFIED:20250827T153423Z
UID:10000401-1754416800-1754422200@jaspercountyillinois.gov
SUMMARY:City Council Meeting
DESCRIPTION:Regularly scheduled Newton City Council meetings are held at 6:00 pm on the first and third Tuesday of each month. The City Council meetings and committee meetings are held at City Hall located at 108 N. Van Buren in Newton. \n  \nYou may attend Newton City Council Meetings virtually\, via Zoom:\nNewton City Council Zoom Link\nMeeting ID: 464 346 8337\nPasscode: 106564\nPhone (if calling in): 312-626-6799
URL:https://jaspercountyillinois.gov/event/city-council-meeting-63/
LOCATION:City Hall\, 108 N Van Buren St\, Newton\, IL\, 62448\, United States
CATEGORIES:Public Meetings
END:VEVENT
BEGIN:VEVENT
DTSTART;TZID=America/Chicago:20250805T173000
DTEND;TZID=America/Chicago:20250805T180000
DTSTAMP:20260422T105003
CREATED:20250731T134400Z
LAST-MODIFIED:20250806T142754Z
UID:10000446-1754415000-1754416800@jaspercountyillinois.gov
SUMMARY:Finance and Audit Committee Meeting
DESCRIPTION:There will be a Finance/Audit Committee Meeting on Tuesday\, August 5\, 2025 at 5:30 PM in the Council Room at Newton City Hall located at 108 N. Van Buren St.\, Newton\, Illinois.
URL:https://jaspercountyillinois.gov/event/finance-and-audit-committee-meeting-20/
LOCATION:City Hall\, 108 N Van Buren St\, Newton\, IL\, 62448\, United States
CATEGORIES:Committee Meetings
END:VEVENT
BEGIN:VEVENT
DTSTART;TZID=America/Chicago:20250730T183000
DTEND;TZID=America/Chicago:20250730T193000
DTSTAMP:20260422T105003
CREATED:20250722T205521Z
LAST-MODIFIED:20250806T150803Z
UID:10000445-1753900200-1753903800@jaspercountyillinois.gov
SUMMARY:Police and Building Permit Committee Meeting
DESCRIPTION:There will be a meeting of the Police and Building Permit Committee on Wednesday\, July 30\, 2025 at 6:30 PM in the council room of Newton City Hall at 108 N Van Buren\, Newton\, Illinois.
URL:https://jaspercountyillinois.gov/event/police-and-building-permit-committee-meeting-11/
LOCATION:City Hall\, 108 N Van Buren St\, Newton\, IL\, 62448\, United States
END:VEVENT
BEGIN:VEVENT
DTSTART;TZID=America/Chicago:20250717T180000
DTEND;TZID=America/Chicago:20250717T190000
DTSTAMP:20260422T105003
CREATED:20241203T203023Z
LAST-MODIFIED:20250815T160025Z
UID:10000330-1752775200-1752778800@jaspercountyillinois.gov
SUMMARY:County Board Meeting
DESCRIPTION:
URL:https://jaspercountyillinois.gov/event/county-board-meeting-31/
LOCATION:County Office Building\, 204 W Washington St\, Newton\, IL\, 62448\, United States
CATEGORIES:Public Meetings
END:VEVENT
BEGIN:VEVENT
DTSTART;TZID=America/Chicago:20250715T180000
DTEND;TZID=America/Chicago:20250715T193000
DTSTAMP:20260422T105003
CREATED:20250327T195839Z
LAST-MODIFIED:20250811T135423Z
UID:10000400-1752602400-1752607800@jaspercountyillinois.gov
SUMMARY:City Council Meeting
DESCRIPTION:Regularly scheduled Newton City Council meetings are held at 6:00 pm on the first and third Tuesday of each month. The City Council meetings and committee meetings are held at City Hall located at 108 N. Van Buren in Newton. \nTo watch meeting live via Zoom Click Here \nLink:\nhttps://zoom.us/j/4643468337?pwd=T6vln8uBzE9q1qABJrptecYbExojGG.1&omn=96233489774 \n 
URL:https://jaspercountyillinois.gov/event/city-council-meeting-62/
LOCATION:City Hall\, 108 N Van Buren St\, Newton\, IL\, 62448\, United States
CATEGORIES:Public Meetings
END:VEVENT
BEGIN:VEVENT
DTSTART;TZID=America/Chicago:20250715T173000
DTEND;TZID=America/Chicago:20250715T180000
DTSTAMP:20260422T105003
CREATED:20250703T204454Z
LAST-MODIFIED:20250703T204454Z
UID:10000437-1752600600-1752602400@jaspercountyillinois.gov
SUMMARY:Public Notice - Appropriations Hearing
DESCRIPTION:PUBLIC NOTICE \nNOTICE of public hearing for the City of Newton proposed appropriations for the fiscal year 2025-2026.  Said hearing is to be held on Tuesday\, July 15\, 2025 at 5:45 PM in the City Council Room at City Hall\, 108 N. Van Buren Street\, Newton\, Illinois.  The proposed appropriations will be available for public inspection on June 30\, 2025 through July 14\, 2025 at the Office of the City Treasurer in the City Hall between the hours of 7:00 AM and 4:00 PM. \n  \nMelissa Brooks \nNewton City Treasurer
URL:https://jaspercountyillinois.gov/event/public-notice-appropriations-hearing/
LOCATION:City Hall\, 108 N Van Buren St\, Newton\, IL\, 62448\, United States
CATEGORIES:Public Meetings
END:VEVENT
BEGIN:VEVENT
DTSTART;TZID=America/Chicago:20250707T183000
DTEND;TZID=America/Chicago:20250707T193000
DTSTAMP:20260422T105003
CREATED:20250701T204850Z
LAST-MODIFIED:20250710T182308Z
UID:10000435-1751913000-1751916600@jaspercountyillinois.gov
SUMMARY:Finance and Audit Committee Meeting
DESCRIPTION:There will be a Finance/Audit Committee Meeting on Monday\, July 7\, 2025 immediately following the Police and Building Permit Committee Meeting in the Council Room at Newton City Hall located at 108 N. Van Buren St.\, Newton\, Illinois.
URL:https://jaspercountyillinois.gov/event/finance-and-audit-committee-meeting-19/
LOCATION:City Hall\, 108 N Van Buren St\, Newton\, IL\, 62448\, United States
CATEGORIES:Committee Meetings
END:VEVENT
BEGIN:VEVENT
DTSTART;TZID=America/Chicago:20250707T183000
DTEND;TZID=America/Chicago:20250707T190000
DTSTAMP:20260422T105003
CREATED:20250702T202834Z
LAST-MODIFIED:20250710T182810Z
UID:10000436-1751913000-1751914800@jaspercountyillinois.gov
SUMMARY:Alcohol and Tobacco Committee Meeting
DESCRIPTION:There will be an Alcohol and Tobacco Committee Meeting Monday\, July 7\, 2025 immediately following the Finance and Audit Committee Meeting in the Council Room at Newton City Hall located at 108 N. Van Buren St.\, Newton\, Illinois.
URL:https://jaspercountyillinois.gov/event/alcohol-and-tobacco-committee-meeting/
LOCATION:City Hall\, 108 N Van Buren St\, Newton\, IL\, 62448\, United States
END:VEVENT
BEGIN:VEVENT
DTSTART;TZID=America/Chicago:20250707T180000
DTEND;TZID=America/Chicago:20250707T190000
DTSTAMP:20260422T105003
CREATED:20250701T204612Z
LAST-MODIFIED:20250717T160920Z
UID:10000434-1751911200-1751914800@jaspercountyillinois.gov
SUMMARY:Police and Building Permit Committee Meeting
DESCRIPTION:There will be a meeting of the Police and Building Permit Committee on Monday\, July 7\, 2025 at 6:00 PM in the council room of Newton City Hall at 108 N Van Buren\, Newton\, Illinois. \n 
URL:https://jaspercountyillinois.gov/event/police-and-building-permit-committee-meeting-10/
LOCATION:City Hall\, 108 N Van Buren St\, Newton\, IL\, 62448\, United States
CATEGORIES:Committee Meetings
END:VEVENT
BEGIN:VEVENT
DTSTART;VALUE=DATE:20250704
DTEND;VALUE=DATE:20250705
DTSTAMP:20260422T105003
CREATED:20250211T195552Z
LAST-MODIFIED:20250211T195552Z
UID:10000382-1751587200-1751673599@jaspercountyillinois.gov
SUMMARY:County Offices Closed due to observance of Independence Day
DESCRIPTION:
URL:https://jaspercountyillinois.gov/event/county-offices-closed-due-to-observance-of-independence-day/
LOCATION:IL
END:VEVENT
BEGIN:VEVENT
DTSTART;TZID=America/Chicago:20250701T180000
DTEND;TZID=America/Chicago:20250701T193000
DTSTAMP:20260422T105003
CREATED:20250327T195745Z
LAST-MODIFIED:20250703T162229Z
UID:10000399-1751392800-1751398200@jaspercountyillinois.gov
SUMMARY:City Council Meeting
DESCRIPTION:Regularly scheduled Newton City Council meetings are held at 6:00 pm on the first and third Tuesday of each month. The City Council meetings and committee meetings are held at City Hall located at 108 N. Van Buren in Newton.
URL:https://jaspercountyillinois.gov/event/city-council-meeting-61/
LOCATION:City Hall\, 108 N Van Buren St\, Newton\, IL\, 62448\, United States
CATEGORIES:Public Meetings
END:VEVENT
END:VCALENDAR