BEGIN:VCALENDAR
VERSION:2.0
PRODID:-//City of Newton, IL | Jasper County, IL - ECPv6.15.0//NONSGML v1.0//EN
CALSCALE:GREGORIAN
METHOD:PUBLISH
X-ORIGINAL-URL:https://jaspercountyillinois.gov
X-WR-CALDESC:Events for City of Newton, IL | Jasper County, IL
REFRESH-INTERVAL;VALUE=DURATION:PT1H
X-Robots-Tag:noindex
X-PUBLISHED-TTL:PT1H
BEGIN:VTIMEZONE
TZID:America/Chicago
BEGIN:DAYLIGHT
TZOFFSETFROM:-0600
TZOFFSETTO:-0500
TZNAME:CDT
DTSTART:20210314T080000
END:DAYLIGHT
BEGIN:STANDARD
TZOFFSETFROM:-0500
TZOFFSETTO:-0600
TZNAME:CST
DTSTART:20211107T070000
END:STANDARD
BEGIN:DAYLIGHT
TZOFFSETFROM:-0600
TZOFFSETTO:-0500
TZNAME:CDT
DTSTART:20220313T080000
END:DAYLIGHT
BEGIN:STANDARD
TZOFFSETFROM:-0500
TZOFFSETTO:-0600
TZNAME:CST
DTSTART:20221106T070000
END:STANDARD
END:VTIMEZONE
BEGIN:VEVENT
DTSTART;VALUE=DATE:20220505
DTEND;VALUE=DATE:20220506
DTSTAMP:20260424T031521
CREATED:20240628T193429Z
LAST-MODIFIED:20240701T161943Z
UID:10000079-1651708800-1651795199@jaspercountyillinois.gov
SUMMARY:Building and Grounds Committee Meeting
DESCRIPTION:
URL:https://jaspercountyillinois.gov/event/building-and-grounds-committee-meeting-4/
LOCATION:IL
CATEGORIES:Committee Meetings
END:VEVENT
BEGIN:VEVENT
DTSTART;VALUE=DATE:20220419
DTEND;VALUE=DATE:20220420
DTSTAMP:20260424T031521
CREATED:20240701T211237Z
LAST-MODIFIED:20240701T211237Z
UID:10000203-1650326400-1650412799@jaspercountyillinois.gov
SUMMARY:Finance/Audit Committee Meeting
DESCRIPTION:
URL:https://jaspercountyillinois.gov/event/finance-audit-committee-meeting-29/
LOCATION:City Hall\, 108 N Van Buren St\, Newton\, IL\, 62448\, United States
CATEGORIES:Committee Meetings
END:VEVENT
BEGIN:VEVENT
DTSTART;VALUE=DATE:20220411
DTEND;VALUE=DATE:20220412
DTSTAMP:20260424T031521
CREATED:20240628T205655Z
LAST-MODIFIED:20240701T162110Z
UID:10000089-1649635200-1649721599@jaspercountyillinois.gov
SUMMARY:Electric Committee Meeting
DESCRIPTION:
URL:https://jaspercountyillinois.gov/event/electric-committee-meeting-8/
LOCATION:IL
CATEGORIES:Committee Meetings
END:VEVENT
BEGIN:VEVENT
DTSTART;VALUE=DATE:20220329
DTEND;VALUE=DATE:20220330
DTSTAMP:20260424T031521
CREATED:20240701T135337Z
LAST-MODIFIED:20240701T162112Z
UID:10000113-1648512000-1648598399@jaspercountyillinois.gov
SUMMARY:Personnel Committee Meeting
DESCRIPTION:
URL:https://jaspercountyillinois.gov/event/personnel-committee-meeting-10/
LOCATION:IL
CATEGORIES:Committee Meetings
END:VEVENT
BEGIN:VEVENT
DTSTART;VALUE=DATE:20220321
DTEND;VALUE=DATE:20220322
DTSTAMP:20260424T031521
CREATED:20240701T194437Z
LAST-MODIFIED:20240701T194437Z
UID:10000169-1647820800-1647907199@jaspercountyillinois.gov
SUMMARY:Police and Building Permit Committee
DESCRIPTION:
URL:https://jaspercountyillinois.gov/event/police-and-building-permit-committee-7/
LOCATION:IL
CATEGORIES:Committee Meetings
END:VEVENT
BEGIN:VEVENT
DTSTART;VALUE=DATE:20220314
DTEND;VALUE=DATE:20220315
DTSTAMP:20260424T031521
CREATED:20240701T181918Z
LAST-MODIFIED:20240701T181918Z
UID:10000150-1647216000-1647302399@jaspercountyillinois.gov
SUMMARY:Street and Alley Committee Meeting
DESCRIPTION:
URL:https://jaspercountyillinois.gov/event/street-and-alley-committee-meeting-5/
LOCATION:IL
CATEGORIES:Committee Meetings
END:VEVENT
BEGIN:VEVENT
DTSTART;VALUE=DATE:20220314
DTEND;VALUE=DATE:20220315
DTSTAMP:20260424T031521
CREATED:20240701T173352Z
LAST-MODIFIED:20240701T173352Z
UID:10000132-1647216000-1647302399@jaspercountyillinois.gov
SUMMARY:Water and Waste Water Committee Meeting
DESCRIPTION:
URL:https://jaspercountyillinois.gov/event/water-and-waste-water-committee-meeting-14/
LOCATION:IL
CATEGORIES:Committee Meetings
END:VEVENT
BEGIN:VEVENT
DTSTART;VALUE=DATE:20220308
DTEND;VALUE=DATE:20220309
DTSTAMP:20260424T031521
CREATED:20240701T194546Z
LAST-MODIFIED:20240701T194546Z
UID:10000170-1646697600-1646783999@jaspercountyillinois.gov
SUMMARY:Police and Building Permit Committee
DESCRIPTION:
URL:https://jaspercountyillinois.gov/event/police-and-building-permit-committee-8/
LOCATION:IL
CATEGORIES:Committee Meetings
END:VEVENT
BEGIN:VEVENT
DTSTART;VALUE=DATE:20220307
DTEND;VALUE=DATE:20220308
DTSTAMP:20260424T031521
CREATED:20240628T182912Z
LAST-MODIFIED:20240701T162115Z
UID:10000067-1646611200-1646697599@jaspercountyillinois.gov
SUMMARY:Park\, Cemetery and Pool Committee Meeting
DESCRIPTION:
URL:https://jaspercountyillinois.gov/event/park-cemetery-and-pool-committee-meeting/
LOCATION:IL
CATEGORIES:Committee Meetings
END:VEVENT
BEGIN:VEVENT
DTSTART;VALUE=DATE:20220222
DTEND;VALUE=DATE:20220223
DTSTAMP:20260424T031521
CREATED:20240701T140011Z
LAST-MODIFIED:20240701T162119Z
UID:10000114-1645488000-1645574399@jaspercountyillinois.gov
SUMMARY:Personnel Committee Meeting
DESCRIPTION:
URL:https://jaspercountyillinois.gov/event/personnel-committee-meeting-11/
LOCATION:IL
CATEGORIES:Committee Meetings
END:VEVENT
BEGIN:VEVENT
DTSTART;VALUE=DATE:20220222
DTEND;VALUE=DATE:20220223
DTSTAMP:20260424T031521
CREATED:20240701T173738Z
LAST-MODIFIED:20240701T173738Z
UID:10000133-1645488000-1645574399@jaspercountyillinois.gov
SUMMARY:Water and Waste Water Committee Meeting
DESCRIPTION:
URL:https://jaspercountyillinois.gov/event/water-and-waste-water-committee-meeting-15/
LOCATION:IL
CATEGORIES:Committee Meetings
END:VEVENT
BEGIN:VEVENT
DTSTART;VALUE=DATE:20220209
DTEND;VALUE=DATE:20220210
DTSTAMP:20260424T031521
CREATED:20240701T140149Z
LAST-MODIFIED:20240701T162125Z
UID:10000115-1644364800-1644451199@jaspercountyillinois.gov
SUMMARY:Personnel Committee Meeting
DESCRIPTION:
URL:https://jaspercountyillinois.gov/event/personnel-committee-meeting-12/
LOCATION:IL
CATEGORIES:Committee Meetings
END:VEVENT
BEGIN:VEVENT
DTSTART;VALUE=DATE:20220209
DTEND;VALUE=DATE:20220210
DTSTAMP:20260424T031521
CREATED:20240701T173929Z
LAST-MODIFIED:20240701T173929Z
UID:10000134-1644364800-1644451199@jaspercountyillinois.gov
SUMMARY:Water and Waste Water Committee Meeting
DESCRIPTION:
URL:https://jaspercountyillinois.gov/event/water-and-waste-water-committee-meeting-16/
LOCATION:IL
CATEGORIES:Committee Meetings
END:VEVENT
BEGIN:VEVENT
DTSTART;VALUE=DATE:20220201
DTEND;VALUE=DATE:20220202
DTSTAMP:20260424T031521
CREATED:20240628T185608Z
LAST-MODIFIED:20240701T162135Z
UID:10000072-1643673600-1643759999@jaspercountyillinois.gov
SUMMARY:City of Newton Insurance Committee Meeting
DESCRIPTION:
URL:https://jaspercountyillinois.gov/event/city-of-newton-insurance-committee-meeting-4/
LOCATION:IL
CATEGORIES:Committee Meetings
END:VEVENT
BEGIN:VEVENT
DTSTART;VALUE=DATE:20220127
DTEND;VALUE=DATE:20220128
DTSTAMP:20260424T031521
CREATED:20240701T194815Z
LAST-MODIFIED:20240701T194815Z
UID:10000171-1643241600-1643327999@jaspercountyillinois.gov
SUMMARY:Police and Building Permit Committee
DESCRIPTION:
URL:https://jaspercountyillinois.gov/event/police-and-building-permit-committee-9/
LOCATION:IL
CATEGORIES:Committee Meetings
END:VEVENT
BEGIN:VEVENT
DTSTART;VALUE=DATE:20220117
DTEND;VALUE=DATE:20220118
DTSTAMP:20260424T031521
CREATED:20240701T174013Z
LAST-MODIFIED:20240701T174013Z
UID:10000135-1642377600-1642463999@jaspercountyillinois.gov
SUMMARY:Water and Waste Water Committee Meeting
DESCRIPTION:
URL:https://jaspercountyillinois.gov/event/water-and-waste-water-committee-meeting-17/
LOCATION:IL
CATEGORIES:Committee Meetings
END:VEVENT
BEGIN:VEVENT
DTSTART;VALUE=DATE:20220110
DTEND;VALUE=DATE:20220111
DTSTAMP:20260424T031521
CREATED:20240701T140252Z
LAST-MODIFIED:20240701T162140Z
UID:10000116-1641772800-1641859199@jaspercountyillinois.gov
SUMMARY:Personnel Committee Meeting
DESCRIPTION:
URL:https://jaspercountyillinois.gov/event/personnel-committee-meeting-13/
LOCATION:IL
CATEGORIES:Committee Meetings
END:VEVENT
BEGIN:VEVENT
DTSTART;VALUE=DATE:20211214
DTEND;VALUE=DATE:20211215
DTSTAMP:20260424T031521
CREATED:20240701T194844Z
LAST-MODIFIED:20240701T194844Z
UID:10000172-1639440000-1639526399@jaspercountyillinois.gov
SUMMARY:Police and Building Permit Committee
DESCRIPTION:
URL:https://jaspercountyillinois.gov/event/police-and-building-permit-committee-10/
LOCATION:IL
CATEGORIES:Committee Meetings
END:VEVENT
BEGIN:VEVENT
DTSTART;VALUE=DATE:20211214
DTEND;VALUE=DATE:20211215
DTSTAMP:20260424T031521
CREATED:20240701T174213Z
LAST-MODIFIED:20240701T174213Z
UID:10000136-1639440000-1639526399@jaspercountyillinois.gov
SUMMARY:Water and Waste Water Committee Meeting
DESCRIPTION:
URL:https://jaspercountyillinois.gov/event/water-and-waste-water-committee-meeting-18/
LOCATION:IL
CATEGORIES:Committee Meetings
END:VEVENT
BEGIN:VEVENT
DTSTART;VALUE=DATE:20211130
DTEND;VALUE=DATE:20211201
DTSTAMP:20260424T031521
CREATED:20240701T211442Z
LAST-MODIFIED:20240701T211516Z
UID:10000204-1638230400-1638316799@jaspercountyillinois.gov
SUMMARY:Finance/Audit Committee Meeting
DESCRIPTION:
URL:https://jaspercountyillinois.gov/event/finance-audit-committee-meeting-30/
LOCATION:City Hall\, 108 N Van Buren St\, Newton\, IL\, 62448\, United States
CATEGORIES:Committee Meetings
END:VEVENT
BEGIN:VEVENT
DTSTART;VALUE=DATE:20211130
DTEND;VALUE=DATE:20211201
DTSTAMP:20260424T031521
CREATED:20240701T174701Z
LAST-MODIFIED:20240701T174701Z
UID:10000137-1638230400-1638316799@jaspercountyillinois.gov
SUMMARY:Water and Waste Water Committee Meeting
DESCRIPTION:
URL:https://jaspercountyillinois.gov/event/water-and-waste-water-committee-meeting-19/
LOCATION:IL
CATEGORIES:Committee Meetings
END:VEVENT
BEGIN:VEVENT
DTSTART;VALUE=DATE:20211129
DTEND;VALUE=DATE:20211130
DTSTAMP:20260424T031521
CREATED:20240628T185218Z
LAST-MODIFIED:20240701T162146Z
UID:10000071-1638144000-1638230399@jaspercountyillinois.gov
SUMMARY:City of Newton Insurance Committee Meeting
DESCRIPTION:
URL:https://jaspercountyillinois.gov/event/city-of-newton-insurance-committee-meeting-3/
LOCATION:IL
CATEGORIES:Committee Meetings
END:VEVENT
BEGIN:VEVENT
DTSTART;VALUE=DATE:20211108
DTEND;VALUE=DATE:20211109
DTSTAMP:20260424T031521
CREATED:20240628T204513Z
LAST-MODIFIED:20240701T162147Z
UID:10000088-1636329600-1636415999@jaspercountyillinois.gov
SUMMARY:Electric Committee Meeting
DESCRIPTION:
URL:https://jaspercountyillinois.gov/event/electric-committee-meeting-7/
LOCATION:IL
CATEGORIES:Committee Meetings
END:VEVENT
BEGIN:VEVENT
DTSTART;VALUE=DATE:20211104
DTEND;VALUE=DATE:20211105
DTSTAMP:20260424T031521
CREATED:20240628T185052Z
LAST-MODIFIED:20240701T162153Z
UID:10000070-1635984000-1636070399@jaspercountyillinois.gov
SUMMARY:City of Newton Insurance Committee Meeting
DESCRIPTION:
URL:https://jaspercountyillinois.gov/event/city-of-newton-insurance-committee-meeting-2/
LOCATION:IL
CATEGORIES:Committee Meetings
END:VEVENT
BEGIN:VEVENT
DTSTART;VALUE=DATE:20211026
DTEND;VALUE=DATE:20211027
DTSTAMP:20260424T031521
CREATED:20240701T211630Z
LAST-MODIFIED:20240701T211630Z
UID:10000205-1635206400-1635292799@jaspercountyillinois.gov
SUMMARY:Finance/Audit Committee Meeting
DESCRIPTION:
URL:https://jaspercountyillinois.gov/event/finance-audit-committee-meeting-31/
LOCATION:City Hall\, 108 N Van Buren St\, Newton\, IL\, 62448\, United States
CATEGORIES:Committee Meetings
END:VEVENT
BEGIN:VEVENT
DTSTART;VALUE=DATE:20211025
DTEND;VALUE=DATE:20211026
DTSTAMP:20260424T031521
CREATED:20240701T140341Z
LAST-MODIFIED:20240701T162206Z
UID:10000117-1635120000-1635206399@jaspercountyillinois.gov
SUMMARY:Personnel Committee Meeting
DESCRIPTION:
URL:https://jaspercountyillinois.gov/event/personnel-committee-meeting-14/
LOCATION:IL
CATEGORIES:Committee Meetings
END:VEVENT
BEGIN:VEVENT
DTSTART;VALUE=DATE:20211025
DTEND;VALUE=DATE:20211026
DTSTAMP:20260424T031521
CREATED:20240701T174756Z
LAST-MODIFIED:20240701T174756Z
UID:10000138-1635120000-1635206399@jaspercountyillinois.gov
SUMMARY:Water and Waste Water Committee Meeting
DESCRIPTION:
URL:https://jaspercountyillinois.gov/event/water-and-waste-water-committee-meeting-20/
LOCATION:IL
CATEGORIES:Committee Meetings
END:VEVENT
BEGIN:VEVENT
DTSTART;VALUE=DATE:20211011
DTEND;VALUE=DATE:20211012
DTSTAMP:20260424T031521
CREATED:20240701T211741Z
LAST-MODIFIED:20240701T211741Z
UID:10000206-1633910400-1633996799@jaspercountyillinois.gov
SUMMARY:Finance/Audit Committee Meeting
DESCRIPTION:
URL:https://jaspercountyillinois.gov/event/finance-audit-committee-meeting-32/
LOCATION:City Hall\, 108 N Van Buren St\, Newton\, IL\, 62448\, United States
CATEGORIES:Committee Meetings
END:VEVENT
BEGIN:VEVENT
DTSTART;VALUE=DATE:20211004
DTEND;VALUE=DATE:20211005
DTSTAMP:20260424T031521
CREATED:20240628T193154Z
LAST-MODIFIED:20240701T162213Z
UID:10000078-1633305600-1633391999@jaspercountyillinois.gov
SUMMARY:Building and Grounds Committee Meeting
DESCRIPTION:
URL:https://jaspercountyillinois.gov/event/building-and-grounds-committee-meeting-3/
LOCATION:IL
CATEGORIES:Committee Meetings
END:VEVENT
BEGIN:VEVENT
DTSTART;VALUE=DATE:20211004
DTEND;VALUE=DATE:20211005
DTSTAMP:20260424T031521
CREATED:20240701T174843Z
LAST-MODIFIED:20240701T174843Z
UID:10000139-1633305600-1633391999@jaspercountyillinois.gov
SUMMARY:Water and Waste Water Committee Meeting
DESCRIPTION:
URL:https://jaspercountyillinois.gov/event/water-and-waste-water-committee-meeting-21/
LOCATION:IL
CATEGORIES:Committee Meetings
END:VEVENT
END:VCALENDAR