BEGIN:VCALENDAR
VERSION:2.0
PRODID:-//City of Newton, IL | Jasper County, IL - ECPv6.15.0//NONSGML v1.0//EN
CALSCALE:GREGORIAN
METHOD:PUBLISH
X-WR-CALNAME:City of Newton, IL | Jasper County, IL
X-ORIGINAL-URL:https://jaspercountyillinois.gov
X-WR-CALDESC:Events for City of Newton, IL | Jasper County, IL
REFRESH-INTERVAL;VALUE=DURATION:PT1H
X-Robots-Tag:noindex
X-PUBLISHED-TTL:PT1H
BEGIN:VTIMEZONE
TZID:America/Chicago
BEGIN:DAYLIGHT
TZOFFSETFROM:-0600
TZOFFSETTO:-0500
TZNAME:CDT
DTSTART:20220313T080000
END:DAYLIGHT
BEGIN:STANDARD
TZOFFSETFROM:-0500
TZOFFSETTO:-0600
TZNAME:CST
DTSTART:20221106T070000
END:STANDARD
BEGIN:DAYLIGHT
TZOFFSETFROM:-0600
TZOFFSETTO:-0500
TZNAME:CDT
DTSTART:20230312T080000
END:DAYLIGHT
BEGIN:STANDARD
TZOFFSETFROM:-0500
TZOFFSETTO:-0600
TZNAME:CST
DTSTART:20231105T070000
END:STANDARD
END:VTIMEZONE
BEGIN:VEVENT
DTSTART;TZID=America/Chicago:20230112T180000
DTEND;TZID=America/Chicago:20230112T190000
DTSTAMP:20260424T000242
CREATED:20240723T180427Z
LAST-MODIFIED:20240723T180427Z
UID:10000252-1673546400-1673550000@jaspercountyillinois.gov
SUMMARY:County Board Meeting
DESCRIPTION:
URL:https://jaspercountyillinois.gov/event/county-board-meeting-20/
LOCATION:County Office Building\, 204 W Washington St\, Newton\, IL\, 62448\, United States
CATEGORIES:Public Meetings
END:VEVENT
BEGIN:VEVENT
DTSTART;TZID=America/Chicago:20230103T180000
DTEND;TZID=America/Chicago:20230103T193000
DTSTAMP:20260424T000242
CREATED:20240628T160033Z
LAST-MODIFIED:20240724T190527Z
UID:10000040-1672768800-1672774200@jaspercountyillinois.gov
SUMMARY:City Council Meeting
DESCRIPTION:Regularly scheduled Newton City Council meetings are held at 6:00 pm on the first and third Tuesday of each month. The City Council meetings and committee meetings are held at City Hall located at 108 N. Van Buren in Newton.
URL:https://jaspercountyillinois.gov/event/city-council-meeting-30/
LOCATION:City Hall\, 108 N Van Buren St\, Newton\, IL\, 62448\, United States
CATEGORIES:Public Meetings
END:VEVENT
BEGIN:VEVENT
DTSTART;TZID=America/Chicago:20221215T180000
DTEND;TZID=America/Chicago:20221215T190000
DTSTAMP:20260424T000242
CREATED:20240723T180510Z
LAST-MODIFIED:20240723T180510Z
UID:10000253-1671127200-1671130800@jaspercountyillinois.gov
SUMMARY:County Board Meeting
DESCRIPTION:
URL:https://jaspercountyillinois.gov/event/county-board-meeting-21/
LOCATION:County Office Building\, 204 W Washington St\, Newton\, IL\, 62448\, United States
CATEGORIES:Public Meetings
END:VEVENT
BEGIN:VEVENT
DTSTART;VALUE=DATE:20221205
DTEND;VALUE=DATE:20221206
DTSTAMP:20260424T000242
CREATED:20240701T210527Z
LAST-MODIFIED:20240701T210527Z
UID:10000196-1670198400-1670284799@jaspercountyillinois.gov
SUMMARY:Finance/Audit Committee Meeting
DESCRIPTION:
URL:https://jaspercountyillinois.gov/event/finance-audit-committee-meeting-22/
LOCATION:City Hall\, 108 N Van Buren St\, Newton\, IL\, 62448\, United States
CATEGORIES:Committee Meetings
END:VEVENT
BEGIN:VEVENT
DTSTART;VALUE=DATE:20221110
DTEND;VALUE=DATE:20221111
DTSTAMP:20260424T000242
CREATED:20240701T181801Z
LAST-MODIFIED:20240701T181801Z
UID:10000149-1668038400-1668124799@jaspercountyillinois.gov
SUMMARY:Street and Alley Committee Meeting
DESCRIPTION:
URL:https://jaspercountyillinois.gov/event/street-and-alley-committee-meeting-4/
LOCATION:IL
CATEGORIES:Committee Meetings
END:VEVENT
BEGIN:VEVENT
DTSTART;VALUE=DATE:20221110
DTEND;VALUE=DATE:20221111
DTSTAMP:20260424T000242
CREATED:20240628T185827Z
LAST-MODIFIED:20240701T161855Z
UID:10000073-1668038400-1668124799@jaspercountyillinois.gov
SUMMARY:City of Newton Insurance Committee Meeting
DESCRIPTION:
URL:https://jaspercountyillinois.gov/event/city-of-newton-insurance-committee-meeting-5/
LOCATION:IL
CATEGORIES:Committee Meetings
END:VEVENT
BEGIN:VEVENT
DTSTART;VALUE=DATE:20221107
DTEND;VALUE=DATE:20221108
DTSTAMP:20260424T000242
CREATED:20240701T173114Z
LAST-MODIFIED:20240701T173114Z
UID:10000129-1667779200-1667865599@jaspercountyillinois.gov
SUMMARY:Water and Waste Water Committee Meeting
DESCRIPTION:
URL:https://jaspercountyillinois.gov/event/water-and-waste-water-committee-meeting-11/
LOCATION:IL
CATEGORIES:Committee Meetings
END:VEVENT
BEGIN:VEVENT
DTSTART;VALUE=DATE:20221101
DTEND;VALUE=DATE:20221102
DTSTAMP:20260424T000242
CREATED:20240701T210559Z
LAST-MODIFIED:20240701T210559Z
UID:10000197-1667260800-1667347199@jaspercountyillinois.gov
SUMMARY:Finance/Audit Committee Meeting
DESCRIPTION:
URL:https://jaspercountyillinois.gov/event/finance-audit-committee-meeting-23/
LOCATION:City Hall\, 108 N Van Buren St\, Newton\, IL\, 62448\, United States
CATEGORIES:Committee Meetings
END:VEVENT
BEGIN:VEVENT
DTSTART;VALUE=DATE:20221004
DTEND;VALUE=DATE:20221005
DTSTAMP:20260424T000242
CREATED:20240701T210721Z
LAST-MODIFIED:20240701T210721Z
UID:10000198-1664841600-1664927999@jaspercountyillinois.gov
SUMMARY:Finance/Audit Committee Meeting
DESCRIPTION:
URL:https://jaspercountyillinois.gov/event/finance-audit-committee-meeting-24/
LOCATION:City Hall\, 108 N Van Buren St\, Newton\, IL\, 62448\, United States
CATEGORIES:Committee Meetings
END:VEVENT
BEGIN:VEVENT
DTSTART;VALUE=DATE:20220919
DTEND;VALUE=DATE:20220920
DTSTAMP:20260424T000242
CREATED:20240628T210527Z
LAST-MODIFIED:20240701T161859Z
UID:10000093-1663545600-1663631999@jaspercountyillinois.gov
SUMMARY:Electric Committee Meeting
DESCRIPTION:
URL:https://jaspercountyillinois.gov/event/electric-committee-meeting-12/
LOCATION:IL
CATEGORIES:Committee Meetings
END:VEVENT
BEGIN:VEVENT
DTSTART;VALUE=DATE:20220919
DTEND;VALUE=DATE:20220920
DTSTAMP:20260424T000242
CREATED:20240701T173217Z
LAST-MODIFIED:20240701T173217Z
UID:10000130-1663545600-1663631999@jaspercountyillinois.gov
SUMMARY:Water and Waste Water Committee Meeting
DESCRIPTION:
URL:https://jaspercountyillinois.gov/event/water-and-waste-water-committee-meeting-12/
LOCATION:IL
CATEGORIES:Committee Meetings
END:VEVENT
BEGIN:VEVENT
DTSTART;VALUE=DATE:20220912
DTEND;VALUE=DATE:20220913
DTSTAMP:20260424T000242
CREATED:20240628T210452Z
LAST-MODIFIED:20240701T161905Z
UID:10000092-1662940800-1663027199@jaspercountyillinois.gov
SUMMARY:Electric Committee Meeting
DESCRIPTION:
URL:https://jaspercountyillinois.gov/event/electric-committee-meeting-11/
LOCATION:IL
CATEGORIES:Committee Meetings
END:VEVENT
BEGIN:VEVENT
DTSTART;VALUE=DATE:20220912
DTEND;VALUE=DATE:20220913
DTSTAMP:20260424T000242
CREATED:20240701T210808Z
LAST-MODIFIED:20240701T210808Z
UID:10000199-1662940800-1663027199@jaspercountyillinois.gov
SUMMARY:Finance/Audit Committee Meeting
DESCRIPTION:
URL:https://jaspercountyillinois.gov/event/finance-audit-committee-meeting-25/
LOCATION:City Hall\, 108 N Van Buren St\, Newton\, IL\, 62448\, United States
CATEGORIES:Committee Meetings
END:VEVENT
BEGIN:VEVENT
DTSTART;VALUE=DATE:20220912
DTEND;VALUE=DATE:20220913
DTSTAMP:20260424T000242
CREATED:20240701T134134Z
LAST-MODIFIED:20240701T161908Z
UID:10000109-1662940800-1663027199@jaspercountyillinois.gov
SUMMARY:Personnel Committee Meeting
DESCRIPTION:
URL:https://jaspercountyillinois.gov/event/personnel-committee-meeting-6/
LOCATION:IL
CATEGORIES:Committee Meetings
END:VEVENT
BEGIN:VEVENT
DTSTART;VALUE=DATE:20220829
DTEND;VALUE=DATE:20220830
DTSTAMP:20260424T000242
CREATED:20240701T210903Z
LAST-MODIFIED:20240701T210903Z
UID:10000200-1661731200-1661817599@jaspercountyillinois.gov
SUMMARY:Finance/Audit Committee Meeting
DESCRIPTION:
URL:https://jaspercountyillinois.gov/event/finance-audit-committee-meeting-26/
LOCATION:City Hall\, 108 N Van Buren St\, Newton\, IL\, 62448\, United States
CATEGORIES:Committee Meetings
END:VEVENT
BEGIN:VEVENT
DTSTART;VALUE=DATE:20220809
DTEND;VALUE=DATE:20220810
DTSTAMP:20260424T000242
CREATED:20240701T211107Z
LAST-MODIFIED:20240701T211133Z
UID:10000201-1660003200-1660089599@jaspercountyillinois.gov
SUMMARY:Finance/Audit Committee Meeting
DESCRIPTION:
URL:https://jaspercountyillinois.gov/event/finance-audit-committee-meeting-27/
LOCATION:City Hall\, 108 N Van Buren St\, Newton\, IL\, 62448\, United States
CATEGORIES:Committee Meetings
END:VEVENT
BEGIN:VEVENT
DTSTART;VALUE=DATE:20220809
DTEND;VALUE=DATE:20220810
DTSTAMP:20260424T000242
CREATED:20240701T134617Z
LAST-MODIFIED:20240701T161910Z
UID:10000110-1660003200-1660089599@jaspercountyillinois.gov
SUMMARY:Personnel Committee Meeting
DESCRIPTION:
URL:https://jaspercountyillinois.gov/event/personnel-committee-meeting-7/
LOCATION:IL
CATEGORIES:Committee Meetings
END:VEVENT
BEGIN:VEVENT
DTSTART;VALUE=DATE:20220808
DTEND;VALUE=DATE:20220809
DTSTAMP:20260424T000242
CREATED:20240701T173251Z
LAST-MODIFIED:20240701T173251Z
UID:10000131-1659916800-1660003199@jaspercountyillinois.gov
SUMMARY:Water and Waste Water Committee Meeting
DESCRIPTION:
URL:https://jaspercountyillinois.gov/event/water-and-waste-water-committee-meeting-13/
LOCATION:IL
CATEGORIES:Committee Meetings
END:VEVENT
BEGIN:VEVENT
DTSTART;VALUE=DATE:20220728
DTEND;VALUE=DATE:20220729
DTSTAMP:20260424T000242
CREATED:20240628T210348Z
LAST-MODIFIED:20240701T161928Z
UID:10000091-1658966400-1659052799@jaspercountyillinois.gov
SUMMARY:Electric Committee Meeting
DESCRIPTION:
URL:https://jaspercountyillinois.gov/event/electric-committee-meeting-10/
LOCATION:IL
CATEGORIES:Committee Meetings
END:VEVENT
BEGIN:VEVENT
DTSTART;VALUE=DATE:20220627
DTEND;VALUE=DATE:20220628
DTSTAMP:20260424T000242
CREATED:20240701T211207Z
LAST-MODIFIED:20240701T211207Z
UID:10000202-1656288000-1656374399@jaspercountyillinois.gov
SUMMARY:Finance/Audit Committee Meeting
DESCRIPTION:
URL:https://jaspercountyillinois.gov/event/finance-audit-committee-meeting-28/
LOCATION:City Hall\, 108 N Van Buren St\, Newton\, IL\, 62448\, United States
CATEGORIES:Committee Meetings
END:VEVENT
BEGIN:VEVENT
DTSTART;VALUE=DATE:20220627
DTEND;VALUE=DATE:20220628
DTSTAMP:20260424T000242
CREATED:20240701T135048Z
LAST-MODIFIED:20240701T161932Z
UID:10000111-1656288000-1656374399@jaspercountyillinois.gov
SUMMARY:Personnel Committee Meeting
DESCRIPTION:
URL:https://jaspercountyillinois.gov/event/personnel-committee-meeting-8/
LOCATION:IL
CATEGORIES:Committee Meetings
END:VEVENT
BEGIN:VEVENT
DTSTART;VALUE=DATE:20220614
DTEND;VALUE=DATE:20220615
DTSTAMP:20260424T000242
CREATED:20240701T194020Z
LAST-MODIFIED:20240701T194020Z
UID:10000168-1655164800-1655251199@jaspercountyillinois.gov
SUMMARY:Police and Building Permit Committee
DESCRIPTION:
URL:https://jaspercountyillinois.gov/event/police-and-building-permit-committee-6/
LOCATION:IL
CATEGORIES:Committee Meetings
END:VEVENT
BEGIN:VEVENT
DTSTART;VALUE=DATE:20220531
DTEND;VALUE=DATE:20220601
DTSTAMP:20260424T000242
CREATED:20240628T210151Z
LAST-MODIFIED:20240701T161934Z
UID:10000090-1653955200-1654041599@jaspercountyillinois.gov
SUMMARY:Electric Committee Meeting
DESCRIPTION:
URL:https://jaspercountyillinois.gov/event/electric-committee-meeting-9/
LOCATION:IL
CATEGORIES:Committee Meetings
END:VEVENT
BEGIN:VEVENT
DTSTART;VALUE=DATE:20220511
DTEND;VALUE=DATE:20220512
DTSTAMP:20260424T000242
CREATED:20240701T135125Z
LAST-MODIFIED:20240701T161938Z
UID:10000112-1652227200-1652313599@jaspercountyillinois.gov
SUMMARY:Personnel Committee Meeting
DESCRIPTION:
URL:https://jaspercountyillinois.gov/event/personnel-committee-meeting-9/
LOCATION:IL
CATEGORIES:Committee Meetings
END:VEVENT
BEGIN:VEVENT
DTSTART;VALUE=DATE:20220505
DTEND;VALUE=DATE:20220506
DTSTAMP:20260424T000242
CREATED:20240628T193429Z
LAST-MODIFIED:20240701T161943Z
UID:10000079-1651708800-1651795199@jaspercountyillinois.gov
SUMMARY:Building and Grounds Committee Meeting
DESCRIPTION:
URL:https://jaspercountyillinois.gov/event/building-and-grounds-committee-meeting-4/
LOCATION:IL
CATEGORIES:Committee Meetings
END:VEVENT
BEGIN:VEVENT
DTSTART;VALUE=DATE:20220419
DTEND;VALUE=DATE:20220420
DTSTAMP:20260424T000242
CREATED:20240701T211237Z
LAST-MODIFIED:20240701T211237Z
UID:10000203-1650326400-1650412799@jaspercountyillinois.gov
SUMMARY:Finance/Audit Committee Meeting
DESCRIPTION:
URL:https://jaspercountyillinois.gov/event/finance-audit-committee-meeting-29/
LOCATION:City Hall\, 108 N Van Buren St\, Newton\, IL\, 62448\, United States
CATEGORIES:Committee Meetings
END:VEVENT
BEGIN:VEVENT
DTSTART;VALUE=DATE:20220411
DTEND;VALUE=DATE:20220412
DTSTAMP:20260424T000242
CREATED:20240628T205655Z
LAST-MODIFIED:20240701T162110Z
UID:10000089-1649635200-1649721599@jaspercountyillinois.gov
SUMMARY:Electric Committee Meeting
DESCRIPTION:
URL:https://jaspercountyillinois.gov/event/electric-committee-meeting-8/
LOCATION:IL
CATEGORIES:Committee Meetings
END:VEVENT
BEGIN:VEVENT
DTSTART;VALUE=DATE:20220329
DTEND;VALUE=DATE:20220330
DTSTAMP:20260424T000242
CREATED:20240701T135337Z
LAST-MODIFIED:20240701T162112Z
UID:10000113-1648512000-1648598399@jaspercountyillinois.gov
SUMMARY:Personnel Committee Meeting
DESCRIPTION:
URL:https://jaspercountyillinois.gov/event/personnel-committee-meeting-10/
LOCATION:IL
CATEGORIES:Committee Meetings
END:VEVENT
BEGIN:VEVENT
DTSTART;VALUE=DATE:20220321
DTEND;VALUE=DATE:20220322
DTSTAMP:20260424T000242
CREATED:20240701T194437Z
LAST-MODIFIED:20240701T194437Z
UID:10000169-1647820800-1647907199@jaspercountyillinois.gov
SUMMARY:Police and Building Permit Committee
DESCRIPTION:
URL:https://jaspercountyillinois.gov/event/police-and-building-permit-committee-7/
LOCATION:IL
CATEGORIES:Committee Meetings
END:VEVENT
BEGIN:VEVENT
DTSTART;VALUE=DATE:20220314
DTEND;VALUE=DATE:20220315
DTSTAMP:20260424T000242
CREATED:20240701T181918Z
LAST-MODIFIED:20240701T181918Z
UID:10000150-1647216000-1647302399@jaspercountyillinois.gov
SUMMARY:Street and Alley Committee Meeting
DESCRIPTION:
URL:https://jaspercountyillinois.gov/event/street-and-alley-committee-meeting-5/
LOCATION:IL
CATEGORIES:Committee Meetings
END:VEVENT
END:VCALENDAR