BEGIN:VCALENDAR
VERSION:2.0
PRODID:-//City of Newton, IL | Jasper County, IL - ECPv6.15.0//NONSGML v1.0//EN
CALSCALE:GREGORIAN
METHOD:PUBLISH
X-WR-CALNAME:City of Newton, IL | Jasper County, IL
X-ORIGINAL-URL:https://jaspercountyillinois.gov
X-WR-CALDESC:Events for City of Newton, IL | Jasper County, IL
REFRESH-INTERVAL;VALUE=DURATION:PT1H
X-Robots-Tag:noindex
X-PUBLISHED-TTL:PT1H
BEGIN:VTIMEZONE
TZID:America/Chicago
BEGIN:DAYLIGHT
TZOFFSETFROM:-0600
TZOFFSETTO:-0500
TZNAME:CDT
DTSTART:20230312T080000
END:DAYLIGHT
BEGIN:STANDARD
TZOFFSETFROM:-0500
TZOFFSETTO:-0600
TZNAME:CST
DTSTART:20231105T070000
END:STANDARD
END:VTIMEZONE
BEGIN:VEVENT
DTSTART;VALUE=DATE:20230927
DTEND;VALUE=DATE:20230928
DTSTAMP:20260423T183824
CREATED:20240628T183046Z
LAST-MODIFIED:20240701T160242Z
UID:10000068-1695772800-1695859199@jaspercountyillinois.gov
SUMMARY:Park\, Cemetery and Pool Committee Meeting
DESCRIPTION:
URL:https://jaspercountyillinois.gov/event/park-cemetery-and-pool-committee-meeting-2/
CATEGORIES:Committee Meetings
END:VEVENT
BEGIN:VEVENT
DTSTART;TZID=America/Chicago:20230919T180000
DTEND;TZID=America/Chicago:20230919T193000
DTSTAMP:20260423T183824
CREATED:20240628T175837Z
LAST-MODIFIED:20240724T185748Z
UID:10000057-1695146400-1695151800@jaspercountyillinois.gov
SUMMARY:City Council Meeting
DESCRIPTION:Regularly scheduled Newton City Council meetings are held at 6:00 pm on the first and third Tuesday of each month. The City Council meetings and committee meetings are held at City Hall located at 108 N. Van Buren in Newton.
URL:https://jaspercountyillinois.gov/event/city-council-meeting-47/
LOCATION:City Hall\, 108 N Van Buren St\, Newton\, IL\, 62448\, United States
CATEGORIES:Public Meetings
END:VEVENT
BEGIN:VEVENT
DTSTART;VALUE=DATE:20230918
DTEND;VALUE=DATE:20230919
DTSTAMP:20260423T183824
CREATED:20240701T204237Z
LAST-MODIFIED:20240701T204237Z
UID:10000187-1694995200-1695081599@jaspercountyillinois.gov
SUMMARY:Finance/Audit Committee Meeting
DESCRIPTION:
URL:https://jaspercountyillinois.gov/event/finance-audit-committee-meeting-13/
LOCATION:City Hall\, 108 N Van Buren St\, Newton\, IL\, 62448\, United States
CATEGORIES:Committee Meetings
END:VEVENT
BEGIN:VEVENT
DTSTART;TZID=America/Chicago:20230914T180000
DTEND;TZID=America/Chicago:20230914T190000
DTSTAMP:20260423T183824
CREATED:20240723T174838Z
LAST-MODIFIED:20240723T174838Z
UID:10000244-1694714400-1694718000@jaspercountyillinois.gov
SUMMARY:County Board Meeting
DESCRIPTION:
URL:https://jaspercountyillinois.gov/event/county-board-meeting-12/
LOCATION:County Office Building\, 204 W Washington St\, Newton\, IL\, 62448\, United States
CATEGORIES:Public Meetings
END:VEVENT
BEGIN:VEVENT
DTSTART;TZID=America/Chicago:20230905T180000
DTEND;TZID=America/Chicago:20230905T193000
DTSTAMP:20260423T183824
CREATED:20240628T175636Z
LAST-MODIFIED:20240724T185845Z
UID:10000056-1693936800-1693942200@jaspercountyillinois.gov
SUMMARY:City Council Meeting
DESCRIPTION:Regularly scheduled Newton City Council meetings are held at 6:00 pm on the first and third Tuesday of each month. The City Council meetings and committee meetings are held at City Hall located at 108 N. Van Buren in Newton.
URL:https://jaspercountyillinois.gov/event/city-council-meeting-46/
LOCATION:City Hall\, 108 N Van Buren St\, Newton\, IL\, 62448\, United States
CATEGORIES:Public Meetings
END:VEVENT
BEGIN:VEVENT
DTSTART;VALUE=DATE:20230816
DTEND;VALUE=DATE:20230817
DTSTAMP:20260423T183824
CREATED:20240628T195826Z
LAST-MODIFIED:20240701T160254Z
UID:10000081-1692144000-1692230399@jaspercountyillinois.gov
SUMMARY:Building and Grounds Committee Meeting
DESCRIPTION:
URL:https://jaspercountyillinois.gov/event/building-and-grounds-committee-meeting-6/
CATEGORIES:Committee Meetings
END:VEVENT
BEGIN:VEVENT
DTSTART;TZID=America/Chicago:20230815T180000
DTEND;TZID=America/Chicago:20230815T193000
DTSTAMP:20260423T183824
CREATED:20240628T175159Z
LAST-MODIFIED:20240724T185918Z
UID:10000055-1692122400-1692127800@jaspercountyillinois.gov
SUMMARY:City Council Meeting
DESCRIPTION:Regularly scheduled Newton City Council meetings are held at 6:00 pm on the first and third Tuesday of each month. The City Council meetings and committee meetings are held at City Hall located at 108 N. Van Buren in Newton.
URL:https://jaspercountyillinois.gov/event/city-council-meeting-45/
LOCATION:City Hall\, 108 N Van Buren St\, Newton\, IL\, 62448\, United States
CATEGORIES:Public Meetings
END:VEVENT
BEGIN:VEVENT
DTSTART;TZID=America/Chicago:20230810T180000
DTEND;TZID=America/Chicago:20230810T190000
DTSTAMP:20260423T183824
CREATED:20240723T175050Z
LAST-MODIFIED:20240723T175050Z
UID:10000245-1691690400-1691694000@jaspercountyillinois.gov
SUMMARY:County Board Meeting
DESCRIPTION:
URL:https://jaspercountyillinois.gov/event/county-board-meeting-13/
LOCATION:County Office Building\, 204 W Washington St\, Newton\, IL\, 62448\, United States
CATEGORIES:Public Meetings
END:VEVENT
BEGIN:VEVENT
DTSTART;VALUE=DATE:20230808
DTEND;VALUE=DATE:20230809
DTSTAMP:20260423T183824
CREATED:20240628T210941Z
LAST-MODIFIED:20240701T160852Z
UID:10000095-1691452800-1691539199@jaspercountyillinois.gov
SUMMARY:Electric Committee Meeting
DESCRIPTION:
URL:https://jaspercountyillinois.gov/event/electric-committee-meeting-14/
CATEGORIES:Committee Meetings
END:VEVENT
BEGIN:VEVENT
DTSTART;VALUE=DATE:20230808
DTEND;VALUE=DATE:20230809
DTSTAMP:20260423T183824
CREATED:20240701T133049Z
LAST-MODIFIED:20240701T160905Z
UID:10000107-1691452800-1691539199@jaspercountyillinois.gov
SUMMARY:Personnel Committee Meeting
DESCRIPTION:
URL:https://jaspercountyillinois.gov/event/personnel-committee-meeting-4/
CATEGORIES:Committee Meetings
END:VEVENT
BEGIN:VEVENT
DTSTART;VALUE=DATE:20230808
DTEND;VALUE=DATE:20230809
DTSTAMP:20260423T183824
CREATED:20240701T172408Z
LAST-MODIFIED:20240701T172408Z
UID:10000125-1691452800-1691539199@jaspercountyillinois.gov
SUMMARY:Water and Waste Water Committee Meeting
DESCRIPTION:
URL:https://jaspercountyillinois.gov/event/water-and-waste-water-committee-meeting-7/
CATEGORIES:Committee Meetings
END:VEVENT
BEGIN:VEVENT
DTSTART;TZID=America/Chicago:20230801T180000
DTEND;TZID=America/Chicago:20230801T193000
DTSTAMP:20260423T183824
CREATED:20240628T174757Z
LAST-MODIFIED:20240724T185950Z
UID:10000054-1690912800-1690918200@jaspercountyillinois.gov
SUMMARY:City Council Meeting
DESCRIPTION:Regularly scheduled Newton City Council meetings are held at 6:00 pm on the first and third Tuesday of each month. The City Council meetings and committee meetings are held at City Hall located at 108 N. Van Buren in Newton.
URL:https://jaspercountyillinois.gov/event/city-council-meeting-44/
LOCATION:City Hall\, 108 N Van Buren St\, Newton\, IL\, 62448\, United States
CATEGORIES:Public Meetings
END:VEVENT
BEGIN:VEVENT
DTSTART;VALUE=DATE:20230801
DTEND;VALUE=DATE:20230802
DTSTAMP:20260423T183824
CREATED:20240701T204500Z
LAST-MODIFIED:20240701T204500Z
UID:10000188-1690848000-1690934399@jaspercountyillinois.gov
SUMMARY:Finance/Audit Committee Meeting
DESCRIPTION:
URL:https://jaspercountyillinois.gov/event/finance-audit-committee-meeting-14/
LOCATION:City Hall\, 108 N Van Buren St\, Newton\, IL\, 62448\, United States
CATEGORIES:Committee Meetings
END:VEVENT
BEGIN:VEVENT
DTSTART;TZID=America/Chicago:20230718T180000
DTEND;TZID=America/Chicago:20230718T193000
DTSTAMP:20260423T183824
CREATED:20240628T174536Z
LAST-MODIFIED:20240724T190007Z
UID:10000053-1689703200-1689708600@jaspercountyillinois.gov
SUMMARY:City Council Meeting
DESCRIPTION:Regularly scheduled Newton City Council meetings are held at 6:00 pm on the first and third Tuesday of each month. The City Council meetings and committee meetings are held at City Hall located at 108 N. Van Buren in Newton.
URL:https://jaspercountyillinois.gov/event/city-council-meeting-43/
LOCATION:City Hall\, 108 N Van Buren St\, Newton\, IL\, 62448\, United States
CATEGORIES:Public Meetings
END:VEVENT
BEGIN:VEVENT
DTSTART;VALUE=DATE:20230718
DTEND;VALUE=DATE:20230719
DTSTAMP:20260423T183824
CREATED:20240701T204659Z
LAST-MODIFIED:20240701T204659Z
UID:10000189-1689638400-1689724799@jaspercountyillinois.gov
SUMMARY:Finance/Audit Committee Meeting
DESCRIPTION:
URL:https://jaspercountyillinois.gov/event/finance-audit-committee-meeting-15/
LOCATION:City Hall\, 108 N Van Buren St\, Newton\, IL\, 62448\, United States
CATEGORIES:Committee Meetings
END:VEVENT
BEGIN:VEVENT
DTSTART;TZID=America/Chicago:20230713T180000
DTEND;TZID=America/Chicago:20230713T190000
DTSTAMP:20260423T183824
CREATED:20240723T175157Z
LAST-MODIFIED:20240723T175157Z
UID:10000246-1689271200-1689274800@jaspercountyillinois.gov
SUMMARY:County Board Meeting
DESCRIPTION:
URL:https://jaspercountyillinois.gov/event/county-board-meeting-14/
LOCATION:County Office Building\, 204 W Washington St\, Newton\, IL\, 62448\, United States
CATEGORIES:Public Meetings
END:VEVENT
BEGIN:VEVENT
DTSTART;TZID=America/Chicago:20230705T180000
DTEND;TZID=America/Chicago:20230705T193000
DTSTAMP:20260423T183824
CREATED:20240628T174443Z
LAST-MODIFIED:20240724T190022Z
UID:10000052-1688580000-1688585400@jaspercountyillinois.gov
SUMMARY:City Council Meeting
DESCRIPTION:Regularly scheduled Newton City Council meetings are held at 6:00 pm on the first and third Tuesday of each month. The City Council meetings and committee meetings are held at City Hall located at 108 N. Van Buren in Newton.
URL:https://jaspercountyillinois.gov/event/city-council-meeting-42/
LOCATION:City Hall\, 108 N Van Buren St\, Newton\, IL\, 62448\, United States
CATEGORIES:Public Meetings
END:VEVENT
BEGIN:VEVENT
DTSTART;VALUE=DATE:20230626
DTEND;VALUE=DATE:20230627
DTSTAMP:20260423T183824
CREATED:20240701T205221Z
LAST-MODIFIED:20240701T205221Z
UID:10000190-1687737600-1687823999@jaspercountyillinois.gov
SUMMARY:Finance/Audit Committee Meeting
DESCRIPTION:
URL:https://jaspercountyillinois.gov/event/finance-audit-committee-meeting-16/
LOCATION:City Hall\, 108 N Van Buren St\, Newton\, IL\, 62448\, United States
CATEGORIES:Committee Meetings
END:VEVENT
BEGIN:VEVENT
DTSTART;VALUE=DATE:20230626
DTEND;VALUE=DATE:20230627
DTSTAMP:20260423T183824
CREATED:20240701T172619Z
LAST-MODIFIED:20240701T172839Z
UID:10000126-1687737600-1687823999@jaspercountyillinois.gov
SUMMARY:Water and Waste Water Committee Meeting
DESCRIPTION:
URL:https://jaspercountyillinois.gov/event/water-and-waste-water-committee-meeting-8/
CATEGORIES:Committee Meetings
END:VEVENT
BEGIN:VEVENT
DTSTART;TZID=America/Chicago:20230620T180000
DTEND;TZID=America/Chicago:20230620T193000
DTSTAMP:20260423T183824
CREATED:20240628T173929Z
LAST-MODIFIED:20240724T190036Z
UID:10000051-1687284000-1687289400@jaspercountyillinois.gov
SUMMARY:City Council Meeting
DESCRIPTION:Regularly scheduled Newton City Council meetings are held at 6:00 pm on the first and third Tuesday of each month. The City Council meetings and committee meetings are held at City Hall located at 108 N. Van Buren in Newton.
URL:https://jaspercountyillinois.gov/event/city-council-meeting-41/
LOCATION:City Hall\, 108 N Van Buren St\, Newton\, IL\, 62448\, United States
CATEGORIES:Public Meetings
END:VEVENT
BEGIN:VEVENT
DTSTART;VALUE=DATE:20230619
DTEND;VALUE=DATE:20230620
DTSTAMP:20260423T183824
CREATED:20240701T191905Z
LAST-MODIFIED:20240701T191905Z
UID:10000166-1687132800-1687219199@jaspercountyillinois.gov
SUMMARY:Police and Building Permit Committee
DESCRIPTION:
URL:https://jaspercountyillinois.gov/event/police-and-building-permit-committee-4/
CATEGORIES:Committee Meetings
END:VEVENT
BEGIN:VEVENT
DTSTART;VALUE=DATE:20230619
DTEND;VALUE=DATE:20230620
DTSTAMP:20260423T183824
CREATED:20240701T181620Z
LAST-MODIFIED:20240701T181620Z
UID:10000148-1687132800-1687219199@jaspercountyillinois.gov
SUMMARY:Street and Alley Committee Meeting
DESCRIPTION:
URL:https://jaspercountyillinois.gov/event/street-and-alley-committee-meeting-3/
CATEGORIES:Committee Meetings
END:VEVENT
BEGIN:VEVENT
DTSTART;VALUE=DATE:20230619
DTEND;VALUE=DATE:20230620
DTSTAMP:20260423T183824
CREATED:20240628T210620Z
LAST-MODIFIED:20240701T161332Z
UID:10000094-1687132800-1687219199@jaspercountyillinois.gov
SUMMARY:Electric Committee Meeting
DESCRIPTION:
URL:https://jaspercountyillinois.gov/event/electric-committee-meeting-13/
CATEGORIES:Committee Meetings
END:VEVENT
BEGIN:VEVENT
DTSTART;TZID=America/Chicago:20230615T180000
DTEND;TZID=America/Chicago:20230615T190000
DTSTAMP:20260423T183824
CREATED:20240723T175600Z
LAST-MODIFIED:20240723T175600Z
UID:10000247-1686852000-1686855600@jaspercountyillinois.gov
SUMMARY:County Board Meeting
DESCRIPTION:
URL:https://jaspercountyillinois.gov/event/county-board-meeting-15/
LOCATION:County Office Building\, 204 W Washington St\, Newton\, IL\, 62448\, United States
CATEGORIES:Public Meetings
END:VEVENT
BEGIN:VEVENT
DTSTART;TZID=America/Chicago:20230606T180000
DTEND;TZID=America/Chicago:20230606T193000
DTSTAMP:20260423T183824
CREATED:20240628T162958Z
LAST-MODIFIED:20240724T190119Z
UID:10000050-1686074400-1686079800@jaspercountyillinois.gov
SUMMARY:City Council Meeting
DESCRIPTION:Regularly scheduled Newton City Council meetings are held at 6:00 pm on the first and third Tuesday of each month. The City Council meetings and committee meetings are held at City Hall located at 108 N. Van Buren in Newton.
URL:https://jaspercountyillinois.gov/event/city-council-meeting-40/
LOCATION:City Hall\, 108 N Van Buren St\, Newton\, IL\, 62448\, United States
CATEGORIES:Public Meetings
END:VEVENT
BEGIN:VEVENT
DTSTART;VALUE=DATE:20230606
DTEND;VALUE=DATE:20230607
DTSTAMP:20260423T183824
CREATED:20240701T205442Z
LAST-MODIFIED:20240701T205442Z
UID:10000191-1686009600-1686095999@jaspercountyillinois.gov
SUMMARY:Finance/Audit Committee Meeting
DESCRIPTION:
URL:https://jaspercountyillinois.gov/event/finance-audit-committee-meeting-17/
LOCATION:City Hall\, 108 N Van Buren St\, Newton\, IL\, 62448\, United States
CATEGORIES:Committee Meetings
END:VEVENT
BEGIN:VEVENT
DTSTART;VALUE=DATE:20230606
DTEND;VALUE=DATE:20230607
DTSTAMP:20260423T183824
CREATED:20240701T172910Z
LAST-MODIFIED:20240701T172910Z
UID:10000127-1686009600-1686095999@jaspercountyillinois.gov
SUMMARY:Water and Waste Water Committee Meeting
DESCRIPTION:
URL:https://jaspercountyillinois.gov/event/water-and-waste-water-committee-meeting-9/
CATEGORIES:Committee Meetings
END:VEVENT
BEGIN:VEVENT
DTSTART;VALUE=DATE:20230530
DTEND;VALUE=DATE:20230531
DTSTAMP:20260423T183824
CREATED:20240701T192200Z
LAST-MODIFIED:20240701T192200Z
UID:10000167-1685404800-1685491199@jaspercountyillinois.gov
SUMMARY:Police and Building Permit Committee
DESCRIPTION:
URL:https://jaspercountyillinois.gov/event/police-and-building-permit-committee-5/
CATEGORIES:Committee Meetings
END:VEVENT
BEGIN:VEVENT
DTSTART;VALUE=DATE:20230530
DTEND;VALUE=DATE:20230531
DTSTAMP:20260423T183824
CREATED:20240628T195140Z
LAST-MODIFIED:20240701T161841Z
UID:10000080-1685404800-1685491199@jaspercountyillinois.gov
SUMMARY:Building and Grounds Committee Meeting
DESCRIPTION:
URL:https://jaspercountyillinois.gov/event/building-and-grounds-committee-meeting-5/
CATEGORIES:Committee Meetings
END:VEVENT
BEGIN:VEVENT
DTSTART;TZID=America/Chicago:20230516T180000
DTEND;TZID=America/Chicago:20230516T193000
DTSTAMP:20260423T183824
CREATED:20240628T162916Z
LAST-MODIFIED:20240724T190154Z
UID:10000049-1684260000-1684265400@jaspercountyillinois.gov
SUMMARY:City Council Meeting
DESCRIPTION:Regularly scheduled Newton City Council meetings are held at 6:00 pm on the first and third Tuesday of each month. The City Council meetings and committee meetings are held at City Hall located at 108 N. Van Buren in Newton.
URL:https://jaspercountyillinois.gov/event/city-council-meeting-39/
LOCATION:City Hall\, 108 N Van Buren St\, Newton\, IL\, 62448\, United States
CATEGORIES:Public Meetings
END:VEVENT
END:VCALENDAR