BEGIN:VCALENDAR
VERSION:2.0
PRODID:-//City of Newton, IL | Jasper County, IL - ECPv6.15.0//NONSGML v1.0//EN
CALSCALE:GREGORIAN
METHOD:PUBLISH
X-WR-CALNAME:City of Newton, IL | Jasper County, IL
X-ORIGINAL-URL:https://jaspercountyillinois.gov
X-WR-CALDESC:Events for City of Newton, IL | Jasper County, IL
REFRESH-INTERVAL;VALUE=DURATION:PT1H
X-Robots-Tag:noindex
X-PUBLISHED-TTL:PT1H
BEGIN:VTIMEZONE
TZID:America/Chicago
BEGIN:DAYLIGHT
TZOFFSETFROM:-0600
TZOFFSETTO:-0500
TZNAME:CDT
DTSTART:20230312T080000
END:DAYLIGHT
BEGIN:STANDARD
TZOFFSETFROM:-0500
TZOFFSETTO:-0600
TZNAME:CST
DTSTART:20231105T070000
END:STANDARD
BEGIN:DAYLIGHT
TZOFFSETFROM:-0600
TZOFFSETTO:-0500
TZNAME:CDT
DTSTART:20240310T080000
END:DAYLIGHT
BEGIN:STANDARD
TZOFFSETFROM:-0500
TZOFFSETTO:-0600
TZNAME:CST
DTSTART:20241103T070000
END:STANDARD
END:VTIMEZONE
BEGIN:VEVENT
DTSTART;TZID=America/Chicago:20240116T180000
DTEND;TZID=America/Chicago:20240116T193000
DTSTAMP:20260423T154601
CREATED:20240628T135353Z
LAST-MODIFIED:20240724T191600Z
UID:10000009-1705428000-1705433400@jaspercountyillinois.gov
SUMMARY:City Council Meeting
DESCRIPTION:Regularly scheduled Newton City Council meetings are held at 6:00 pm on the first and third Tuesday of each month. The City Council meetings and committee meetings are held at City Hall located at 108 N. Van Buren in Newton.
URL:https://jaspercountyillinois.gov/event/city-council-meeting-2/
LOCATION:City Hall\, 108 N Van Buren St\, Newton\, IL\, 62448\, United States
CATEGORIES:Public Meetings
END:VEVENT
BEGIN:VEVENT
DTSTART;VALUE=DATE:20240116
DTEND;VALUE=DATE:20240117
DTSTAMP:20260423T154601
CREATED:20240701T132846Z
LAST-MODIFIED:20240701T155254Z
UID:10000106-1705363200-1705449599@jaspercountyillinois.gov
SUMMARY:Personnel Committee Meeting
DESCRIPTION:
URL:https://jaspercountyillinois.gov/event/personnel-committee-meeting-3/
LOCATION:IL
CATEGORIES:Committee Meetings
END:VEVENT
BEGIN:VEVENT
DTSTART;TZID=America/Chicago:20240111T180000
DTEND;TZID=America/Chicago:20240111T190000
DTSTAMP:20260423T154601
CREATED:20240723T160823Z
LAST-MODIFIED:20240723T160823Z
UID:10000240-1704996000-1704999600@jaspercountyillinois.gov
SUMMARY:County Board Meeting
DESCRIPTION:
URL:https://jaspercountyillinois.gov/event/county-board-meeting-8/
LOCATION:County Office Building\, 204 W Washington St\, Newton\, IL\, 62448\, United States
CATEGORIES:Public Meetings
END:VEVENT
BEGIN:VEVENT
DTSTART;VALUE=DATE:20240108
DTEND;VALUE=DATE:20240109
DTSTAMP:20260423T154601
CREATED:20240628T212554Z
LAST-MODIFIED:20240701T160021Z
UID:10000097-1704672000-1704758399@jaspercountyillinois.gov
SUMMARY:Electric Committee Meeting
DESCRIPTION:
URL:https://jaspercountyillinois.gov/event/electric-committee-meeting-16/
LOCATION:IL
CATEGORIES:Committee Meetings
END:VEVENT
BEGIN:VEVENT
DTSTART;VALUE=DATE:20240108
DTEND;VALUE=DATE:20240109
DTSTAMP:20260423T154601
CREATED:20240701T200901Z
LAST-MODIFIED:20240701T200901Z
UID:10000181-1704672000-1704758399@jaspercountyillinois.gov
SUMMARY:Finance/Audit Committee Meeting
DESCRIPTION:
URL:https://jaspercountyillinois.gov/event/finance-audit-committee-meeting-7/
LOCATION:City Hall\, 108 N Van Buren St\, Newton\, IL\, 62448\, United States
CATEGORIES:Committee Meetings
END:VEVENT
BEGIN:VEVENT
DTSTART;TZID=America/Chicago:20240102T180000
DTEND;TZID=America/Chicago:20240102T193000
DTSTAMP:20260423T154601
CREATED:20240628T134432Z
LAST-MODIFIED:20240724T191613Z
UID:10000008-1704218400-1704223800@jaspercountyillinois.gov
SUMMARY:City Council Meeting
DESCRIPTION:Regularly scheduled Newton City Council meetings are held at 6:00 pm on the first and third Tuesday of each month. The City Council meetings and committee meetings are held at City Hall located at 108 N. Van Buren in Newton.
URL:https://jaspercountyillinois.gov/event/city-council-meeting/
LOCATION:City Hall\, 108 N Van Buren St\, Newton\, IL\, 62448\, United States
CATEGORIES:Public Meetings
END:VEVENT
BEGIN:VEVENT
DTSTART;VALUE=DATE:20240102
DTEND;VALUE=DATE:20240103
DTSTAMP:20260423T154601
CREATED:20240701T201016Z
LAST-MODIFIED:20240701T201016Z
UID:10000182-1704153600-1704239999@jaspercountyillinois.gov
SUMMARY:Finance/Audit Committee Meeting
DESCRIPTION:
URL:https://jaspercountyillinois.gov/event/finance-audit-committee-meeting-8/
LOCATION:City Hall\, 108 N Van Buren St\, Newton\, IL\, 62448\, United States
CATEGORIES:Committee Meetings
END:VEVENT
BEGIN:VEVENT
DTSTART;TZID=America/Chicago:20231219T180000
DTEND;TZID=America/Chicago:20231219T193000
DTSTAMP:20260423T154601
CREATED:20240628T154414Z
LAST-MODIFIED:20240724T190640Z
UID:10000035-1703008800-1703014200@jaspercountyillinois.gov
SUMMARY:City Council Meeting
DESCRIPTION:Regularly scheduled Newton City Council meetings are held at 6:00 pm on the first and third Tuesday of each month. The City Council meetings and committee meetings are held at City Hall located at 108 N. Van Buren in Newton.
URL:https://jaspercountyillinois.gov/event/city-council-meeting-25/
LOCATION:City Hall\, 108 N Van Buren St\, Newton\, IL\, 62448\, United States
CATEGORIES:Public Meetings
END:VEVENT
BEGIN:VEVENT
DTSTART;VALUE=DATE:20231219
DTEND;VALUE=DATE:20231220
DTSTAMP:20260423T154601
CREATED:20240701T202312Z
LAST-MODIFIED:20240701T202312Z
UID:10000183-1702944000-1703030399@jaspercountyillinois.gov
SUMMARY:Finance/Audit Committee Meeting
DESCRIPTION:
URL:https://jaspercountyillinois.gov/event/finance-audit-committee-meeting-9/
LOCATION:City Hall\, 108 N Van Buren St\, Newton\, IL\, 62448\, United States
CATEGORIES:Committee Meetings
END:VEVENT
BEGIN:VEVENT
DTSTART;TZID=America/Chicago:20231214T180000
DTEND;TZID=America/Chicago:20231214T190000
DTSTAMP:20260423T154601
CREATED:20240723T161909Z
LAST-MODIFIED:20240723T161909Z
UID:10000241-1702576800-1702580400@jaspercountyillinois.gov
SUMMARY:County Board Meeting
DESCRIPTION:
URL:https://jaspercountyillinois.gov/event/county-board-meeting-9/
LOCATION:County Office Building\, 204 W Washington St\, Newton\, IL\, 62448\, United States
CATEGORIES:Public Meetings
END:VEVENT
BEGIN:VEVENT
DTSTART;TZID=America/Chicago:20231205T180000
DTEND;TZID=America/Chicago:20231205T193000
DTSTAMP:20260423T154601
CREATED:20240628T155021Z
LAST-MODIFIED:20240724T190624Z
UID:10000036-1701799200-1701804600@jaspercountyillinois.gov
SUMMARY:City Council Meeting
DESCRIPTION:Regularly scheduled Newton City Council meetings are held at 6:00 pm on the first and third Tuesday of each month. The City Council meetings and committee meetings are held at City Hall located at 108 N. Van Buren in Newton.
URL:https://jaspercountyillinois.gov/event/city-council-meeting-26/
LOCATION:City Hall\, 108 N Van Buren St\, Newton\, IL\, 62448\, United States
CATEGORIES:Public Meetings
END:VEVENT
BEGIN:VEVENT
DTSTART;VALUE=DATE:20231127
DTEND;VALUE=DATE:20231128
DTSTAMP:20260423T154601
CREATED:20240628T211115Z
LAST-MODIFIED:20240701T160146Z
UID:10000096-1701043200-1701129599@jaspercountyillinois.gov
SUMMARY:Electric Committee Meeting
DESCRIPTION:
URL:https://jaspercountyillinois.gov/event/electric-committee-meeting-15/
LOCATION:IL
CATEGORIES:Committee Meetings
END:VEVENT
BEGIN:VEVENT
DTSTART;TZID=America/Chicago:20231121T180000
DTEND;TZID=America/Chicago:20231121T193000
DTSTAMP:20260423T154601
CREATED:20240628T155604Z
LAST-MODIFIED:20240724T190609Z
UID:10000037-1700589600-1700595000@jaspercountyillinois.gov
SUMMARY:City Council Meeting
DESCRIPTION:Regularly scheduled Newton City Council meetings are held at 6:00 pm on the first and third Tuesday of each month. The City Council meetings and committee meetings are held at City Hall located at 108 N. Van Buren in Newton.
URL:https://jaspercountyillinois.gov/event/city-council-meeting-27/
LOCATION:City Hall\, 108 N Van Buren St\, Newton\, IL\, 62448\, United States
CATEGORIES:Public Meetings
END:VEVENT
BEGIN:VEVENT
DTSTART;TZID=America/Chicago:20231109T180000
DTEND;TZID=America/Chicago:20231109T190000
DTSTAMP:20260423T154601
CREATED:20240723T173513Z
LAST-MODIFIED:20240723T173513Z
UID:10000242-1699552800-1699556400@jaspercountyillinois.gov
SUMMARY:County Board Meeting
DESCRIPTION:
URL:https://jaspercountyillinois.gov/event/county-board-meeting-10/
LOCATION:County Office Building\, 204 W Washington St\, Newton\, IL\, 62448\, United States
CATEGORIES:Public Meetings
END:VEVENT
BEGIN:VEVENT
DTSTART;VALUE=DATE:20231108
DTEND;VALUE=DATE:20231109
DTSTAMP:20260423T154601
CREATED:20240701T191618Z
LAST-MODIFIED:20240701T191618Z
UID:10000164-1699401600-1699487999@jaspercountyillinois.gov
SUMMARY:Police and Building Permit Committee
DESCRIPTION:
URL:https://jaspercountyillinois.gov/event/police-and-building-permit-committee-2/
LOCATION:IL
CATEGORIES:Committee Meetings
END:VEVENT
BEGIN:VEVENT
DTSTART;TZID=America/Chicago:20231107T180000
DTEND;TZID=America/Chicago:20231107T193000
DTSTAMP:20260423T154601
CREATED:20240628T155659Z
LAST-MODIFIED:20240724T190557Z
UID:10000038-1699380000-1699385400@jaspercountyillinois.gov
SUMMARY:City Council Meeting
DESCRIPTION:Regularly scheduled Newton City Council meetings are held at 6:00 pm on the first and third Tuesday of each month. The City Council meetings and committee meetings are held at City Hall located at 108 N. Van Buren in Newton.
URL:https://jaspercountyillinois.gov/event/city-council-meeting-28/
LOCATION:City Hall\, 108 N Van Buren St\, Newton\, IL\, 62448\, United States
CATEGORIES:Public Meetings
END:VEVENT
BEGIN:VEVENT
DTSTART;VALUE=DATE:20231102
DTEND;VALUE=DATE:20231103
DTSTAMP:20260423T154601
CREATED:20240701T203835Z
LAST-MODIFIED:20240701T203835Z
UID:10000184-1698883200-1698969599@jaspercountyillinois.gov
SUMMARY:Finance/Audit Committee Meeting
DESCRIPTION:
URL:https://jaspercountyillinois.gov/event/finance-audit-committee-meeting-10/
LOCATION:City Hall\, 108 N Van Buren St\, Newton\, IL\, 62448\, United States
CATEGORIES:Committee Meetings
END:VEVENT
BEGIN:VEVENT
DTSTART;VALUE=DATE:20231101
DTEND;VALUE=DATE:20231102
DTSTAMP:20260423T154601
CREATED:20240628T185915Z
LAST-MODIFIED:20240701T160233Z
UID:10000074-1698796800-1698883199@jaspercountyillinois.gov
SUMMARY:City of Newton Insurance Committee Meeting
DESCRIPTION:
URL:https://jaspercountyillinois.gov/event/city-of-newton-insurance-committee-meeting-6/
LOCATION:IL
CATEGORIES:Committee Meetings
END:VEVENT
BEGIN:VEVENT
DTSTART;TZID=America/Chicago:20231017T180000
DTEND;TZID=America/Chicago:20231017T193000
DTSTAMP:20260423T154601
CREATED:20240628T155946Z
LAST-MODIFIED:20240724T190548Z
UID:10000039-1697565600-1697571000@jaspercountyillinois.gov
SUMMARY:City Council Meeting
DESCRIPTION:Regularly scheduled Newton City Council meetings are held at 6:00 pm on the first and third Tuesday of each month. The City Council meetings and committee meetings are held at City Hall located at 108 N. Van Buren in Newton.
URL:https://jaspercountyillinois.gov/event/city-council-meeting-29/
LOCATION:City Hall\, 108 N Van Buren St\, Newton\, IL\, 62448\, United States
CATEGORIES:Public Meetings
END:VEVENT
BEGIN:VEVENT
DTSTART;TZID=America/Chicago:20231012T180000
DTEND;TZID=America/Chicago:20231012T190000
DTSTAMP:20260423T154601
CREATED:20240723T173704Z
LAST-MODIFIED:20240723T173704Z
UID:10000243-1697133600-1697137200@jaspercountyillinois.gov
SUMMARY:County Board Meeting
DESCRIPTION:
URL:https://jaspercountyillinois.gov/event/county-board-meeting-11/
LOCATION:County Office Building\, 204 W Washington St\, Newton\, IL\, 62448\, United States
CATEGORIES:Public Meetings
END:VEVENT
BEGIN:VEVENT
DTSTART;VALUE=DATE:20231011
DTEND;VALUE=DATE:20231012
DTSTAMP:20260423T154601
CREATED:20240701T191705Z
LAST-MODIFIED:20240701T191705Z
UID:10000165-1696982400-1697068799@jaspercountyillinois.gov
SUMMARY:Police and Building Permit Committee
DESCRIPTION:
URL:https://jaspercountyillinois.gov/event/police-and-building-permit-committee-3/
LOCATION:IL
CATEGORIES:Committee Meetings
END:VEVENT
BEGIN:VEVENT
DTSTART;VALUE=DATE:20231011
DTEND;VALUE=DATE:20231012
DTSTAMP:20260423T154601
CREATED:20240701T204117Z
LAST-MODIFIED:20240701T204117Z
UID:10000185-1696982400-1697068799@jaspercountyillinois.gov
SUMMARY:Finance/Audit Committee Meeting
DESCRIPTION:
URL:https://jaspercountyillinois.gov/event/finance-audit-committee-meeting-11/
LOCATION:City Hall\, 108 N Van Buren St\, Newton\, IL\, 62448\, United States
CATEGORIES:Committee Meetings
END:VEVENT
BEGIN:VEVENT
DTSTART;TZID=America/Chicago:20231003T180000
DTEND;TZID=America/Chicago:20231003T193000
DTSTAMP:20260423T154601
CREATED:20240628T180149Z
LAST-MODIFIED:20240724T185725Z
UID:10000058-1696356000-1696361400@jaspercountyillinois.gov
SUMMARY:City Council Meeting
DESCRIPTION:Regularly scheduled Newton City Council meetings are held at 6:00 pm on the first and third Tuesday of each month. The City Council meetings and committee meetings are held at City Hall located at 108 N. Van Buren in Newton.
URL:https://jaspercountyillinois.gov/event/city-council-meeting-48/
LOCATION:City Hall\, 108 N Van Buren St\, Newton\, IL\, 62448\, United States
CATEGORIES:Public Meetings
END:VEVENT
BEGIN:VEVENT
DTSTART;VALUE=DATE:20230927
DTEND;VALUE=DATE:20230928
DTSTAMP:20260423T154601
CREATED:20240701T204159Z
LAST-MODIFIED:20240701T204159Z
UID:10000186-1695772800-1695859199@jaspercountyillinois.gov
SUMMARY:Finance/Audit Committee Meeting
DESCRIPTION:
URL:https://jaspercountyillinois.gov/event/finance-audit-committee-meeting-12/
LOCATION:City Hall\, 108 N Van Buren St\, Newton\, IL\, 62448\, United States
CATEGORIES:Committee Meetings
END:VEVENT
BEGIN:VEVENT
DTSTART;VALUE=DATE:20230927
DTEND;VALUE=DATE:20230928
DTSTAMP:20260423T154601
CREATED:20240628T183046Z
LAST-MODIFIED:20240701T160242Z
UID:10000068-1695772800-1695859199@jaspercountyillinois.gov
SUMMARY:Park\, Cemetery and Pool Committee Meeting
DESCRIPTION:
URL:https://jaspercountyillinois.gov/event/park-cemetery-and-pool-committee-meeting-2/
LOCATION:IL
CATEGORIES:Committee Meetings
END:VEVENT
BEGIN:VEVENT
DTSTART;TZID=America/Chicago:20230919T180000
DTEND;TZID=America/Chicago:20230919T193000
DTSTAMP:20260423T154601
CREATED:20240628T175837Z
LAST-MODIFIED:20240724T185748Z
UID:10000057-1695146400-1695151800@jaspercountyillinois.gov
SUMMARY:City Council Meeting
DESCRIPTION:Regularly scheduled Newton City Council meetings are held at 6:00 pm on the first and third Tuesday of each month. The City Council meetings and committee meetings are held at City Hall located at 108 N. Van Buren in Newton.
URL:https://jaspercountyillinois.gov/event/city-council-meeting-47/
LOCATION:City Hall\, 108 N Van Buren St\, Newton\, IL\, 62448\, United States
CATEGORIES:Public Meetings
END:VEVENT
BEGIN:VEVENT
DTSTART;VALUE=DATE:20230918
DTEND;VALUE=DATE:20230919
DTSTAMP:20260423T154601
CREATED:20240701T204237Z
LAST-MODIFIED:20240701T204237Z
UID:10000187-1694995200-1695081599@jaspercountyillinois.gov
SUMMARY:Finance/Audit Committee Meeting
DESCRIPTION:
URL:https://jaspercountyillinois.gov/event/finance-audit-committee-meeting-13/
LOCATION:City Hall\, 108 N Van Buren St\, Newton\, IL\, 62448\, United States
CATEGORIES:Committee Meetings
END:VEVENT
BEGIN:VEVENT
DTSTART;TZID=America/Chicago:20230914T180000
DTEND;TZID=America/Chicago:20230914T190000
DTSTAMP:20260423T154601
CREATED:20240723T174838Z
LAST-MODIFIED:20240723T174838Z
UID:10000244-1694714400-1694718000@jaspercountyillinois.gov
SUMMARY:County Board Meeting
DESCRIPTION:
URL:https://jaspercountyillinois.gov/event/county-board-meeting-12/
LOCATION:County Office Building\, 204 W Washington St\, Newton\, IL\, 62448\, United States
CATEGORIES:Public Meetings
END:VEVENT
BEGIN:VEVENT
DTSTART;TZID=America/Chicago:20230905T180000
DTEND;TZID=America/Chicago:20230905T193000
DTSTAMP:20260423T154601
CREATED:20240628T175636Z
LAST-MODIFIED:20240724T185845Z
UID:10000056-1693936800-1693942200@jaspercountyillinois.gov
SUMMARY:City Council Meeting
DESCRIPTION:Regularly scheduled Newton City Council meetings are held at 6:00 pm on the first and third Tuesday of each month. The City Council meetings and committee meetings are held at City Hall located at 108 N. Van Buren in Newton.
URL:https://jaspercountyillinois.gov/event/city-council-meeting-46/
LOCATION:City Hall\, 108 N Van Buren St\, Newton\, IL\, 62448\, United States
CATEGORIES:Public Meetings
END:VEVENT
BEGIN:VEVENT
DTSTART;VALUE=DATE:20230816
DTEND;VALUE=DATE:20230817
DTSTAMP:20260423T154601
CREATED:20240628T195826Z
LAST-MODIFIED:20240701T160254Z
UID:10000081-1692144000-1692230399@jaspercountyillinois.gov
SUMMARY:Building and Grounds Committee Meeting
DESCRIPTION:
URL:https://jaspercountyillinois.gov/event/building-and-grounds-committee-meeting-6/
LOCATION:IL
CATEGORIES:Committee Meetings
END:VEVENT
END:VCALENDAR