BEGIN:VCALENDAR
VERSION:2.0
PRODID:-//City of Newton, IL | Jasper County, IL - ECPv6.15.0//NONSGML v1.0//EN
CALSCALE:GREGORIAN
METHOD:PUBLISH
X-WR-CALNAME:City of Newton, IL | Jasper County, IL
X-ORIGINAL-URL:https://jaspercountyillinois.gov
X-WR-CALDESC:Events for City of Newton, IL | Jasper County, IL
REFRESH-INTERVAL;VALUE=DURATION:PT1H
X-Robots-Tag:noindex
X-PUBLISHED-TTL:PT1H
BEGIN:VTIMEZONE
TZID:America/Chicago
BEGIN:DAYLIGHT
TZOFFSETFROM:-0600
TZOFFSETTO:-0500
TZNAME:CDT
DTSTART:20240310T080000
END:DAYLIGHT
BEGIN:STANDARD
TZOFFSETFROM:-0500
TZOFFSETTO:-0600
TZNAME:CST
DTSTART:20241103T070000
END:STANDARD
END:VTIMEZONE
BEGIN:VEVENT
DTSTART;TZID=America/Chicago:20240418T180000
DTEND;TZID=America/Chicago:20240418T190000
DTSTAMP:20260423T123754
CREATED:20240729T134902Z
LAST-MODIFIED:20240729T134902Z
UID:10000268-1713463200-1713466800@jaspercountyillinois.gov
SUMMARY:County Board Meeting
DESCRIPTION:
URL:https://jaspercountyillinois.gov/event/county-board-meeting-23/
LOCATION:County Office Building\, 204 W Washington St\, Newton\, IL\, 62448\, United States
CATEGORIES:Public Meetings
END:VEVENT
BEGIN:VEVENT
DTSTART;TZID=America/Chicago:20240416T180000
DTEND;TZID=America/Chicago:20240416T193000
DTSTAMP:20260423T123754
CREATED:20240628T151758Z
LAST-MODIFIED:20240724T191238Z
UID:10000015-1713290400-1713295800@jaspercountyillinois.gov
SUMMARY:City Council Meeting
DESCRIPTION:Regularly scheduled Newton City Council meetings are held at 6:00 pm on the first and third Tuesday of each month. The City Council meetings and committee meetings are held at City Hall located at 108 N. Van Buren in Newton.
URL:https://jaspercountyillinois.gov/event/city-council-meeting-8/
LOCATION:City Hall\, 108 N Van Buren St\, Newton\, IL\, 62448\, United States
CATEGORIES:Public Meetings
END:VEVENT
BEGIN:VEVENT
DTSTART;VALUE=DATE:20240410
DTEND;VALUE=DATE:20240411
DTSTAMP:20260423T123754
CREATED:20240701T200323Z
LAST-MODIFIED:20240701T200323Z
UID:10000178-1712707200-1712793599@jaspercountyillinois.gov
SUMMARY:Finance/Audit Committee Meeting
DESCRIPTION:
URL:https://jaspercountyillinois.gov/event/finance-audit-committee-meeting-4/
LOCATION:City Hall\, 108 N Van Buren St\, Newton\, IL\, 62448\, United States
CATEGORIES:Committee Meetings
END:VEVENT
BEGIN:VEVENT
DTSTART;TZID=America/Chicago:20240402T180000
DTEND;TZID=America/Chicago:20240402T193000
DTSTAMP:20260423T123754
CREATED:20240628T151638Z
LAST-MODIFIED:20240724T191306Z
UID:10000014-1712080800-1712086200@jaspercountyillinois.gov
SUMMARY:City Council Meeting
DESCRIPTION:Regularly scheduled Newton City Council meetings are held at 6:00 pm on the first and third Tuesday of each month. The City Council meetings and committee meetings are held at City Hall located at 108 N. Van Buren in Newton.
URL:https://jaspercountyillinois.gov/event/city-council-meeting-7/
LOCATION:City Hall\, 108 N Van Buren St\, Newton\, IL\, 62448\, United States
CATEGORIES:Public Meetings
END:VEVENT
BEGIN:VEVENT
DTSTART;VALUE=DATE:20240326
DTEND;VALUE=DATE:20240327
DTSTAMP:20260423T123754
CREATED:20240701T180508Z
LAST-MODIFIED:20240701T180508Z
UID:10000146-1711411200-1711497599@jaspercountyillinois.gov
SUMMARY:Street and Alley Committee Meeting
DESCRIPTION:
URL:https://jaspercountyillinois.gov/event/street-and-alley-committee-meeting/
LOCATION:IL
CATEGORIES:Committee Meetings
END:VEVENT
BEGIN:VEVENT
DTSTART;VALUE=DATE:20240326
DTEND;VALUE=DATE:20240327
DTSTAMP:20260423T123754
CREATED:20240701T153033Z
LAST-MODIFIED:20240701T153507Z
UID:10000123-1711411200-1711497599@jaspercountyillinois.gov
SUMMARY:Water and Waste Water Committee Meeting
DESCRIPTION:
URL:https://jaspercountyillinois.gov/event/water-and-waste-water-committee-meeting-5/
LOCATION:IL
CATEGORIES:Committee Meetings
END:VEVENT
BEGIN:VEVENT
DTSTART;TZID=America/Chicago:20240325T173000
DTEND;TZID=America/Chicago:20240325T190000
DTSTAMP:20260423T123754
CREATED:20240819T153329Z
LAST-MODIFIED:20240819T153329Z
UID:10000287-1711387800-1711393200@jaspercountyillinois.gov
SUMMARY:Board of Health Meeting
DESCRIPTION:
URL:https://jaspercountyillinois.gov/event/board-of-health-meeting-5/
LOCATION:Jasper County Health Department\, 106 Edwards Street\, Newton\, IL\, 62448\, United States
CATEGORIES:Public Meetings
END:VEVENT
BEGIN:VEVENT
DTSTART;TZID=America/Chicago:20240321T180000
DTEND;TZID=America/Chicago:20240321T190000
DTSTAMP:20260423T123754
CREATED:20240729T134725Z
LAST-MODIFIED:20240729T134725Z
UID:10000267-1711044000-1711047600@jaspercountyillinois.gov
SUMMARY:County Board Meeting
DESCRIPTION:
URL:https://jaspercountyillinois.gov/event/county-board-meeting-22/
LOCATION:County Office Building\, 204 W Washington St\, Newton\, IL\, 62448\, United States
CATEGORIES:Public Meetings
END:VEVENT
BEGIN:VEVENT
DTSTART;VALUE=DATE:20240321
DTEND;VALUE=DATE:20240322
DTSTAMP:20260423T123754
CREATED:20240701T190425Z
LAST-MODIFIED:20240701T190425Z
UID:10000163-1710979200-1711065599@jaspercountyillinois.gov
SUMMARY:Police and Building Permit Committee
DESCRIPTION:
URL:https://jaspercountyillinois.gov/event/police-and-building-permit-committee/
LOCATION:IL
CATEGORIES:Committee Meetings
END:VEVENT
BEGIN:VEVENT
DTSTART;TZID=America/Chicago:20240319T180000
DTEND;TZID=America/Chicago:20240319T193000
DTSTAMP:20260423T123754
CREATED:20240628T151447Z
LAST-MODIFIED:20240724T191327Z
UID:10000013-1710871200-1710876600@jaspercountyillinois.gov
SUMMARY:City Council Meeting
DESCRIPTION:Regularly scheduled Newton City Council meetings are held at 6:00 pm on the first and third Tuesday of each month. The City Council meetings and committee meetings are held at City Hall located at 108 N. Van Buren in Newton.
URL:https://jaspercountyillinois.gov/event/city-council-meeting-6/
LOCATION:City Hall\, 108 N Van Buren St\, Newton\, IL\, 62448\, United States
CATEGORIES:Public Meetings
END:VEVENT
BEGIN:VEVENT
DTSTART;VALUE=DATE:20240319
DTEND;VALUE=DATE:20240320
DTSTAMP:20260423T123754
CREATED:20240701T200439Z
LAST-MODIFIED:20240701T200439Z
UID:10000179-1710806400-1710892799@jaspercountyillinois.gov
SUMMARY:Finance/Audit Committee Meeting
DESCRIPTION:
URL:https://jaspercountyillinois.gov/event/finance-audit-committee-meeting-5/
LOCATION:City Hall\, 108 N Van Buren St\, Newton\, IL\, 62448\, United States
CATEGORIES:Committee Meetings
END:VEVENT
BEGIN:VEVENT
DTSTART;VALUE=DATE:20240312
DTEND;VALUE=DATE:20240313
DTSTAMP:20260423T123754
CREATED:20240701T172221Z
LAST-MODIFIED:20240701T172221Z
UID:10000124-1710201600-1710287999@jaspercountyillinois.gov
SUMMARY:Water and Waste Water Committee Meeting
DESCRIPTION:
URL:https://jaspercountyillinois.gov/event/water-and-waste-water-committee-meeting-6/
LOCATION:IL
CATEGORIES:Committee Meetings
END:VEVENT
BEGIN:VEVENT
DTSTART;TZID=America/Chicago:20240305T180000
DTEND;TZID=America/Chicago:20240305T193000
DTSTAMP:20260423T123754
CREATED:20240628T151342Z
LAST-MODIFIED:20240724T191445Z
UID:10000012-1709661600-1709667000@jaspercountyillinois.gov
SUMMARY:City Council Meeting
DESCRIPTION:Regularly scheduled Newton City Council meetings are held at 6:00 pm on the first and third Tuesday of each month. The City Council meetings and committee meetings are held at City Hall located at 108 N. Van Buren in Newton.
URL:https://jaspercountyillinois.gov/event/city-council-meeting-5/
LOCATION:City Hall\, 108 N Van Buren St\, Newton\, IL\, 62448\, United States
CATEGORIES:Public Meetings
END:VEVENT
BEGIN:VEVENT
DTSTART;VALUE=DATE:20240304
DTEND;VALUE=DATE:20240305
DTSTAMP:20260423T123754
CREATED:20240701T130233Z
LAST-MODIFIED:20240701T153532Z
UID:10000099-1709510400-1709596799@jaspercountyillinois.gov
SUMMARY:Electric Committee Meeting
DESCRIPTION:
URL:https://jaspercountyillinois.gov/event/electric-committee-meeting-18/
LOCATION:IL
CATEGORIES:Committee Meetings
END:VEVENT
BEGIN:VEVENT
DTSTART;VALUE=DATE:20240304
DTEND;VALUE=DATE:20240305
DTSTAMP:20260423T123754
CREATED:20240628T181131Z
LAST-MODIFIED:20240701T153646Z
UID:10000060-1709510400-1709596799@jaspercountyillinois.gov
SUMMARY:Lights in the Park Committee Meeting
DESCRIPTION:
URL:https://jaspercountyillinois.gov/event/lights-in-the-park-committee-meeting/
LOCATION:IL
CATEGORIES:Committee Meetings
END:VEVENT
BEGIN:VEVENT
DTSTART;VALUE=DATE:20240227
DTEND;VALUE=DATE:20240228
DTSTAMP:20260423T123754
CREATED:20240701T180556Z
LAST-MODIFIED:20240701T180556Z
UID:10000147-1708992000-1709078399@jaspercountyillinois.gov
SUMMARY:Street and Alley Committee Meeting
DESCRIPTION:
URL:https://jaspercountyillinois.gov/event/street-and-alley-committee-meeting-2/
LOCATION:IL
CATEGORIES:Committee Meetings
END:VEVENT
BEGIN:VEVENT
DTSTART;VALUE=DATE:20240227
DTEND;VALUE=DATE:20240228
DTSTAMP:20260423T123754
CREATED:20240701T132802Z
LAST-MODIFIED:20240701T153735Z
UID:10000105-1708992000-1709078399@jaspercountyillinois.gov
SUMMARY:Personnel Committee Meeting
DESCRIPTION:
URL:https://jaspercountyillinois.gov/event/personnel-committee-meeting-2/
LOCATION:IL
CATEGORIES:Committee Meetings
END:VEVENT
BEGIN:VEVENT
DTSTART;TZID=America/Chicago:20240226T173000
DTEND;TZID=America/Chicago:20240226T190000
DTSTAMP:20260423T123754
CREATED:20240819T153547Z
LAST-MODIFIED:20240819T154004Z
UID:10000288-1708968600-1708974000@jaspercountyillinois.gov
SUMMARY:Board of Health Meeting
DESCRIPTION:
URL:https://jaspercountyillinois.gov/event/board-of-health-meeting-6/
LOCATION:Jasper County Health Department\, 106 Edwards Street\, Newton\, IL\, 62448\, United States
CATEGORIES:Public Meetings
END:VEVENT
BEGIN:VEVENT
DTSTART;TZID=America/Chicago:20240220T180000
DTEND;TZID=America/Chicago:20240220T193000
DTSTAMP:20260423T123754
CREATED:20240628T151205Z
LAST-MODIFIED:20240724T191506Z
UID:10000011-1708452000-1708457400@jaspercountyillinois.gov
SUMMARY:City Council Meeting
DESCRIPTION:Regularly scheduled Newton City Council meetings are held at 6:00 pm on the first and third Tuesday of each month. The City Council meetings and committee meetings are held at City Hall located at 108 N. Van Buren in Newton.
URL:https://jaspercountyillinois.gov/event/city-council-meeting-4/
LOCATION:City Hall\, 108 N Van Buren St\, Newton\, IL\, 62448\, United States
CATEGORIES:Public Meetings
END:VEVENT
BEGIN:VEVENT
DTSTART;VALUE=DATE:20240220
DTEND;VALUE=DATE:20240221
DTSTAMP:20260423T123754
CREATED:20240701T200600Z
LAST-MODIFIED:20240701T200600Z
UID:10000180-1708387200-1708473599@jaspercountyillinois.gov
SUMMARY:Finance/Audit Committee Meeting
DESCRIPTION:
URL:https://jaspercountyillinois.gov/event/finance-audit-committee-meeting-6/
LOCATION:City Hall\, 108 N Van Buren St\, Newton\, IL\, 62448\, United States
CATEGORIES:Committee Meetings
END:VEVENT
BEGIN:VEVENT
DTSTART;TZID=America/Chicago:20240219T180000
DTEND;TZID=America/Chicago:20240219T190000
DTSTAMP:20260423T123754
CREATED:20240628T185956Z
LAST-MODIFIED:20240628T185956Z
UID:10000075-1708365600-1708369200@jaspercountyillinois.gov
SUMMARY:City of Newton Insurance Committee Meeting
DESCRIPTION:
URL:https://jaspercountyillinois.gov/event/city-of-newton-insurance-committee-meeting-7/
LOCATION:IL
CATEGORIES:Committee Meetings
END:VEVENT
BEGIN:VEVENT
DTSTART;VALUE=DATE:20240219
DTEND;VALUE=DATE:20240220
DTSTAMP:20260423T123754
CREATED:20240701T130112Z
LAST-MODIFIED:20240701T153749Z
UID:10000098-1708300800-1708387199@jaspercountyillinois.gov
SUMMARY:Electric Committee Meeting
DESCRIPTION:
URL:https://jaspercountyillinois.gov/event/electric-committee-meeting-17/
LOCATION:IL
CATEGORIES:Committee Meetings
END:VEVENT
BEGIN:VEVENT
DTSTART;TZID=America/Chicago:20240215T180000
DTEND;TZID=America/Chicago:20240215T190000
DTSTAMP:20260423T123754
CREATED:20240723T150303Z
LAST-MODIFIED:20240729T134352Z
UID:10000239-1708020000-1708023600@jaspercountyillinois.gov
SUMMARY:County Board Meeting
DESCRIPTION:
URL:https://jaspercountyillinois.gov/event/county-board-meeting-7/
LOCATION:County Office Building\, 204 W Washington St\, Newton\, IL\, 62448\, United States
CATEGORIES:Public Meetings
END:VEVENT
BEGIN:VEVENT
DTSTART;TZID=America/Chicago:20240206T180000
DTEND;TZID=America/Chicago:20240206T193000
DTSTAMP:20260423T123754
CREATED:20240628T150702Z
LAST-MODIFIED:20240724T191541Z
UID:10000010-1707242400-1707247800@jaspercountyillinois.gov
SUMMARY:City Council Meeting
DESCRIPTION:Regularly scheduled Newton City Council meetings are held at 6:00 pm on the first and third Tuesday of each month. The City Council meetings and committee meetings are held at City Hall located at 108 N. Van Buren in Newton.
URL:https://jaspercountyillinois.gov/event/city-council-meeting-3/
LOCATION:City Hall\, 108 N Van Buren St\, Newton\, IL\, 62448\, United States
CATEGORIES:Public Meetings
END:VEVENT
BEGIN:VEVENT
DTSTART;TZID=America/Chicago:20240116T180000
DTEND;TZID=America/Chicago:20240116T193000
DTSTAMP:20260423T123754
CREATED:20240628T135353Z
LAST-MODIFIED:20240724T191600Z
UID:10000009-1705428000-1705433400@jaspercountyillinois.gov
SUMMARY:City Council Meeting
DESCRIPTION:Regularly scheduled Newton City Council meetings are held at 6:00 pm on the first and third Tuesday of each month. The City Council meetings and committee meetings are held at City Hall located at 108 N. Van Buren in Newton.
URL:https://jaspercountyillinois.gov/event/city-council-meeting-2/
LOCATION:City Hall\, 108 N Van Buren St\, Newton\, IL\, 62448\, United States
CATEGORIES:Public Meetings
END:VEVENT
BEGIN:VEVENT
DTSTART;VALUE=DATE:20240116
DTEND;VALUE=DATE:20240117
DTSTAMP:20260423T123754
CREATED:20240701T132846Z
LAST-MODIFIED:20240701T155254Z
UID:10000106-1705363200-1705449599@jaspercountyillinois.gov
SUMMARY:Personnel Committee Meeting
DESCRIPTION:
URL:https://jaspercountyillinois.gov/event/personnel-committee-meeting-3/
LOCATION:IL
CATEGORIES:Committee Meetings
END:VEVENT
BEGIN:VEVENT
DTSTART;TZID=America/Chicago:20240111T180000
DTEND;TZID=America/Chicago:20240111T190000
DTSTAMP:20260423T123754
CREATED:20240723T160823Z
LAST-MODIFIED:20240723T160823Z
UID:10000240-1704996000-1704999600@jaspercountyillinois.gov
SUMMARY:County Board Meeting
DESCRIPTION:
URL:https://jaspercountyillinois.gov/event/county-board-meeting-8/
LOCATION:County Office Building\, 204 W Washington St\, Newton\, IL\, 62448\, United States
CATEGORIES:Public Meetings
END:VEVENT
BEGIN:VEVENT
DTSTART;VALUE=DATE:20240108
DTEND;VALUE=DATE:20240109
DTSTAMP:20260423T123754
CREATED:20240628T212554Z
LAST-MODIFIED:20240701T160021Z
UID:10000097-1704672000-1704758399@jaspercountyillinois.gov
SUMMARY:Electric Committee Meeting
DESCRIPTION:
URL:https://jaspercountyillinois.gov/event/electric-committee-meeting-16/
LOCATION:IL
CATEGORIES:Committee Meetings
END:VEVENT
BEGIN:VEVENT
DTSTART;VALUE=DATE:20240108
DTEND;VALUE=DATE:20240109
DTSTAMP:20260423T123754
CREATED:20240701T200901Z
LAST-MODIFIED:20240701T200901Z
UID:10000181-1704672000-1704758399@jaspercountyillinois.gov
SUMMARY:Finance/Audit Committee Meeting
DESCRIPTION:
URL:https://jaspercountyillinois.gov/event/finance-audit-committee-meeting-7/
LOCATION:City Hall\, 108 N Van Buren St\, Newton\, IL\, 62448\, United States
CATEGORIES:Committee Meetings
END:VEVENT
BEGIN:VEVENT
DTSTART;TZID=America/Chicago:20240102T180000
DTEND;TZID=America/Chicago:20240102T193000
DTSTAMP:20260423T123754
CREATED:20240628T134432Z
LAST-MODIFIED:20240724T191613Z
UID:10000008-1704218400-1704223800@jaspercountyillinois.gov
SUMMARY:City Council Meeting
DESCRIPTION:Regularly scheduled Newton City Council meetings are held at 6:00 pm on the first and third Tuesday of each month. The City Council meetings and committee meetings are held at City Hall located at 108 N. Van Buren in Newton.
URL:https://jaspercountyillinois.gov/event/city-council-meeting/
LOCATION:City Hall\, 108 N Van Buren St\, Newton\, IL\, 62448\, United States
CATEGORIES:Public Meetings
END:VEVENT
END:VCALENDAR