BEGIN:VCALENDAR
VERSION:2.0
PRODID:-//City of Newton, IL | Jasper County, IL - ECPv6.15.0//NONSGML v1.0//EN
CALSCALE:GREGORIAN
METHOD:PUBLISH
X-WR-CALNAME:City of Newton, IL | Jasper County, IL
X-ORIGINAL-URL:https://jaspercountyillinois.gov
X-WR-CALDESC:Events for City of Newton, IL | Jasper County, IL
REFRESH-INTERVAL;VALUE=DURATION:PT1H
X-Robots-Tag:noindex
X-PUBLISHED-TTL:PT1H
BEGIN:VTIMEZONE
TZID:America/Chicago
BEGIN:DAYLIGHT
TZOFFSETFROM:-0600
TZOFFSETTO:-0500
TZNAME:CDT
DTSTART:20240310T080000
END:DAYLIGHT
BEGIN:STANDARD
TZOFFSETFROM:-0500
TZOFFSETTO:-0600
TZNAME:CST
DTSTART:20241103T070000
END:STANDARD
END:VTIMEZONE
BEGIN:VEVENT
DTSTART;TZID=America/Chicago:20240716T180000
DTEND;TZID=America/Chicago:20240716T193000
DTSTAMP:20260423T093011
CREATED:20240628T152551Z
LAST-MODIFIED:20240821T150457Z
UID:10000021-1721152800-1721158200@jaspercountyillinois.gov
SUMMARY:City Council Meeting
DESCRIPTION:Regularly scheduled Newton City Council meetings are held at 6:00 pm on the first and third Tuesday of each month. The City Council meetings and committee meetings are held at City Hall located at 108 N. Van Buren in Newton.
URL:https://jaspercountyillinois.gov/event/city-council-meeting-14/
LOCATION:City Hall\, 108 N Van Buren St\, Newton\, IL\, 62448\, United States
CATEGORIES:Public Meetings
END:VEVENT
BEGIN:VEVENT
DTSTART;TZID=America/Chicago:20240709T180000
DTEND;TZID=America/Chicago:20240709T190000
DTSTAMP:20260423T093011
CREATED:20240701T142022Z
LAST-MODIFIED:20240701T142022Z
UID:10000120-1720548000-1720551600@jaspercountyillinois.gov
SUMMARY:Water and Waste Water Committee Meeting
DESCRIPTION:
URL:https://jaspercountyillinois.gov/event/water-and-waste-water-committee-meeting-2/
LOCATION:IL
CATEGORIES:Committee Meetings
END:VEVENT
BEGIN:VEVENT
DTSTART;VALUE=DATE:20240709
DTEND;VALUE=DATE:20240710
DTSTAMP:20260423T093011
CREATED:20240628T154248Z
LAST-MODIFIED:20240628T154248Z
UID:10000034-1720483200-1720569599@jaspercountyillinois.gov
SUMMARY:Water and Wastewater Committee Meeting
DESCRIPTION:
URL:https://jaspercountyillinois.gov/event/water-and-wastewater-committee-meeting/
LOCATION:City Hall\, 108 N Van Buren St\, Newton\, IL\, 62448\, United States
CATEGORIES:Committee Meetings
END:VEVENT
BEGIN:VEVENT
DTSTART;VALUE=DATE:20240708
DTEND;VALUE=DATE:20240709
DTSTAMP:20260423T093011
CREATED:20240723T181101Z
LAST-MODIFIED:20240723T181101Z
UID:10000255-1720396800-1720483199@jaspercountyillinois.gov
SUMMARY:Real Estate Tax Bills Mailed
DESCRIPTION:
URL:https://jaspercountyillinois.gov/event/real-estate-tax-bills-mailed/
LOCATION:IL
END:VEVENT
BEGIN:VEVENT
DTSTART;VALUE=DATE:20240708
DTEND;VALUE=DATE:20240709
DTSTAMP:20260423T093011
CREATED:20240723T181045Z
LAST-MODIFIED:20240723T181045Z
UID:10000254-1720396800-1720483199@jaspercountyillinois.gov
SUMMARY:Mobile Home Tax Bills Mailed
DESCRIPTION:
URL:https://jaspercountyillinois.gov/event/mobile-home-tax-bills-mailed/
LOCATION:IL
END:VEVENT
BEGIN:VEVENT
DTSTART;TZID=America/Chicago:20240702T180000
DTEND;TZID=America/Chicago:20240702T193000
DTSTAMP:20260423T093011
CREATED:20240628T152523Z
LAST-MODIFIED:20240821T150307Z
UID:10000020-1719943200-1719948600@jaspercountyillinois.gov
SUMMARY:City Council Meeting
DESCRIPTION:Regularly scheduled Newton City Council meetings are held at 6:00 pm on the first and third Tuesday of each month. The City Council meetings and committee meetings are held at City Hall located at 108 N. Van Buren in Newton.
URL:https://jaspercountyillinois.gov/event/city-council-meeting-13/
LOCATION:City Hall\, 108 N Van Buren St\, Newton\, IL\, 62448\, United States
CATEGORIES:Public Meetings
END:VEVENT
BEGIN:VEVENT
DTSTART;TZID=America/Chicago:20240702T173000
DTEND;TZID=America/Chicago:20240702T183000
DTSTAMP:20260423T093012
CREATED:20240701T195157Z
LAST-MODIFIED:20240701T195157Z
UID:10000175-1719941400-1719945000@jaspercountyillinois.gov
SUMMARY:Finance/Audit Committee Meeting
DESCRIPTION:
URL:https://jaspercountyillinois.gov/event/finance-audit-committee-meeting/
LOCATION:City Hall\, 108 N Van Buren St\, Newton\, IL\, 62448\, United States
CATEGORIES:Committee Meetings
END:VEVENT
BEGIN:VEVENT
DTSTART;VALUE=DATE:20240702
DTEND;VALUE=DATE:20240703
DTSTAMP:20260423T093012
CREATED:20240628T154131Z
LAST-MODIFIED:20240628T154131Z
UID:10000033-1719878400-1719964799@jaspercountyillinois.gov
SUMMARY:Finance and Audit Committee Meeting
DESCRIPTION:
URL:https://jaspercountyillinois.gov/event/finance-and-audit-committee-meeting/
LOCATION:City Hall\, 108 N Van Buren St\, Newton\, IL\, 62448\, United States
CATEGORIES:Committee Meetings
END:VEVENT
BEGIN:VEVENT
DTSTART;TZID=America/Chicago:20240701T173000
DTEND;TZID=America/Chicago:20240701T200000
DTSTAMP:20260423T093012
CREATED:20240701T130652Z
LAST-MODIFIED:20240701T131243Z
UID:10000101-1719855000-1719864000@jaspercountyillinois.gov
SUMMARY:Electric Committee Meeting
DESCRIPTION:
URL:https://jaspercountyillinois.gov/event/electric-committee-meeting-20/
LOCATION:IL
CATEGORIES:Committee Meetings
END:VEVENT
BEGIN:VEVENT
DTSTART;TZID=America/Chicago:20240620T180000
DTEND;TZID=America/Chicago:20240620T190000
DTSTAMP:20260423T093012
CREATED:20240729T135712Z
LAST-MODIFIED:20240729T135712Z
UID:10000270-1718906400-1718910000@jaspercountyillinois.gov
SUMMARY:County Board Meeting
DESCRIPTION:
URL:https://jaspercountyillinois.gov/event/county-board-meeting-25/
LOCATION:County Office Building\, 204 W Washington St\, Newton\, IL\, 62448\, United States
CATEGORIES:Public Meetings
END:VEVENT
BEGIN:VEVENT
DTSTART;TZID=America/Chicago:20240618T180000
DTEND;TZID=America/Chicago:20240618T193000
DTSTAMP:20260423T093012
CREATED:20240628T152448Z
LAST-MODIFIED:20240724T190951Z
UID:10000019-1718733600-1718739000@jaspercountyillinois.gov
SUMMARY:City Council Meeting
DESCRIPTION:Regularly scheduled Newton City Council meetings are held at 6:00 pm on the first and third Tuesday of each month. The City Council meetings and committee meetings are held at City Hall located at 108 N. Van Buren in Newton.
URL:https://jaspercountyillinois.gov/event/city-council-meeting-12/
LOCATION:City Hall\, 108 N Van Buren St\, Newton\, IL\, 62448\, United States
CATEGORIES:Public Meetings
END:VEVENT
BEGIN:VEVENT
DTSTART;VALUE=DATE:20240612
DTEND;VALUE=DATE:20240613
DTSTAMP:20260423T093012
CREATED:20240628T181217Z
LAST-MODIFIED:20240701T153212Z
UID:10000061-1718150400-1718236799@jaspercountyillinois.gov
SUMMARY:Lights in the Park Committee Meeting
DESCRIPTION:
URL:https://jaspercountyillinois.gov/event/lights-in-the-park-committee-meeting-2/
LOCATION:IL
CATEGORIES:Committee Meetings
END:VEVENT
BEGIN:VEVENT
DTSTART;VALUE=DATE:20240611
DTEND;VALUE=DATE:20240612
DTSTAMP:20260423T093012
CREATED:20240701T195457Z
LAST-MODIFIED:20240701T195457Z
UID:10000176-1718064000-1718150399@jaspercountyillinois.gov
SUMMARY:Finance/Audit Committee Meeting
DESCRIPTION:
URL:https://jaspercountyillinois.gov/event/finance-audit-committee-meeting-2/
LOCATION:City Hall\, 108 N Van Buren St\, Newton\, IL\, 62448\, United States
CATEGORIES:Committee Meetings
END:VEVENT
BEGIN:VEVENT
DTSTART;VALUE=DATE:20240611
DTEND;VALUE=DATE:20240612
DTSTAMP:20260423T093012
CREATED:20240701T141923Z
LAST-MODIFIED:20240701T153224Z
UID:10000119-1718064000-1718150399@jaspercountyillinois.gov
SUMMARY:Water and Waste Water Committee Meeting
DESCRIPTION:
URL:https://jaspercountyillinois.gov/event/water-and-waste-water-committee-meeting/
LOCATION:IL
CATEGORIES:Committee Meetings
END:VEVENT
BEGIN:VEVENT
DTSTART;TZID=America/Chicago:20240604T180000
DTEND;TZID=America/Chicago:20240604T193000
DTSTAMP:20260423T093012
CREATED:20240628T152353Z
LAST-MODIFIED:20240724T191141Z
UID:10000018-1717524000-1717529400@jaspercountyillinois.gov
SUMMARY:City Council Meeting
DESCRIPTION:Regularly scheduled Newton City Council meetings are held at 6:00 pm on the first and third Tuesday of each month. The City Council meetings and committee meetings are held at City Hall located at 108 N. Van Buren in Newton.
URL:https://jaspercountyillinois.gov/event/city-council-meeting-11/
LOCATION:City Hall\, 108 N Van Buren St\, Newton\, IL\, 62448\, United States
CATEGORIES:Public Meetings
END:VEVENT
BEGIN:VEVENT
DTSTART;TZID=America/Chicago:20240603T173000
DTEND;TZID=America/Chicago:20240603T190000
DTSTAMP:20260423T093012
CREATED:20240819T153014Z
LAST-MODIFIED:20240819T153014Z
UID:10000286-1717435800-1717441200@jaspercountyillinois.gov
SUMMARY:Board of Health Meeting
DESCRIPTION:
URL:https://jaspercountyillinois.gov/event/board-of-health-meeting-4/
LOCATION:Jasper County Health Department\, 106 Edwards Street\, Newton\, IL\, 62448\, United States
CATEGORIES:Public Meetings
END:VEVENT
BEGIN:VEVENT
DTSTART;VALUE=DATE:20240529
DTEND;VALUE=DATE:20240530
DTSTAMP:20260423T093012
CREATED:20240628T200314Z
LAST-MODIFIED:20240701T153236Z
UID:10000082-1716940800-1717027199@jaspercountyillinois.gov
SUMMARY:Building and Grounds Committee Meeting
DESCRIPTION:
URL:https://jaspercountyillinois.gov/event/building-and-grounds-committee-meeting-7/
LOCATION:IL
CATEGORIES:Committee Meetings
END:VEVENT
BEGIN:VEVENT
DTSTART;VALUE=DATE:20240522
DTEND;VALUE=DATE:20240523
DTSTAMP:20260423T093012
CREATED:20240701T142348Z
LAST-MODIFIED:20240701T153246Z
UID:10000121-1716336000-1716422399@jaspercountyillinois.gov
SUMMARY:Water and Waste Water Committee Meeting
DESCRIPTION:
URL:https://jaspercountyillinois.gov/event/water-and-waste-water-committee-meeting-3/
LOCATION:IL
CATEGORIES:Committee Meetings
END:VEVENT
BEGIN:VEVENT
DTSTART;TZID=America/Chicago:20240521T180000
DTEND;TZID=America/Chicago:20240521T193000
DTSTAMP:20260423T093012
CREATED:20240628T152241Z
LAST-MODIFIED:20240724T191210Z
UID:10000017-1716314400-1716319800@jaspercountyillinois.gov
SUMMARY:City Council Meeting
DESCRIPTION:Regularly scheduled Newton City Council meetings are held at 6:00 pm on the first and third Tuesday of each month. The City Council meetings and committee meetings are held at City Hall located at 108 N. Van Buren in Newton.
URL:https://jaspercountyillinois.gov/event/city-council-meeting-10/
LOCATION:City Hall\, 108 N Van Buren St\, Newton\, IL\, 62448\, United States
CATEGORIES:Public Meetings
END:VEVENT
BEGIN:VEVENT
DTSTART;VALUE=DATE:20240521
DTEND;VALUE=DATE:20240522
DTSTAMP:20260423T093012
CREATED:20240701T195615Z
LAST-MODIFIED:20240701T195615Z
UID:10000177-1716249600-1716335999@jaspercountyillinois.gov
SUMMARY:Finance/Audit Committee Meeting
DESCRIPTION:
URL:https://jaspercountyillinois.gov/event/finance-audit-committee-meeting-3/
LOCATION:City Hall\, 108 N Van Buren St\, Newton\, IL\, 62448\, United States
CATEGORIES:Committee Meetings
END:VEVENT
BEGIN:VEVENT
DTSTART;TZID=America/Chicago:20240516T180000
DTEND;TZID=America/Chicago:20240516T190000
DTSTAMP:20260423T093012
CREATED:20240729T135234Z
LAST-MODIFIED:20240729T135234Z
UID:10000269-1715882400-1715886000@jaspercountyillinois.gov
SUMMARY:County Board Meeting
DESCRIPTION:
URL:https://jaspercountyillinois.gov/event/county-board-meeting-24/
LOCATION:County Office Building\, 204 W Washington St\, Newton\, IL\, 62448\, United States
CATEGORIES:Public Meetings
END:VEVENT
BEGIN:VEVENT
DTSTART;TZID=America/Chicago:20240507T180000
DTEND;TZID=America/Chicago:20240507T193000
DTSTAMP:20260423T093012
CREATED:20240628T152143Z
LAST-MODIFIED:20240724T191224Z
UID:10000016-1715104800-1715110200@jaspercountyillinois.gov
SUMMARY:City Council Meeting
DESCRIPTION:Regularly scheduled Newton City Council meetings are held at 6:00 pm on the first and third Tuesday of each month. The City Council meetings and committee meetings are held at City Hall located at 108 N. Van Buren in Newton.
URL:https://jaspercountyillinois.gov/event/city-council-meeting-9/
LOCATION:City Hall\, 108 N Van Buren St\, Newton\, IL\, 62448\, United States
CATEGORIES:Public Meetings
END:VEVENT
BEGIN:VEVENT
DTSTART;VALUE=DATE:20240506
DTEND;VALUE=DATE:20240507
DTSTAMP:20260423T093012
CREATED:20240701T142614Z
LAST-MODIFIED:20240701T153351Z
UID:10000122-1714953600-1715039999@jaspercountyillinois.gov
SUMMARY:Water and Waste Water Committee Meeting
DESCRIPTION:
URL:https://jaspercountyillinois.gov/event/water-and-waste-water-committee-meeting-4/
LOCATION:IL
CATEGORIES:Committee Meetings
END:VEVENT
BEGIN:VEVENT
DTSTART;VALUE=DATE:20240429
DTEND;VALUE=DATE:20240430
DTSTAMP:20260423T093012
CREATED:20240701T130618Z
LAST-MODIFIED:20240701T153400Z
UID:10000100-1714348800-1714435199@jaspercountyillinois.gov
SUMMARY:Electric Committee Meeting
DESCRIPTION:
URL:https://jaspercountyillinois.gov/event/electric-committee-meeting-19/
LOCATION:IL
CATEGORIES:Committee Meetings
END:VEVENT
BEGIN:VEVENT
DTSTART;TZID=America/Chicago:20240418T180000
DTEND;TZID=America/Chicago:20240418T190000
DTSTAMP:20260423T093012
CREATED:20240729T134902Z
LAST-MODIFIED:20240729T134902Z
UID:10000268-1713463200-1713466800@jaspercountyillinois.gov
SUMMARY:County Board Meeting
DESCRIPTION:
URL:https://jaspercountyillinois.gov/event/county-board-meeting-23/
LOCATION:County Office Building\, 204 W Washington St\, Newton\, IL\, 62448\, United States
CATEGORIES:Public Meetings
END:VEVENT
BEGIN:VEVENT
DTSTART;TZID=America/Chicago:20240416T180000
DTEND;TZID=America/Chicago:20240416T193000
DTSTAMP:20260423T093012
CREATED:20240628T151758Z
LAST-MODIFIED:20240724T191238Z
UID:10000015-1713290400-1713295800@jaspercountyillinois.gov
SUMMARY:City Council Meeting
DESCRIPTION:Regularly scheduled Newton City Council meetings are held at 6:00 pm on the first and third Tuesday of each month. The City Council meetings and committee meetings are held at City Hall located at 108 N. Van Buren in Newton.
URL:https://jaspercountyillinois.gov/event/city-council-meeting-8/
LOCATION:City Hall\, 108 N Van Buren St\, Newton\, IL\, 62448\, United States
CATEGORIES:Public Meetings
END:VEVENT
BEGIN:VEVENT
DTSTART;VALUE=DATE:20240410
DTEND;VALUE=DATE:20240411
DTSTAMP:20260423T093012
CREATED:20240701T200323Z
LAST-MODIFIED:20240701T200323Z
UID:10000178-1712707200-1712793599@jaspercountyillinois.gov
SUMMARY:Finance/Audit Committee Meeting
DESCRIPTION:
URL:https://jaspercountyillinois.gov/event/finance-audit-committee-meeting-4/
LOCATION:City Hall\, 108 N Van Buren St\, Newton\, IL\, 62448\, United States
CATEGORIES:Committee Meetings
END:VEVENT
BEGIN:VEVENT
DTSTART;TZID=America/Chicago:20240402T180000
DTEND;TZID=America/Chicago:20240402T193000
DTSTAMP:20260423T093012
CREATED:20240628T151638Z
LAST-MODIFIED:20240724T191306Z
UID:10000014-1712080800-1712086200@jaspercountyillinois.gov
SUMMARY:City Council Meeting
DESCRIPTION:Regularly scheduled Newton City Council meetings are held at 6:00 pm on the first and third Tuesday of each month. The City Council meetings and committee meetings are held at City Hall located at 108 N. Van Buren in Newton.
URL:https://jaspercountyillinois.gov/event/city-council-meeting-7/
LOCATION:City Hall\, 108 N Van Buren St\, Newton\, IL\, 62448\, United States
CATEGORIES:Public Meetings
END:VEVENT
BEGIN:VEVENT
DTSTART;VALUE=DATE:20240326
DTEND;VALUE=DATE:20240327
DTSTAMP:20260423T093012
CREATED:20240701T180508Z
LAST-MODIFIED:20240701T180508Z
UID:10000146-1711411200-1711497599@jaspercountyillinois.gov
SUMMARY:Street and Alley Committee Meeting
DESCRIPTION:
URL:https://jaspercountyillinois.gov/event/street-and-alley-committee-meeting/
LOCATION:IL
CATEGORIES:Committee Meetings
END:VEVENT
BEGIN:VEVENT
DTSTART;VALUE=DATE:20240326
DTEND;VALUE=DATE:20240327
DTSTAMP:20260423T093012
CREATED:20240701T153033Z
LAST-MODIFIED:20240701T153507Z
UID:10000123-1711411200-1711497599@jaspercountyillinois.gov
SUMMARY:Water and Waste Water Committee Meeting
DESCRIPTION:
URL:https://jaspercountyillinois.gov/event/water-and-waste-water-committee-meeting-5/
LOCATION:IL
CATEGORIES:Committee Meetings
END:VEVENT
END:VCALENDAR