BEGIN:VCALENDAR
VERSION:2.0
PRODID:-//City of Newton, IL | Jasper County, IL - ECPv6.15.0//NONSGML v1.0//EN
CALSCALE:GREGORIAN
METHOD:PUBLISH
X-ORIGINAL-URL:https://jaspercountyillinois.gov
X-WR-CALDESC:Events for City of Newton, IL | Jasper County, IL
REFRESH-INTERVAL;VALUE=DURATION:PT1H
X-Robots-Tag:noindex
X-PUBLISHED-TTL:PT1H
BEGIN:VTIMEZONE
TZID:America/Chicago
BEGIN:DAYLIGHT
TZOFFSETFROM:-0600
TZOFFSETTO:-0500
TZNAME:CDT
DTSTART:20240310T080000
END:DAYLIGHT
BEGIN:STANDARD
TZOFFSETFROM:-0500
TZOFFSETTO:-0600
TZNAME:CST
DTSTART:20241103T070000
END:STANDARD
END:VTIMEZONE
BEGIN:VEVENT
DTSTART;TZID=America/Chicago:20241121T180000
DTEND;TZID=America/Chicago:20241121T193000
DTSTAMP:20260423T015130
CREATED:20240709T151207Z
LAST-MODIFIED:20241205T201524Z
UID:10000231-1732212000-1732217400@jaspercountyillinois.gov
SUMMARY:County Board Meeting
DESCRIPTION:
URL:https://jaspercountyillinois.gov/event/county-board-meeting-5/
LOCATION:County Office Building\, 204 W Washington St\, Newton\, IL\, 62448\, United States
CATEGORIES:Public Meetings
END:VEVENT
BEGIN:VEVENT
DTSTART;TZID=America/Chicago:20241119T180000
DTEND;TZID=America/Chicago:20241119T193000
DTSTAMP:20260423T015130
CREATED:20240628T152825Z
LAST-MODIFIED:20241210T172715Z
UID:10000029-1732039200-1732044600@jaspercountyillinois.gov
SUMMARY:City Council Meeting
DESCRIPTION:Regularly scheduled Newton City Council meetings are held at 6:00 pm on the first and third Tuesday of each month. The City Council meetings and committee meetings are held at City Hall located at 108 N. Van Buren in Newton.
URL:https://jaspercountyillinois.gov/event/city-council-meeting-22/
LOCATION:City Hall\, 108 N Van Buren St\, Newton\, IL\, 62448\, United States
CATEGORIES:Public Meetings
END:VEVENT
BEGIN:VEVENT
DTSTART;TZID=America/Chicago:20241119T173000
DTEND;TZID=America/Chicago:20241119T180000
DTSTAMP:20260423T015130
CREATED:20241023T184015Z
LAST-MODIFIED:20241023T184015Z
UID:10000314-1732037400-1732039200@jaspercountyillinois.gov
SUMMARY:Public Hearing to Vacate Alley
DESCRIPTION:
URL:https://jaspercountyillinois.gov/event/public-hearing-to-vacate-alley-2/
LOCATION:City Hall\, 108 N Van Buren St\, Newton\, IL\, 62448\, United States
END:VEVENT
BEGIN:VEVENT
DTSTART;TZID=America/Chicago:20241118T180000
DTEND;TZID=America/Chicago:20241118T190000
DTSTAMP:20260423T015130
CREATED:20241114T220122Z
LAST-MODIFIED:20241119T193706Z
UID:10000320-1731952800-1731956400@jaspercountyillinois.gov
SUMMARY:Finance and Audit Committee Meeting
DESCRIPTION:There will be a Finance/Audit Committee Meeting Monday\, November 18\, 2024 at 6:00 PM in the Council Room at Newton City Hall located at 108 N. Van Buren St.\, Newton\, Illinois.
URL:https://jaspercountyillinois.gov/event/finance-and-audit-committee-meeting-5/
LOCATION:City Hall\, 108 N Van Buren St\, Newton\, IL\, 62448\, United States
CATEGORIES:Committee Meetings
END:VEVENT
BEGIN:VEVENT
DTSTART;TZID=America/Chicago:20241112T180000
DTEND;TZID=America/Chicago:20241112T190000
DTSTAMP:20260423T015130
CREATED:20241106T211044Z
LAST-MODIFIED:20241119T225142Z
UID:10000319-1731434400-1731438000@jaspercountyillinois.gov
SUMMARY:Police and Building Permit Committee Meeting
DESCRIPTION:There will be a meeting of the Police and Building Permit Committee on Tuesday\, November 12\, 2024 at 6:00 PM in the council room of Newton City Hall at 108 N Van Buren\, Newton\, Illinois.
URL:https://jaspercountyillinois.gov/event/police-and-building-permit-committee-meeting-4/
LOCATION:City Hall\, 108 N Van Buren St\, Newton\, IL\, 62448\, United States
CATEGORIES:Committee Meetings
END:VEVENT
BEGIN:VEVENT
DTSTART;TZID=America/Chicago:20241111T080000
DTEND;TZID=America/Chicago:20241111T170000
DTSTAMP:20260423T015130
CREATED:20241106T203254Z
LAST-MODIFIED:20241106T203254Z
UID:10000318-1731312000-1731344400@jaspercountyillinois.gov
SUMMARY:City Offices Closed Due to Observance of Veteran's Day
DESCRIPTION:The City of Newton offices will be closed Monday\, November 11\, 2024 in Observance of Veteran’s Day.  Thank you for your service!
URL:https://jaspercountyillinois.gov/event/city-offices-closed-due-to-observance-of-veterans-day/
LOCATION:City Hall\, 108 N Van Buren St\, Newton\, IL\, 62448\, United States
END:VEVENT
BEGIN:VEVENT
DTSTART;VALUE=DATE:20241111
DTEND;VALUE=DATE:20241112
DTSTAMP:20260423T015130
CREATED:20240718T184509Z
LAST-MODIFIED:20250211T200235Z
UID:10000235-1731283200-1731369599@jaspercountyillinois.gov
SUMMARY:County Offices Closed due to observance of Veterans Day
DESCRIPTION:
URL:https://jaspercountyillinois.gov/event/office-closed-due-to-observance-of-veterans-day/
LOCATION:IL
END:VEVENT
BEGIN:VEVENT
DTSTART;TZID=America/Chicago:20241108T100000
DTEND;TZID=America/Chicago:20241108T110000
DTSTAMP:20260423T015130
CREATED:20241025T135403Z
LAST-MODIFIED:20241108T184019Z
UID:10000317-1731060000-1731063600@jaspercountyillinois.gov
SUMMARY:Joint Review Board Meeting
DESCRIPTION:
URL:https://jaspercountyillinois.gov/event/joint-review-board-meeting/
LOCATION:City Hall\, 108 N Van Buren St\, Newton\, IL\, 62448\, United States
CATEGORIES:Committee Meetings
END:VEVENT
BEGIN:VEVENT
DTSTART;TZID=America/Chicago:20241105T180000
DTEND;TZID=America/Chicago:20241105T193000
DTSTAMP:20260423T015130
CREATED:20240628T152811Z
LAST-MODIFIED:20241120T201329Z
UID:10000028-1730829600-1730835000@jaspercountyillinois.gov
SUMMARY:City Council Meeting
DESCRIPTION:Regularly scheduled Newton City Council meetings are held at 6:00 pm on the first and third Tuesday of each month. The City Council meetings and committee meetings are held at City Hall located at 108 N. Van Buren in Newton.
URL:https://jaspercountyillinois.gov/event/city-council-meeting-21/
LOCATION:City Hall\, 108 N Van Buren St\, Newton\, IL\, 62448\, United States
CATEGORIES:Public Meetings
END:VEVENT
BEGIN:VEVENT
DTSTART;TZID=America/Chicago:20241105T173000
DTEND;TZID=America/Chicago:20241105T180000
DTSTAMP:20260423T015130
CREATED:20241003T165205Z
LAST-MODIFIED:20241003T170444Z
UID:10000305-1730827800-1730829600@jaspercountyillinois.gov
SUMMARY:Public Hearing to Vacate Alley
DESCRIPTION:
URL:https://jaspercountyillinois.gov/event/public-hearing-to-vacate-alley/
LOCATION:City Hall\, 108 N Van Buren St\, Newton\, IL\, 62448\, United States
CATEGORIES:Public Meetings
END:VEVENT
BEGIN:VEVENT
DTSTART;TZID=America/Chicago:20241101T110000
DTEND;TZID=America/Chicago:20241101T130000
DTSTAMP:20260423T015130
CREATED:20240723T181334Z
LAST-MODIFIED:20240723T181334Z
UID:10000264-1730458800-1730466000@jaspercountyillinois.gov
SUMMARY:Annual Auction of Delinquent Taxes
DESCRIPTION:
URL:https://jaspercountyillinois.gov/event/annual-auction-of-delinquent-taxes/
LOCATION:IL
END:VEVENT
BEGIN:VEVENT
DTSTART;TZID=America/Chicago:20241030T180000
DTEND;TZID=America/Chicago:20241030T200000
DTSTAMP:20260423T015130
CREATED:20241009T222236Z
LAST-MODIFIED:20241031T162705Z
UID:10000307-1730311200-1730318400@jaspercountyillinois.gov
SUMMARY:City Insurance Committee Meeting
DESCRIPTION:There will be a City Insurance Committee Meeting on Wednesday\, October 30\, 2024 at 6:00 PM at City Hall\, 108 N Van Buren\, Newton\, Illinois.
URL:https://jaspercountyillinois.gov/event/city-insurance-committee-meeting/
LOCATION:City Hall\, 108 N Van Buren St\, Newton\, IL\, 62448\, United States
CATEGORIES:Committee Meetings,Public Meetings
END:VEVENT
BEGIN:VEVENT
DTSTART;TZID=America/Chicago:20241030T180000
DTEND;TZID=America/Chicago:20241030T190000
DTSTAMP:20260423T015130
CREATED:20241023T184353Z
LAST-MODIFIED:20241031T162827Z
UID:10000315-1730311200-1730314800@jaspercountyillinois.gov
SUMMARY:Electric Committee Meeting
DESCRIPTION:There will be a meeting of the Electric Committee on Wednesday\, October 30\, 2024 immediately following the City Insurance Committee Meeting in the City Council Room at Newton City Hall located at 108 N. Van Buren St.\, Newton\, Illinois. \n 
URL:https://jaspercountyillinois.gov/event/electric-committee-meeting-21/
LOCATION:City Hall\, 108 N Van Buren St\, Newton\, IL\, 62448\, United States
CATEGORIES:Committee Meetings
END:VEVENT
BEGIN:VEVENT
DTSTART;TZID=America/Chicago:20241028T180000
DTEND;TZID=America/Chicago:20241028T190000
DTSTAMP:20260423T015130
CREATED:20241023T203141Z
LAST-MODIFIED:20241023T203536Z
UID:10000316-1730138400-1730142000@jaspercountyillinois.gov
SUMMARY:Finance and Audit Committee Meeting
DESCRIPTION:There will be a Finance/Audit Committee Meeting Monday\, October 28\, 2024 at 6:00 PM in the Council Room at Newton City Hall located at 108 N. Van Buren St.\, Newton\, Illinois.
URL:https://jaspercountyillinois.gov/event/finance-and-audit-committee-meeting-4/
LOCATION:City Hall\, 108 N Van Buren St\, Newton\, IL\, 62448\, United States
CATEGORIES:Committee Meetings
END:VEVENT
BEGIN:VEVENT
DTSTART;TZID=America/Chicago:20241024T180000
DTEND;TZID=America/Chicago:20241024T190000
DTSTAMP:20260423T015130
CREATED:20241016T141322Z
LAST-MODIFIED:20241031T194613Z
UID:10000310-1729792800-1729796400@jaspercountyillinois.gov
SUMMARY:Police and Building Permit Committee Meeting
DESCRIPTION:There will be a meeting of the Police and Building Permit Committee on Thursday\, October 24\, 2024 at 6:00 PM in the council room of Newton City Hall at 108 N Van Buren\, Newton\, Illinois. \n 
URL:https://jaspercountyillinois.gov/event/police-and-building-permit-committee-meeting-3/
LOCATION:City Hall\, 108 N Van Buren St\, Newton\, IL\, 62448\, United States
CATEGORIES:Committee Meetings
END:VEVENT
BEGIN:VEVENT
DTSTART;TZID=America/Chicago:20241024T163000
DTEND;TZID=America/Chicago:20241024T173000
DTSTAMP:20260423T015130
CREATED:20241022T191943Z
LAST-MODIFIED:20250122T205439Z
UID:10000313-1729787400-1729791000@jaspercountyillinois.gov
SUMMARY:County Courthouse Design Committee
DESCRIPTION:
URL:https://jaspercountyillinois.gov/event/courthousedesigncommittee/
LOCATION:County Office Building\, 204 W Washington St\, Newton\, IL\, 62448\, United States
CATEGORIES:Public Meetings
END:VEVENT
BEGIN:VEVENT
DTSTART;TZID=America/Chicago:20241023T180000
DTEND;TZID=America/Chicago:20241023T190000
DTSTAMP:20260423T015130
CREATED:20241016T140856Z
LAST-MODIFIED:20241031T194433Z
UID:10000309-1729706400-1729710000@jaspercountyillinois.gov
SUMMARY:Police and Building Permit Committee Meeting
DESCRIPTION:There will be a meeting of the Police and Building Permit Committee on Wednesday\, October 23\, 2024 at 6:00 PM in the council room of Newton City Hall at 108 N Van Buren\, Newton\, Illinois. \n 
URL:https://jaspercountyillinois.gov/event/police-and-building-permit-committee-meeting-2/
LOCATION:City Hall\, 108 N Van Buren St\, Newton\, IL\, 62448\, United States
CATEGORIES:Committee Meetings
END:VEVENT
BEGIN:VEVENT
DTSTART;TZID=America/Chicago:20241017T180000
DTEND;TZID=America/Chicago:20241017T190000
DTSTAMP:20260423T015130
CREATED:20240709T151121Z
LAST-MODIFIED:20241018T165829Z
UID:10000230-1729188000-1729191600@jaspercountyillinois.gov
SUMMARY:County Board Meeting
DESCRIPTION:
URL:https://jaspercountyillinois.gov/event/county-board-meeting-4/
LOCATION:County Office Building\, 204 W Washington St\, Newton\, IL\, 62448\, United States
CATEGORIES:Public Meetings
END:VEVENT
BEGIN:VEVENT
DTSTART;TZID=America/Chicago:20241016T180000
DTEND;TZID=America/Chicago:20241016T200000
DTSTAMP:20260423T015130
CREATED:20241009T221824Z
LAST-MODIFIED:20241017T145444Z
UID:10000306-1729101600-1729108800@jaspercountyillinois.gov
SUMMARY:Personnel Committee Meeting
DESCRIPTION:There will be a Personnel Committee Meeting Wednesday\, October 16\, 2024 at 6 PM in the council room at Newton City Hall\, 108 N Van Buren\, Newton\, IL
URL:https://jaspercountyillinois.gov/event/personnel-committee-meeting-18/
LOCATION:City Hall\, 108 N Van Buren St\, Newton\, IL\, 62448\, United States
CATEGORIES:Committee Meetings,Public Meetings
END:VEVENT
BEGIN:VEVENT
DTSTART;TZID=America/Chicago:20241015T180000
DTEND;TZID=America/Chicago:20241015T193000
DTSTAMP:20260423T015130
CREATED:20240628T152755Z
LAST-MODIFIED:20241108T204510Z
UID:10000027-1729015200-1729020600@jaspercountyillinois.gov
SUMMARY:City Council Meeting
DESCRIPTION:Regularly scheduled Newton City Council meetings are held at 6:00 pm on the first and third Tuesday of each month. The City Council meetings and committee meetings are held at City Hall located at 108 N. Van Buren in Newton.
URL:https://jaspercountyillinois.gov/event/city-council-meeting-20/
LOCATION:City Hall\, 108 N Van Buren St\, Newton\, IL\, 62448\, United States
CATEGORIES:Public Meetings
END:VEVENT
BEGIN:VEVENT
DTSTART;VALUE=DATE:20241014
DTEND;VALUE=DATE:20241015
DTSTAMP:20260423T015130
CREATED:20240718T184404Z
LAST-MODIFIED:20240730T204102Z
UID:10000234-1728864000-1728950399@jaspercountyillinois.gov
SUMMARY:County Offices Closed due to observance of Columbus Day
DESCRIPTION:
URL:https://jaspercountyillinois.gov/event/office-closed-due-to-observance-of-columbus-day/
LOCATION:IL
END:VEVENT
BEGIN:VEVENT
DTSTART;VALUE=DATE:20241010
DTEND;VALUE=DATE:20241011
DTSTAMP:20260423T015130
CREATED:20240723T181307Z
LAST-MODIFIED:20240723T181307Z
UID:10000263-1728518400-1728604799@jaspercountyillinois.gov
SUMMARY:Publication of Delinquent Taxes in Hometown Register
DESCRIPTION:
URL:https://jaspercountyillinois.gov/event/publication-of-delinquent-taxes-in-hometown-register/
LOCATION:IL
END:VEVENT
BEGIN:VEVENT
DTSTART;TZID=America/Chicago:20241008T180000
DTEND;TZID=America/Chicago:20241008T190000
DTSTAMP:20260423T015130
CREATED:20240926T204016Z
LAST-MODIFIED:20241016T194631Z
UID:10000303-1728410400-1728414000@jaspercountyillinois.gov
SUMMARY:Finance and Audit Committee Meeting
DESCRIPTION:There will be a Finance/Audit Committee Meeting Tuesday\, October 8\, 2024 at 6:00 PM in the Council Room at Newton City Hall located at 108 N. Van Buren St.\, Newton\, Illinois.
URL:https://jaspercountyillinois.gov/event/finance-and-audit-committee-meeting-3/
LOCATION:City Hall\, 108 N Van Buren St\, Newton\, IL\, 62448\, United States
CATEGORIES:Committee Meetings
END:VEVENT
BEGIN:VEVENT
DTSTART;TZID=America/Chicago:20241008T173000
DTEND;TZID=America/Chicago:20241008T180000
DTSTAMP:20260423T015130
CREATED:20241002T144024Z
LAST-MODIFIED:20241022T191119Z
UID:10000304-1728408600-1728410400@jaspercountyillinois.gov
SUMMARY:Personnel Committee Meeting
DESCRIPTION:There will be a meeting of the Personnel Committee on Tuesday\, October 8\, 2024 at 5:30 PM in the council room of Newton City Hall at 108 N Van Buren St\, Newton\, IL.
URL:https://jaspercountyillinois.gov/event/personnel-committee-meeting-17/
LOCATION:City Hall\, 108 N Van Buren St\, Newton\, IL\, 62448\, United States
END:VEVENT
BEGIN:VEVENT
DTSTART;TZID=America/Chicago:20241003T170000
DTEND;TZID=America/Chicago:20241003T210000
DTSTAMP:20260423T015130
CREATED:20240920T220001Z
LAST-MODIFIED:20241004T170737Z
UID:10000299-1727974800-1727989200@jaspercountyillinois.gov
SUMMARY:Special County Board Meeting
DESCRIPTION:Special Meeting Topic: Management of the Jasper County Ambulance Service \nUpon calling the meeting to order and allowing for Public Comments\, the County Board will adjourn to an executive/closed session [Discussion of Personnel 5 ILCS 120/2(c)(1)].  The County Board will not resume open session until at least 7:30 p.m.  Individuals in attendance will be asked to leave the County Board room and wait at the south end of the County Building or outside the County Building.  Any individuals in attendance via Zoom will be in a waiting room until the open session resumes.  The open session of the meeting will be recorded and made available on the county’s website following the meeting.
URL:https://jaspercountyillinois.gov/event/special-county-board-meeting/
LOCATION:County Office Building\, 204 W Washington St\, Newton\, IL\, 62448\, United States
CATEGORIES:Public Meetings
END:VEVENT
BEGIN:VEVENT
DTSTART;TZID=America/Chicago:20241002T180000
DTEND;TZID=America/Chicago:20241002T190000
DTSTAMP:20260423T015130
CREATED:20240926T202925Z
LAST-MODIFIED:20241022T190914Z
UID:10000302-1727892000-1727895600@jaspercountyillinois.gov
SUMMARY:Police and Building Permit Committee Meeting
DESCRIPTION:There will be a meeting of the Police and Building Permit Committee on Wednesday\, October 2\, 2024 at 6:00 PM in the council room of Newton City Hall at 108 N Van Buren\, Newton\, Illinois.
URL:https://jaspercountyillinois.gov/event/police-and-building-permit-committee-meeting/
LOCATION:City Hall\, 108 N Van Buren St\, Newton\, IL\, 62448\, United States
CATEGORIES:Committee Meetings
END:VEVENT
BEGIN:VEVENT
DTSTART;TZID=America/Chicago:20241001T180000
DTEND;TZID=America/Chicago:20241001T193000
DTSTAMP:20260423T015130
CREATED:20240628T152741Z
LAST-MODIFIED:20241016T234815Z
UID:10000026-1727805600-1727811000@jaspercountyillinois.gov
SUMMARY:City Council Meeting
DESCRIPTION:Regularly scheduled Newton City Council meetings are held at 6:00 pm on the first and third Tuesday of each month. The City Council meetings and committee meetings are held at City Hall located at 108 N. Van Buren in Newton.
URL:https://jaspercountyillinois.gov/event/city-council-meeting-19/
LOCATION:City Hall\, 108 N Van Buren St\, Newton\, IL\, 62448\, United States
CATEGORIES:Public Meetings
END:VEVENT
BEGIN:VEVENT
DTSTART;TZID=America/Chicago:20241001T173000
DTEND;TZID=America/Chicago:20241001T180000
DTSTAMP:20260423T015130
CREATED:20240926T202714Z
LAST-MODIFIED:20241003T143336Z
UID:10000301-1727803800-1727805600@jaspercountyillinois.gov
SUMMARY:Finance and Audit Committee Meeting
DESCRIPTION:There will be a Finance/Audit Committee Meeting Tuesday\, October 1\, 2024 immediately following the Street and Alley Committee Meeting in the Council Room at Newton City Hall located at 108 N. Van Buren St.\, Newton\, Illinois. \n 
URL:https://jaspercountyillinois.gov/event/finance-and-audit-committee-meeting-2/
LOCATION:City Hall\, 108 N Van Buren St\, Newton\, IL\, 62448\, United States
CATEGORIES:Committee Meetings
END:VEVENT
BEGIN:VEVENT
DTSTART;TZID=America/Chicago:20241001T173000
DTEND;TZID=America/Chicago:20241001T180000
DTSTAMP:20260423T015130
CREATED:20240926T202514Z
LAST-MODIFIED:20241003T142743Z
UID:10000300-1727803800-1727805600@jaspercountyillinois.gov
SUMMARY:Street and Alley Committee Meeting
DESCRIPTION:There will be a Street and Alley Committee Meeting on Tuesday\, October 1\, 2024 at 5:30 PM in the council room of Newton City Hall at 108 N. Van Buren\, Newton\, Illinois.
URL:https://jaspercountyillinois.gov/event/street-and-alley-committee-meeting-12/
LOCATION:City Hall\, 108 N Van Buren St\, Newton\, IL\, 62448\, United States
CATEGORIES:Committee Meetings
END:VEVENT
BEGIN:VEVENT
DTSTART;VALUE=DATE:20240930
DTEND;VALUE=DATE:20241001
DTSTAMP:20260423T015130
CREATED:20240723T181253Z
LAST-MODIFIED:20240723T181253Z
UID:10000262-1727654400-1727740799@jaspercountyillinois.gov
SUMMARY:Final Payment Day Before Publication of Delinquent Taxes
DESCRIPTION:
URL:https://jaspercountyillinois.gov/event/final-payment-day-before-publication-of-delinquent-taxes/
LOCATION:IL
END:VEVENT
END:VCALENDAR