BEGIN:VCALENDAR
VERSION:2.0
PRODID:-//City of Newton, IL | Jasper County, IL - ECPv6.15.0//NONSGML v1.0//EN
CALSCALE:GREGORIAN
METHOD:PUBLISH
X-WR-CALNAME:City of Newton, IL | Jasper County, IL
X-ORIGINAL-URL:https://jaspercountyillinois.gov
X-WR-CALDESC:Events for City of Newton, IL | Jasper County, IL
REFRESH-INTERVAL;VALUE=DURATION:PT1H
X-Robots-Tag:noindex
X-PUBLISHED-TTL:PT1H
BEGIN:VTIMEZONE
TZID:America/Chicago
BEGIN:DAYLIGHT
TZOFFSETFROM:-0600
TZOFFSETTO:-0500
TZNAME:CDT
DTSTART:20230312T080000
END:DAYLIGHT
BEGIN:STANDARD
TZOFFSETFROM:-0500
TZOFFSETTO:-0600
TZNAME:CST
DTSTART:20231105T070000
END:STANDARD
END:VTIMEZONE
BEGIN:VEVENT
DTSTART;TZID=America/Chicago:20230418T180000
DTEND;TZID=America/Chicago:20230418T193000
DTSTAMP:20260422T083409
CREATED:20240628T162741Z
LAST-MODIFIED:20240724T190303Z
UID:10000047-1681840800-1681846200@jaspercountyillinois.gov
SUMMARY:City Council Meeting
DESCRIPTION:Regularly scheduled Newton City Council meetings are held at 6:00 pm on the first and third Tuesday of each month. The City Council meetings and committee meetings are held at City Hall located at 108 N. Van Buren in Newton.
URL:https://jaspercountyillinois.gov/event/city-council-meeting-37/
LOCATION:City Hall\, 108 N Van Buren St\, Newton\, IL\, 62448\, United States
CATEGORIES:Public Meetings
END:VEVENT
BEGIN:VEVENT
DTSTART;TZID=America/Chicago:20230404T180000
DTEND;TZID=America/Chicago:20230404T193000
DTSTAMP:20260422T083409
CREATED:20240628T162534Z
LAST-MODIFIED:20240729T133456Z
UID:10000046-1680631200-1680636600@jaspercountyillinois.gov
SUMMARY:City Council Meeting
DESCRIPTION:Regularly scheduled Newton City Council meetings are held at 6:00 pm on the first and third Tuesday of each month. The City Council meetings and committee meetings are held at City Hall located at 108 N. Van Buren in Newton.
URL:https://jaspercountyillinois.gov/event/city-council-meeting-36/
LOCATION:City Hall\, 108 N Van Buren St\, Newton\, IL\, 62448\, United States
CATEGORIES:Public Meetings
END:VEVENT
BEGIN:VEVENT
DTSTART;TZID=America/Chicago:20230321T180000
DTEND;TZID=America/Chicago:20230321T193000
DTSTAMP:20260422T083409
CREATED:20240628T162014Z
LAST-MODIFIED:20240724T190336Z
UID:10000045-1679421600-1679427000@jaspercountyillinois.gov
SUMMARY:City Council Meeting
DESCRIPTION:Regularly scheduled Newton City Council meetings are held at 6:00 pm on the first and third Tuesday of each month. The City Council meetings and committee meetings are held at City Hall located at 108 N. Van Buren in Newton.
URL:https://jaspercountyillinois.gov/event/city-council-meeting-35/
LOCATION:City Hall\, 108 N Van Buren St\, Newton\, IL\, 62448\, United States
CATEGORIES:Public Meetings
END:VEVENT
BEGIN:VEVENT
DTSTART;TZID=America/Chicago:20230307T180000
DTEND;TZID=America/Chicago:20230307T193000
DTSTAMP:20260422T083409
CREATED:20240628T161705Z
LAST-MODIFIED:20240724T190348Z
UID:10000044-1678212000-1678217400@jaspercountyillinois.gov
SUMMARY:City Council Meeting
DESCRIPTION:Regularly scheduled Newton City Council meetings are held at 6:00 pm on the first and third Tuesday of each month. The City Council meetings and committee meetings are held at City Hall located at 108 N. Van Buren in Newton.
URL:https://jaspercountyillinois.gov/event/city-council-meeting-34/
LOCATION:City Hall\, 108 N Van Buren St\, Newton\, IL\, 62448\, United States
CATEGORIES:Public Meetings
END:VEVENT
BEGIN:VEVENT
DTSTART;TZID=America/Chicago:20230221T180000
DTEND;TZID=America/Chicago:20230221T193000
DTSTAMP:20260422T083409
CREATED:20240628T160639Z
LAST-MODIFIED:20240724T190422Z
UID:10000043-1677002400-1677007800@jaspercountyillinois.gov
SUMMARY:City Council Meeting
DESCRIPTION:Regularly scheduled Newton City Council meetings are held at 6:00 pm on the first and third Tuesday of each month. The City Council meetings and committee meetings are held at City Hall located at 108 N. Van Buren in Newton.
URL:https://jaspercountyillinois.gov/event/city-council-meeting-33/
LOCATION:City Hall\, 108 N Van Buren St\, Newton\, IL\, 62448\, United States
CATEGORIES:Public Meetings
END:VEVENT
BEGIN:VEVENT
DTSTART;TZID=America/Chicago:20230207T180000
DTEND;TZID=America/Chicago:20230207T193000
DTSTAMP:20260422T083409
CREATED:20240628T160530Z
LAST-MODIFIED:20240724T190443Z
UID:10000042-1675792800-1675798200@jaspercountyillinois.gov
SUMMARY:City Council Meeting
DESCRIPTION:Regularly scheduled Newton City Council meetings are held at 6:00 pm on the first and third Tuesday of each month. The City Council meetings and committee meetings are held at City Hall located at 108 N. Van Buren in Newton.
URL:https://jaspercountyillinois.gov/event/city-council-meeting-32/
LOCATION:City Hall\, 108 N Van Buren St\, Newton\, IL\, 62448\, United States
CATEGORIES:Public Meetings
END:VEVENT
BEGIN:VEVENT
DTSTART;TZID=America/Chicago:20230117T180000
DTEND;TZID=America/Chicago:20230117T193000
DTSTAMP:20260422T083409
CREATED:20240628T160438Z
LAST-MODIFIED:20240724T190458Z
UID:10000041-1673978400-1673983800@jaspercountyillinois.gov
SUMMARY:City Council Meeting
DESCRIPTION:Regularly scheduled Newton City Council meetings are held at 6:00 pm on the first and third Tuesday of each month. The City Council meetings and committee meetings are held at City Hall located at 108 N. Van Buren in Newton.
URL:https://jaspercountyillinois.gov/event/city-council-meeting-31/
LOCATION:City Hall\, 108 N Van Buren St\, Newton\, IL\, 62448\, United States
CATEGORIES:Public Meetings
END:VEVENT
BEGIN:VEVENT
DTSTART;TZID=America/Chicago:20230103T180000
DTEND;TZID=America/Chicago:20230103T193000
DTSTAMP:20260422T083409
CREATED:20240628T160033Z
LAST-MODIFIED:20240724T190527Z
UID:10000040-1672768800-1672774200@jaspercountyillinois.gov
SUMMARY:City Council Meeting
DESCRIPTION:Regularly scheduled Newton City Council meetings are held at 6:00 pm on the first and third Tuesday of each month. The City Council meetings and committee meetings are held at City Hall located at 108 N. Van Buren in Newton.
URL:https://jaspercountyillinois.gov/event/city-council-meeting-30/
LOCATION:City Hall\, 108 N Van Buren St\, Newton\, IL\, 62448\, United States
CATEGORIES:Public Meetings
END:VEVENT
END:VCALENDAR