BEGIN:VCALENDAR
VERSION:2.0
PRODID:-//City of Newton, IL | Jasper County, IL - ECPv6.15.0//NONSGML v1.0//EN
CALSCALE:GREGORIAN
METHOD:PUBLISH
X-ORIGINAL-URL:https://jaspercountyillinois.gov
X-WR-CALDESC:Events for City of Newton, IL | Jasper County, IL
REFRESH-INTERVAL;VALUE=DURATION:PT1H
X-Robots-Tag:noindex
X-PUBLISHED-TTL:PT1H
BEGIN:VTIMEZONE
TZID:America/Chicago
BEGIN:DAYLIGHT
TZOFFSETFROM:-0600
TZOFFSETTO:-0500
TZNAME:CDT
DTSTART:20240310T080000
END:DAYLIGHT
BEGIN:STANDARD
TZOFFSETFROM:-0500
TZOFFSETTO:-0600
TZNAME:CST
DTSTART:20241103T070000
END:STANDARD
BEGIN:DAYLIGHT
TZOFFSETFROM:-0600
TZOFFSETTO:-0500
TZNAME:CDT
DTSTART:20250309T080000
END:DAYLIGHT
BEGIN:STANDARD
TZOFFSETFROM:-0500
TZOFFSETTO:-0600
TZNAME:CST
DTSTART:20251102T070000
END:STANDARD
END:VTIMEZONE
BEGIN:VEVENT
DTSTART;TZID=America/Chicago:20250226T180000
DTEND;TZID=America/Chicago:20250226T183000
DTSTAMP:20260422T193222
CREATED:20250219T223547Z
LAST-MODIFIED:20250227T184316Z
UID:10000385-1740592800-1740594600@jaspercountyillinois.gov
SUMMARY:Finance and Audit Committee Meeting
DESCRIPTION:There will be a Finance/Audit Committee Meeting on Wednesday\, February 26\, 2025 immediately following the Electric Committee Meeting in the Council Room at Newton City Hall located at 108 N. Van Buren St.\, Newton\, Illinois.
URL:https://jaspercountyillinois.gov/event/finance-and-audit-committee-meeting-12/
LOCATION:City Hall\, 108 N Van Buren St\, Newton\, IL\, 62448\, United States
CATEGORIES:Committee Meetings
END:VEVENT
BEGIN:VEVENT
DTSTART;TZID=America/Chicago:20250226T173000
DTEND;TZID=America/Chicago:20250226T183000
DTSTAMP:20260422T193222
CREATED:20250218T191717Z
LAST-MODIFIED:20250227T184217Z
UID:10000384-1740591000-1740594600@jaspercountyillinois.gov
SUMMARY:Electric Committee Meeting
DESCRIPTION:There will be a meeting of the Electric Committee on Wednesday\, February 26\, 2025 at 5:30 PM in the City Council Room at Newton City Hall located at 108 N. Van Buren St.\, Newton\, Illinois.
URL:https://jaspercountyillinois.gov/event/electric-committee-meeting-24/
LOCATION:City Hall\, 108 N Van Buren St\, Newton\, IL\, 62448\, United States
CATEGORIES:Committee Meetings
END:VEVENT
BEGIN:VEVENT
DTSTART;TZID=America/Chicago:20250220T180000
DTEND;TZID=America/Chicago:20250220T200000
DTSTAMP:20260422T193222
CREATED:20241203T202638Z
LAST-MODIFIED:20250304T204636Z
UID:10000326-1740074400-1740081600@jaspercountyillinois.gov
SUMMARY:County Board Meeting
DESCRIPTION:
URL:https://jaspercountyillinois.gov/event/county-board-meeting-27/
LOCATION:County Office Building\, 204 W Washington St\, Newton\, IL\, 62448\, United States
CATEGORIES:Public Meetings
END:VEVENT
BEGIN:VEVENT
DTSTART;TZID=America/Chicago:20250218T180000
DTEND;TZID=America/Chicago:20250218T193000
DTSTAMP:20260422T193222
CREATED:20241203T225110Z
LAST-MODIFIED:20250305T171817Z
UID:10000340-1739901600-1739907000@jaspercountyillinois.gov
SUMMARY:City Council Meeting
DESCRIPTION:Regularly scheduled Newton City Council meetings are held at 6:00 pm on the first and third Tuesday of each month. The City Council meetings and committee meetings are held at City Hall located at 108 N. Van Buren in Newton.
URL:https://jaspercountyillinois.gov/event/city-council-meeting-52/
LOCATION:City Hall\, 108 N Van Buren St\, Newton\, IL\, 62448\, United States
CATEGORIES:Public Meetings
END:VEVENT
BEGIN:VEVENT
DTSTART;VALUE=DATE:20250217
DTEND;VALUE=DATE:20250218
DTSTAMP:20260422T193222
CREATED:20250211T193650Z
LAST-MODIFIED:20250211T193650Z
UID:10000378-1739750400-1739836799@jaspercountyillinois.gov
SUMMARY:County Offices Closed due to observance of Presidents' Day
DESCRIPTION:
URL:https://jaspercountyillinois.gov/event/county-offices-closed-due-to-observance-of-presidents-day/
LOCATION:IL
END:VEVENT
BEGIN:VEVENT
DTSTART;TZID=America/Chicago:20250212T183000
DTEND;TZID=America/Chicago:20250212T190000
DTSTAMP:20260422T193222
CREATED:20250207T223042Z
LAST-MODIFIED:20250207T223042Z
UID:10000368-1739385000-1739386800@jaspercountyillinois.gov
SUMMARY:Park\, Cemetery and Pool Committee Meeting
DESCRIPTION:There will be a meeting of the Park\, Cemetery and Pool Committee on Wednesday\, February 12\, 2025\, immediately following the Finance and Audit Committee Meeting in the City Council Room at Newton City Hall located at 108 N. Van Buren St.\, Newton\, Illinois.
URL:https://jaspercountyillinois.gov/event/park-cemetery-and-pool-committee-meeting-3/
LOCATION:City Hall\, 108 N Van Buren St\, Newton\, IL\, 62448\, United States
END:VEVENT
BEGIN:VEVENT
DTSTART;TZID=America/Chicago:20250212T180000
DTEND;TZID=America/Chicago:20250212T183000
DTSTAMP:20260422T193222
CREATED:20250205T221146Z
LAST-MODIFIED:20250213T165558Z
UID:10000367-1739383200-1739385000@jaspercountyillinois.gov
SUMMARY:Finance and Audit Committee Meeting
DESCRIPTION:There will be a Finance/Audit Committee Meeting on Wednesday\, February 12\, 2025 immediately following the Police and Building Permit Committee Meeting in the Council Room at Newton City Hall located at 108 N. Van Buren St.\, Newton\, Illinois.
URL:https://jaspercountyillinois.gov/event/finance-and-audit-committee-meeting-11/
LOCATION:City Hall\, 108 N Van Buren St\, Newton\, IL\, 62448\, United States
CATEGORIES:Committee Meetings
END:VEVENT
BEGIN:VEVENT
DTSTART;TZID=America/Chicago:20250212T173000
DTEND;TZID=America/Chicago:20250212T180000
DTSTAMP:20260422T193222
CREATED:20250205T220945Z
LAST-MODIFIED:20250218T191518Z
UID:10000366-1739381400-1739383200@jaspercountyillinois.gov
SUMMARY:Police and Building Permit Committee Meeting
DESCRIPTION:There will be a meeting of the Police and Building Permit Committee on Wednesday\, February 12\, 2025 at 5:30 PM in the council room of Newton City Hall at 108 N Van Buren\, Newton\, Illinois.
URL:https://jaspercountyillinois.gov/event/police-and-building-permit-committee-meeting-7/
LOCATION:City Hall\, 108 N Van Buren St\, Newton\, IL\, 62448\, United States
CATEGORIES:Committee Meetings
END:VEVENT
BEGIN:VEVENT
DTSTART;TZID=America/Chicago:20250204T180000
DTEND;TZID=America/Chicago:20250204T193000
DTSTAMP:20260422T193222
CREATED:20241203T225010Z
LAST-MODIFIED:20250221T151230Z
UID:10000339-1738692000-1738697400@jaspercountyillinois.gov
SUMMARY:City Council Meeting
DESCRIPTION:Regularly scheduled Newton City Council meetings are held at 6:00 pm on the first and third Tuesday of each month. The City Council meetings and committee meetings are held at City Hall located at 108 N. Van Buren in Newton.
URL:https://jaspercountyillinois.gov/event/city-council-meeting-51/
LOCATION:City Hall\, 108 N Van Buren St\, Newton\, IL\, 62448\, United States
CATEGORIES:Public Meetings
END:VEVENT
BEGIN:VEVENT
DTSTART;TZID=America/Chicago:20250204T173000
DTEND;TZID=America/Chicago:20250204T180000
DTSTAMP:20260422T193222
CREATED:20250130T203824Z
LAST-MODIFIED:20250205T183726Z
UID:10000364-1738690200-1738692000@jaspercountyillinois.gov
SUMMARY:City Insurance Committee Meeting
DESCRIPTION:There will be a City Insurance Committee Meeting on Tuesday\, February 4\, 2025 immediately following the Finance and Audit Committee Meeting in the council room at Newton City Hall located at 108 N. Van Buren St.\, Newton\, Illinois.
URL:https://jaspercountyillinois.gov/event/city-insurance-committee-meeting-3/
LOCATION:City Hall\, 108 N Van Buren St\, Newton\, IL\, 62448\, United States
CATEGORIES:Committee Meetings
END:VEVENT
BEGIN:VEVENT
DTSTART;TZID=America/Chicago:20250204T173000
DTEND;TZID=America/Chicago:20250204T180000
DTSTAMP:20260422T193222
CREATED:20250130T203656Z
LAST-MODIFIED:20250205T183640Z
UID:10000363-1738690200-1738692000@jaspercountyillinois.gov
SUMMARY:Finance and Audit Committee Meeting
DESCRIPTION:There will be a Finance/Audit Committee Meeting on Tuesday\, February 4\, 2025 at 5:30 PM in the Council Room at Newton City Hall located at 108 N. Van Buren St.\, Newton\, Illinois.
URL:https://jaspercountyillinois.gov/event/finance-and-audit-committee-meeting-10/
LOCATION:City Hall\, 108 N Van Buren St\, Newton\, IL\, 62448\, United States
CATEGORIES:Committee Meetings
END:VEVENT
BEGIN:VEVENT
DTSTART;TZID=America/Chicago:20250203T180000
DTEND;TZID=America/Chicago:20250203T190000
DTSTAMP:20260422T193222
CREATED:20250129T231954Z
LAST-MODIFIED:20250205T183543Z
UID:10000362-1738605600-1738609200@jaspercountyillinois.gov
SUMMARY:Water and Wastewater Committee Meeting
DESCRIPTION:There will be a Water and Wastewater Committee Meeting on Monday\, February 3\, 2025 at 6:00 PM in the City Council Room at Newton City Hall located at 108 N. Van Buren St.\, Newton\, Illinois.
URL:https://jaspercountyillinois.gov/event/water-and-wastewater-committee-meeting-3/
LOCATION:City Hall\, 108 N Van Buren St\, Newton\, IL\, 62448\, United States
CATEGORIES:Committee Meetings
END:VEVENT
BEGIN:VEVENT
DTSTART;TZID=America/Chicago:20250129T150000
DTEND;TZID=America/Chicago:20250129T160000
DTSTAMP:20260422T193222
CREATED:20250124T214045Z
LAST-MODIFIED:20250223T185030Z
UID:10000361-1738162800-1738166400@jaspercountyillinois.gov
SUMMARY:County Courthouse Design Committee
DESCRIPTION:
URL:https://jaspercountyillinois.gov/event/county-courthouse-design-committee-jan292025/
LOCATION:County Office Building\, 204 W Washington St\, Newton\, IL\, 62448\, United States
CATEGORIES:Public Meetings
END:VEVENT
BEGIN:VEVENT
DTSTART;TZID=America/Chicago:20250127T180000
DTEND;TZID=America/Chicago:20250127T190000
DTSTAMP:20260422T193222
CREATED:20250124T143322Z
LAST-MODIFIED:20250129T230750Z
UID:10000360-1738000800-1738004400@jaspercountyillinois.gov
SUMMARY:Special Meeting
DESCRIPTION:There will be a Special Meeting on Monday\, January 27\, 2025 at 6:00 PM in the Council Room at Newton City Hall located at 108 N. Van Buren St.\, Newton\, Illinois.
URL:https://jaspercountyillinois.gov/event/special-meeting/
LOCATION:City Hall\, 108 N Van Buren St\, Newton\, IL\, 62448\, United States
CATEGORIES:Committee Meetings
END:VEVENT
BEGIN:VEVENT
DTSTART;TZID=America/Chicago:20250127T173000
DTEND;TZID=America/Chicago:20250127T183000
DTSTAMP:20260422T193222
CREATED:20250122T154844Z
LAST-MODIFIED:20250123T220423Z
UID:10000359-1737999000-1738002600@jaspercountyillinois.gov
SUMMARY:Board of Health
DESCRIPTION:
URL:https://jaspercountyillinois.gov/event/3684/
LOCATION:Jasper County Health Department\, 106 Edwards Street\, Newton\, IL\, 62448\, United States
END:VEVENT
BEGIN:VEVENT
DTSTART;TZID=America/Chicago:20250121T180000
DTEND;TZID=America/Chicago:20250121T193000
DTSTAMP:20260422T193222
CREATED:20241203T224445Z
LAST-MODIFIED:20250212T160249Z
UID:10000337-1737482400-1737487800@jaspercountyillinois.gov
SUMMARY:City Council Meeting
DESCRIPTION:Regularly scheduled Newton City Council meetings are held at 6:00 pm on the first and third Tuesday of each month. The City Council meetings and committee meetings are held at City Hall located at 108 N. Van Buren in Newton.
URL:https://jaspercountyillinois.gov/event/city-council-meeting-49/
LOCATION:City Hall\, 108 N Van Buren St\, Newton\, IL\, 62448\, United States
CATEGORIES:Public Meetings
END:VEVENT
BEGIN:VEVENT
DTSTART;TZID=America/Chicago:20250121T173000
DTEND;TZID=America/Chicago:20250121T180000
DTSTAMP:20260422T193222
CREATED:20250116T205749Z
LAST-MODIFIED:20250123T165859Z
UID:10000358-1737480600-1737482400@jaspercountyillinois.gov
SUMMARY:Finance and Audit Committee Meeting
DESCRIPTION:There will be a Finance/Audit Committee Meeting on Tuesday\, January 21\, 2025 at 5:30 PM in the Council Room at Newton City Hall located at 108 N. Van Buren St.\, Newton\, Illinois. \n 
URL:https://jaspercountyillinois.gov/event/finance-and-audit-committee-meeting-9/
LOCATION:City Hall\, 108 N Van Buren St\, Newton\, IL\, 62448\, United States
CATEGORIES:Committee Meetings
END:VEVENT
BEGIN:VEVENT
DTSTART;VALUE=DATE:20250120
DTEND;VALUE=DATE:20250121
DTSTAMP:20260422T193222
CREATED:20250211T192458Z
LAST-MODIFIED:20250211T192458Z
UID:10000377-1737331200-1737417599@jaspercountyillinois.gov
SUMMARY:County Offices Closed due to observance of Martin Luther King Jr Day
DESCRIPTION:
URL:https://jaspercountyillinois.gov/event/county-offices-closed-due-to-observance-of-martin-luther-king-jr-day/
LOCATION:IL
END:VEVENT
BEGIN:VEVENT
DTSTART;TZID=America/Chicago:20250116T170000
DTEND;TZID=America/Chicago:20250116T183000
DTSTAMP:20260422T193222
CREATED:20241203T202607Z
LAST-MODIFIED:20250206T201646Z
UID:10000325-1737046800-1737052200@jaspercountyillinois.gov
SUMMARY:County Board Meeting
DESCRIPTION:The January 16\, 2025\, Jasper County Board Meeting will start at 5:00 p.m. The change in time from 6:00 p.m. was with the permission of all County Board Members. The change in the meeting time was requested because the Chamber of Commerce Banquet falls on the same evening.
URL:https://jaspercountyillinois.gov/event/county-board-meeting-26/
LOCATION:County Office Building\, 204 W Washington St\, Newton\, IL\, 62448\, United States
CATEGORIES:Public Meetings
END:VEVENT
BEGIN:VEVENT
DTSTART;TZID=America/Chicago:20250115T173000
DTEND;TZID=America/Chicago:20250115T190000
DTSTAMP:20260422T193222
CREATED:20250204T174817Z
LAST-MODIFIED:20250204T174817Z
UID:10000365-1736962200-1736967600@jaspercountyillinois.gov
SUMMARY:Police and Building Permit Committee Meeting
DESCRIPTION:There will be a meeting of the Police and Building Permit Committee on Wednesday\, January 15\, 2025 at 5:30 PM in the council room of Newton City Hall at 108 N Van Buren\, Newton\, Illinois.
URL:https://jaspercountyillinois.gov/event/police-and-building-permit-committee-meeting-6/
LOCATION:City Hall\, 108 N Van Buren St\, Newton\, IL\, 62448\, United States
CATEGORIES:Committee Meetings
END:VEVENT
BEGIN:VEVENT
DTSTART;TZID=America/Chicago:20250113T190000
DTEND;TZID=America/Chicago:20250113T200000
DTSTAMP:20260422T193222
CREATED:20250108T222632Z
LAST-MODIFIED:20250116T160628Z
UID:10000357-1736794800-1736798400@jaspercountyillinois.gov
SUMMARY:Finance and Audit Committee Meeting
DESCRIPTION:There will be a Finance/Audit Committee Meeting Monday\, January 13\, 2025 immediately following the Water and Wastewater Committee Meeting in the Council Room at Newton City Hall located at 108 N. Van Buren St.\, Newton\, Illinois. \n 
URL:https://jaspercountyillinois.gov/event/finance-and-audit-committee-meeting-8/
LOCATION:City Hall\, 108 N Van Buren St\, Newton\, IL\, 62448\, United States
CATEGORIES:Committee Meetings
END:VEVENT
BEGIN:VEVENT
DTSTART;TZID=America/Chicago:20250113T180000
DTEND;TZID=America/Chicago:20250113T190000
DTSTAMP:20260422T193222
CREATED:20250107T180812Z
LAST-MODIFIED:20250116T160429Z
UID:10000356-1736791200-1736794800@jaspercountyillinois.gov
SUMMARY:Water and Wastewater Committee Meeting
DESCRIPTION:There will be a Water and Wastewater Committee Meeting on Monday\, January 13\, 2025 at 6:00 PM in the City Council Room at Newton City Hall located at 108 N. Van Buren St.\, Newton\, Illinois. \n 
URL:https://jaspercountyillinois.gov/event/water-and-wastewater-committee-meeting-2/
LOCATION:City Hall\, 108 N Van Buren St\, Newton\, IL\, 62448\, United States
END:VEVENT
BEGIN:VEVENT
DTSTART;TZID=America/Chicago:20250113T173000
DTEND;TZID=America/Chicago:20250113T180000
DTSTAMP:20260422T193222
CREATED:20250107T180109Z
LAST-MODIFIED:20250116T160319Z
UID:10000352-1736789400-1736791200@jaspercountyillinois.gov
SUMMARY:RESCHEDULED Electric Committee Meeting
DESCRIPTION:There will be a meeting of the Electric Committee on Monday\, January 13\, 2025 at 5:30 PM in the City Council Room at Newton City Hall located at 108 N. Van Buren St.\, Newton\, Illinois.
URL:https://jaspercountyillinois.gov/event/rescheduled-electric-committee-meeting/
LOCATION:City Hall\, 108 N Van Buren St\, Newton\, IL\, 62448\, United States
END:VEVENT
BEGIN:VEVENT
DTSTART;TZID=America/Chicago:20250109T163000
DTEND;TZID=America/Chicago:20250109T173000
DTSTAMP:20260422T193222
CREATED:20250107T180346Z
LAST-MODIFIED:20250418T160157Z
UID:10000355-1736440200-1736443800@jaspercountyillinois.gov
SUMMARY:County Courthouse Design Committee
DESCRIPTION:
URL:https://jaspercountyillinois.gov/event/county-courthouse-design-committee-jan2025/
LOCATION:County Office Building\, 204 W Washington St\, Newton\, IL\, 62448\, United States
CATEGORIES:Public Meetings
END:VEVENT
BEGIN:VEVENT
DTSTART;TZID=America/Chicago:20250107T180000
DTEND;TZID=America/Chicago:20250107T193000
DTSTAMP:20260422T193222
CREATED:20241203T224819Z
LAST-MODIFIED:20250124T193214Z
UID:10000338-1736272800-1736278200@jaspercountyillinois.gov
SUMMARY:City Council Meeting
DESCRIPTION:Regularly scheduled Newton City Council meetings are held at 6:00 pm on the first and third Tuesday of each month. The City Council meetings and committee meetings are held at City Hall located at 108 N. Van Buren in Newton.
URL:https://jaspercountyillinois.gov/event/city-council-meeting-50/
LOCATION:City Hall\, 108 N Van Buren St\, Newton\, IL\, 62448\, United States
CATEGORIES:Public Meetings
END:VEVENT
BEGIN:VEVENT
DTSTART;TZID=America/Chicago:20250106T173000
DTEND;TZID=America/Chicago:20250106T183000
DTSTAMP:20260422T193222
CREATED:20250107T175904Z
LAST-MODIFIED:20250107T175904Z
UID:10000351-1736184600-1736188200@jaspercountyillinois.gov
SUMMARY:Electric Committee Meeting - CANCELED
DESCRIPTION:There will be a meeting of the Electric Committee on Monday\, January 6\, 2025 at 5:30 PM in the City Council Room at Newton City Hall located at 108 N. Van Buren St.\, Newton\, Illinois. \n 
URL:https://jaspercountyillinois.gov/event/electric-committee-meeting-canceled/
LOCATION:City Hall\, 108 N Van Buren St\, Newton\, IL\, 62448\, United States
CATEGORIES:Committee Meetings
END:VEVENT
BEGIN:VEVENT
DTSTART;TZID=America/Chicago:20250102T190000
DTEND;TZID=America/Chicago:20250102T200000
DTSTAMP:20260422T193222
CREATED:20250103T200046Z
LAST-MODIFIED:20250103T200145Z
UID:10000350-1735844400-1735848000@jaspercountyillinois.gov
SUMMARY:Finance and Audit Committee Meeting
DESCRIPTION:There will be a Finance/Audit Committee Meeting Thursday\, January 2\, 2025 immediately following the Police and Building Permit Committee Meeting in the Council Room at Newton City Hall located at 108 N. Van Buren St.\, Newton\, Illinois.
URL:https://jaspercountyillinois.gov/event/finance-and-audit-committee-meeting-7/
LOCATION:IL
CATEGORIES:Committee Meetings
END:VEVENT
BEGIN:VEVENT
DTSTART;TZID=America/Chicago:20250102T180000
DTEND;TZID=America/Chicago:20250102T190000
DTSTAMP:20260422T193222
CREATED:20241226T222411Z
LAST-MODIFIED:20250113T150315Z
UID:10000349-1735840800-1735844400@jaspercountyillinois.gov
SUMMARY:Police and Building Permit Committee Meeting
DESCRIPTION:There will be a meeting of the Police and Building Permit Committee on Thursday\, January 2\, 2025 at 6:00 PM in the council room of Newton City Hall at 108 N Van Buren\, Newton\, Illinois.
URL:https://jaspercountyillinois.gov/event/police-and-building-permit-committee-meeting-5/
LOCATION:City Hall\, 108 N Van Buren St\, Newton\, IL\, 62448\, United States
CATEGORIES:Committee Meetings
END:VEVENT
BEGIN:VEVENT
DTSTART;VALUE=DATE:20250101
DTEND;VALUE=DATE:20250102
DTSTAMP:20260422T193222
CREATED:20241216T204813Z
LAST-MODIFIED:20241216T204813Z
UID:10000348-1735689600-1735775999@jaspercountyillinois.gov
SUMMARY:City of Newton offices will be closed in observance of the New Year
DESCRIPTION:Happy New Year!
URL:https://jaspercountyillinois.gov/event/city-of-newton-offices-will-be-closed-in-observance-of-the-new-year/
LOCATION:City Hall\, 108 N Van Buren St\, Newton\, IL\, 62448\, United States
END:VEVENT
BEGIN:VEVENT
DTSTART;TZID=America/Chicago:20241231T080000
DTEND;TZID=America/Chicago:20241231T120000
DTSTAMP:20260422T193222
CREATED:20241216T204714Z
LAST-MODIFIED:20241216T204714Z
UID:10000347-1735632000-1735646400@jaspercountyillinois.gov
SUMMARY:City of Newton Offices will close at Noon in observance of the New Year
DESCRIPTION:Happy New Year!
URL:https://jaspercountyillinois.gov/event/city-of-newton-offices-will-close-at-noon-in-observance-of-the-new-year/
LOCATION:City Hall\, 108 N Van Buren St\, Newton\, IL\, 62448\, United States
END:VEVENT
END:VCALENDAR