BEGIN:VCALENDAR
VERSION:2.0
PRODID:-//City of Newton, IL | Jasper County, IL - ECPv6.15.0//NONSGML v1.0//EN
CALSCALE:GREGORIAN
METHOD:PUBLISH
X-ORIGINAL-URL:https://jaspercountyillinois.gov
X-WR-CALDESC:Events for City of Newton, IL | Jasper County, IL
REFRESH-INTERVAL;VALUE=DURATION:PT1H
X-Robots-Tag:noindex
X-PUBLISHED-TTL:PT1H
BEGIN:VTIMEZONE
TZID:America/Chicago
BEGIN:DAYLIGHT
TZOFFSETFROM:-0600
TZOFFSETTO:-0500
TZNAME:CDT
DTSTART:20250309T080000
END:DAYLIGHT
BEGIN:STANDARD
TZOFFSETFROM:-0500
TZOFFSETTO:-0600
TZNAME:CST
DTSTART:20251102T070000
END:STANDARD
END:VTIMEZONE
BEGIN:VEVENT
DTSTART;TZID=America/Chicago:20250715T173000
DTEND;TZID=America/Chicago:20250715T180000
DTSTAMP:20260422T133837
CREATED:20250703T204454Z
LAST-MODIFIED:20250703T204454Z
UID:10000437-1752600600-1752602400@jaspercountyillinois.gov
SUMMARY:Public Notice - Appropriations Hearing
DESCRIPTION:PUBLIC NOTICE \nNOTICE of public hearing for the City of Newton proposed appropriations for the fiscal year 2025-2026.  Said hearing is to be held on Tuesday\, July 15\, 2025 at 5:45 PM in the City Council Room at City Hall\, 108 N. Van Buren Street\, Newton\, Illinois.  The proposed appropriations will be available for public inspection on June 30\, 2025 through July 14\, 2025 at the Office of the City Treasurer in the City Hall between the hours of 7:00 AM and 4:00 PM. \n  \nMelissa Brooks \nNewton City Treasurer
URL:https://jaspercountyillinois.gov/event/public-notice-appropriations-hearing/
LOCATION:City Hall\, 108 N Van Buren St\, Newton\, IL\, 62448\, United States
CATEGORIES:Public Meetings
END:VEVENT
BEGIN:VEVENT
DTSTART;TZID=America/Chicago:20250707T183000
DTEND;TZID=America/Chicago:20250707T193000
DTSTAMP:20260422T133837
CREATED:20250701T204850Z
LAST-MODIFIED:20250710T182308Z
UID:10000435-1751913000-1751916600@jaspercountyillinois.gov
SUMMARY:Finance and Audit Committee Meeting
DESCRIPTION:There will be a Finance/Audit Committee Meeting on Monday\, July 7\, 2025 immediately following the Police and Building Permit Committee Meeting in the Council Room at Newton City Hall located at 108 N. Van Buren St.\, Newton\, Illinois.
URL:https://jaspercountyillinois.gov/event/finance-and-audit-committee-meeting-19/
LOCATION:City Hall\, 108 N Van Buren St\, Newton\, IL\, 62448\, United States
CATEGORIES:Committee Meetings
END:VEVENT
BEGIN:VEVENT
DTSTART;TZID=America/Chicago:20250707T183000
DTEND;TZID=America/Chicago:20250707T190000
DTSTAMP:20260422T133837
CREATED:20250702T202834Z
LAST-MODIFIED:20250710T182810Z
UID:10000436-1751913000-1751914800@jaspercountyillinois.gov
SUMMARY:Alcohol and Tobacco Committee Meeting
DESCRIPTION:There will be an Alcohol and Tobacco Committee Meeting Monday\, July 7\, 2025 immediately following the Finance and Audit Committee Meeting in the Council Room at Newton City Hall located at 108 N. Van Buren St.\, Newton\, Illinois.
URL:https://jaspercountyillinois.gov/event/alcohol-and-tobacco-committee-meeting/
LOCATION:City Hall\, 108 N Van Buren St\, Newton\, IL\, 62448\, United States
END:VEVENT
BEGIN:VEVENT
DTSTART;TZID=America/Chicago:20250707T180000
DTEND;TZID=America/Chicago:20250707T190000
DTSTAMP:20260422T133837
CREATED:20250701T204612Z
LAST-MODIFIED:20250717T160920Z
UID:10000434-1751911200-1751914800@jaspercountyillinois.gov
SUMMARY:Police and Building Permit Committee Meeting
DESCRIPTION:There will be a meeting of the Police and Building Permit Committee on Monday\, July 7\, 2025 at 6:00 PM in the council room of Newton City Hall at 108 N Van Buren\, Newton\, Illinois. \n 
URL:https://jaspercountyillinois.gov/event/police-and-building-permit-committee-meeting-10/
LOCATION:City Hall\, 108 N Van Buren St\, Newton\, IL\, 62448\, United States
CATEGORIES:Committee Meetings
END:VEVENT
BEGIN:VEVENT
DTSTART;VALUE=DATE:20250704
DTEND;VALUE=DATE:20250705
DTSTAMP:20260422T133837
CREATED:20250211T195552Z
LAST-MODIFIED:20250211T195552Z
UID:10000382-1751587200-1751673599@jaspercountyillinois.gov
SUMMARY:County Offices Closed due to observance of Independence Day
DESCRIPTION:
URL:https://jaspercountyillinois.gov/event/county-offices-closed-due-to-observance-of-independence-day/
LOCATION:IL
END:VEVENT
BEGIN:VEVENT
DTSTART;TZID=America/Chicago:20250701T180000
DTEND;TZID=America/Chicago:20250701T193000
DTSTAMP:20260422T133837
CREATED:20250327T195745Z
LAST-MODIFIED:20250703T162229Z
UID:10000399-1751392800-1751398200@jaspercountyillinois.gov
SUMMARY:City Council Meeting
DESCRIPTION:Regularly scheduled Newton City Council meetings are held at 6:00 pm on the first and third Tuesday of each month. The City Council meetings and committee meetings are held at City Hall located at 108 N. Van Buren in Newton.
URL:https://jaspercountyillinois.gov/event/city-council-meeting-61/
LOCATION:City Hall\, 108 N Van Buren St\, Newton\, IL\, 62448\, United States
CATEGORIES:Public Meetings
END:VEVENT
BEGIN:VEVENT
DTSTART;VALUE=DATE:20250701
DTEND;VALUE=DATE:20250702
DTSTAMP:20260422T133837
CREATED:20250709T194549Z
LAST-MODIFIED:20250709T194549Z
UID:10000439-1751328000-1751414399@jaspercountyillinois.gov
SUMMARY:Mobile Home Tax Bills Mailed
DESCRIPTION:
URL:https://jaspercountyillinois.gov/event/mobile-home-tax-bills-mailed-2/
LOCATION:IL
END:VEVENT
BEGIN:VEVENT
DTSTART;VALUE=DATE:20250701
DTEND;VALUE=DATE:20250702
DTSTAMP:20260422T133837
CREATED:20250709T194036Z
LAST-MODIFIED:20250709T194036Z
UID:10000438-1751328000-1751414399@jaspercountyillinois.gov
SUMMARY:Real Estate Tax Bills Mailed
DESCRIPTION:
URL:https://jaspercountyillinois.gov/event/real-estate-tax-bills-mailed-2/
LOCATION:IL
END:VEVENT
BEGIN:VEVENT
DTSTART;TZID=America/Chicago:20250630T183000
DTEND;TZID=America/Chicago:20250630T193000
DTSTAMP:20260422T133837
CREATED:20250625T203134Z
LAST-MODIFIED:20250701T134547Z
UID:10000433-1751308200-1751311800@jaspercountyillinois.gov
SUMMARY:Finance and Audit Committee Meeting
DESCRIPTION:There will be a Finance/Audit Committee Meeting on Monday\, June 30\, 2025 immediately following the Street and Alley Committee Meeting in the Council Room at Newton City Hall located at 108 N. Van Buren St.\, Newton\, Illinois.
URL:https://jaspercountyillinois.gov/event/finance-and-audit-committee-meeting-18/
LOCATION:City Hall\, 108 N Van Buren St\, Newton\, IL\, 62448\, United States
CATEGORIES:Committee Meetings
END:VEVENT
BEGIN:VEVENT
DTSTART;TZID=America/Chicago:20250630T180000
DTEND;TZID=America/Chicago:20250630T190000
DTSTAMP:20260422T133837
CREATED:20250625T150243Z
LAST-MODIFIED:20250701T134438Z
UID:10000431-1751306400-1751310000@jaspercountyillinois.gov
SUMMARY:Street and Alley Committee Meeting
DESCRIPTION:There will be a Street and Alley Committee Meeting on Monday\, June 30\, 2025 at 6:00 PM in the council room of Newton City Hall at 108 N. Van Buren\, Newton\, Illinois.
URL:https://jaspercountyillinois.gov/event/street-and-alley-committee-meeting-14/
LOCATION:City Hall\, 108 N Van Buren St\, Newton\, IL\, 62448\, United States
CATEGORIES:Committee Meetings
END:VEVENT
BEGIN:VEVENT
DTSTART;TZID=America/Chicago:20250623T190000
DTEND;TZID=America/Chicago:20250623T200000
DTSTAMP:20260422T133837
CREATED:20250618T145545Z
LAST-MODIFIED:20250624T200748Z
UID:10000430-1750705200-1750708800@jaspercountyillinois.gov
SUMMARY:Water and Wastewater Committee Meeting
DESCRIPTION:There will be a Water and Wastewater Committee Meeting on Monday\, June 23\, 2025 immediately following the Finance and Audit Committee Meeting in the City Council Room at Newton City Hall located at 108 N. Van Buren St.\, Newton\, Illinois.
URL:https://jaspercountyillinois.gov/event/water-and-wastewater-committee-meeting-4/
LOCATION:City Hall\, 108 N Van Buren St\, Newton\, IL\, 62448\, United States
CATEGORIES:Committee Meetings,Public Meetings
END:VEVENT
BEGIN:VEVENT
DTSTART;TZID=America/Chicago:20250623T180000
DTEND;TZID=America/Chicago:20250623T190000
DTSTAMP:20260422T133837
CREATED:20250618T145256Z
LAST-MODIFIED:20250625T174117Z
UID:10000429-1750701600-1750705200@jaspercountyillinois.gov
SUMMARY:Finance and Audit Committee Meeting
DESCRIPTION:There will be a Finance/Audit Committee Meeting on Monday\, June 23\, 2025 at 6:00 PM in the Council Room at Newton City Hall located at 108 N. Van Buren St.\, Newton\, Illinois.
URL:https://jaspercountyillinois.gov/event/finance-and-audit-committee-meeting-17/
LOCATION:City Hall\, 108 N Van Buren St\, Newton\, IL\, 62448\, United States
CATEGORIES:Committee Meetings,Public Meetings
END:VEVENT
BEGIN:VEVENT
DTSTART;TZID=America/Chicago:20250619T180000
DTEND;TZID=America/Chicago:20250619T190000
DTSTAMP:20260422T133837
CREATED:20241203T202942Z
LAST-MODIFIED:20250620T183002Z
UID:10000329-1750356000-1750359600@jaspercountyillinois.gov
SUMMARY:County Board Meeting
DESCRIPTION:
URL:https://jaspercountyillinois.gov/event/county-board-meeting-30/
LOCATION:County Office Building\, 204 W Washington St\, Newton\, IL\, 62448\, United States
CATEGORIES:Public Meetings
END:VEVENT
BEGIN:VEVENT
DTSTART;VALUE=DATE:20250619
DTEND;VALUE=DATE:20250620
DTSTAMP:20260422T133837
CREATED:20250211T195338Z
LAST-MODIFIED:20250211T195338Z
UID:10000381-1750291200-1750377599@jaspercountyillinois.gov
SUMMARY:County Offices Closed due to observance of Juneteenth
DESCRIPTION:
URL:https://jaspercountyillinois.gov/event/county-offices-closed-due-to-observance-of-juneteenth/
LOCATION:IL
END:VEVENT
BEGIN:VEVENT
DTSTART;TZID=America/Chicago:20250617T180000
DTEND;TZID=America/Chicago:20250617T193000
DTSTAMP:20260422T133837
CREATED:20250327T195645Z
LAST-MODIFIED:20250707T182246Z
UID:10000398-1750183200-1750188600@jaspercountyillinois.gov
SUMMARY:City Council Meeting
DESCRIPTION:Regularly scheduled Newton City Council meetings are held at 6:00 pm on the first and third Tuesday of each month. The City Council meetings and committee meetings are held at City Hall located at 108 N. Van Buren in Newton.
URL:https://jaspercountyillinois.gov/event/city-council-meeting-60/
LOCATION:City Hall\, 108 N Van Buren St\, Newton\, IL\, 62448\, United States
CATEGORIES:Public Meetings
END:VEVENT
BEGIN:VEVENT
DTSTART;TZID=America/Chicago:20250617T173000
DTEND;TZID=America/Chicago:20250617T180000
DTSTAMP:20260422T133837
CREATED:20250606T130422Z
LAST-MODIFIED:20250625T173950Z
UID:10000427-1750181400-1750183200@jaspercountyillinois.gov
SUMMARY:Finance and Audit Committee Meeting
DESCRIPTION:There will be a Finance/Audit Committee Meeting on Tuesday\, June 17\, 2025 at 5:30 PM in the Council Room at Newton City Hall located at 108 N. Van Buren St.\, Newton\, Illinois.
URL:https://jaspercountyillinois.gov/event/finance-and-audit-committee-meeting-16/
LOCATION:City Hall\, 108 N Van Buren St\, Newton\, IL\, 62448\, United States
CATEGORIES:Committee Meetings
END:VEVENT
BEGIN:VEVENT
DTSTART;TZID=America/Chicago:20250616T180000
DTEND;TZID=America/Chicago:20250616T190000
DTSTAMP:20260422T133837
CREATED:20250618T144843Z
LAST-MODIFIED:20250618T144843Z
UID:10000428-1750096800-1750100400@jaspercountyillinois.gov
SUMMARY:Building and Grounds Committee Meeting
DESCRIPTION:There will be a meeting of the Building and Grounds Committee on Monday\, June 16\, 2025 at 6:00 PM in the council room of the Newton City Hall at 108 N Van Buren\, Newton\, Illinois.
URL:https://jaspercountyillinois.gov/event/building-and-grounds-committee-meeting-9/
LOCATION:City Hall\, 108 N Van Buren St\, Newton\, IL\, 62448\, United States
CATEGORIES:Public Meetings
END:VEVENT
BEGIN:VEVENT
DTSTART;TZID=America/Chicago:20250610T180000
DTEND;TZID=America/Chicago:20250610T190000
DTSTAMP:20260422T133837
CREATED:20250606T130050Z
LAST-MODIFIED:20250625T174234Z
UID:10000426-1749578400-1749582000@jaspercountyillinois.gov
SUMMARY:Police and Building Permit Committee Meeting
DESCRIPTION:There will be a meeting of the Police and Building Permit Committee on Tuesday\, June 10\, 2025 at 6:00 PM in the council room of Newton City Hall at 108 N Van Buren\, Newton\, Illinois.
URL:https://jaspercountyillinois.gov/event/police-and-building-permit-committee-meeting-9/
LOCATION:City Hall\, 108 N Van Buren St\, Newton\, IL\, 62448\, United States
CATEGORIES:Committee Meetings
END:VEVENT
BEGIN:VEVENT
DTSTART;TZID=America/Chicago:20250603T180000
DTEND;TZID=America/Chicago:20250603T193000
DTSTAMP:20260422T133837
CREATED:20250327T195549Z
LAST-MODIFIED:20250624T202217Z
UID:10000397-1748973600-1748979000@jaspercountyillinois.gov
SUMMARY:City Council Meeting
DESCRIPTION:Regularly scheduled Newton City Council meetings are held at 6:00 pm on the first and third Tuesday of each month. The City Council meetings and committee meetings are held at City Hall located at 108 N. Van Buren in Newton.
URL:https://jaspercountyillinois.gov/event/city-council-meeting-59/
LOCATION:City Hall\, 108 N Van Buren St\, Newton\, IL\, 62448\, United States
CATEGORIES:Public Meetings
END:VEVENT
BEGIN:VEVENT
DTSTART;TZID=America/Chicago:20250602T173000
DTEND;TZID=America/Chicago:20250602T183000
DTSTAMP:20260422T133837
CREATED:20250530T161646Z
LAST-MODIFIED:20250530T161646Z
UID:10000425-1748885400-1748889000@jaspercountyillinois.gov
SUMMARY:Board of Health Meeting 6-2-25 CANCELED
DESCRIPTION:
URL:https://jaspercountyillinois.gov/event/board-of-health-meeting-6-2-25-canceled/
LOCATION:Jasper County Health Department\, 106 Edwards Street\, Newton\, IL\, 62448\, United States
END:VEVENT
BEGIN:VEVENT
DTSTART;TZID=America/Chicago:20250530T070000
DTEND;TZID=America/Chicago:20250531T153000
DTSTAMP:20260422T133837
CREATED:20250425T214542Z
LAST-MODIFIED:20250425T215104Z
UID:10000421-1748588400-1748705400@jaspercountyillinois.gov
SUMMARY:City Wide Cleanup
DESCRIPTION:The City of Newton City Wide Cleanup is scheduled for Friday\, May 30 from 7:00 AM to 4:00 PM and Saturday\, May 31 from 7:00 AM to 3:00 PM.  Dumpsters and Tire Collection at City Street and Utility Department.  Republic Services will be in town on Friday\, May 30.  Newton City Residents Only. \n  \n 
URL:https://jaspercountyillinois.gov/event/city-wide-cleanup/
LOCATION:IL
CATEGORIES:Community Events
END:VEVENT
BEGIN:VEVENT
DTSTART;VALUE=DATE:20250526
DTEND;VALUE=DATE:20250527
DTSTAMP:20260422T133837
CREATED:20250519T132544Z
LAST-MODIFIED:20250519T132544Z
UID:10000423-1748217600-1748303999@jaspercountyillinois.gov
SUMMARY:City Offices Closed in Observance of Memorial Day
DESCRIPTION:The City of Newton offices and all departments will be closed Monday\, May 26\, 2025 in observance of Memorial Day.
URL:https://jaspercountyillinois.gov/event/city-offices-closed-in-observance-of-memorial-day/
LOCATION:City Hall\, 108 N Van Buren St\, Newton\, IL\, 62448\, United States
END:VEVENT
BEGIN:VEVENT
DTSTART;VALUE=DATE:20250526
DTEND;VALUE=DATE:20250527
DTSTAMP:20260422T133837
CREATED:20250211T194646Z
LAST-MODIFIED:20250211T194646Z
UID:10000380-1748217600-1748303999@jaspercountyillinois.gov
SUMMARY:County Offices Closed due to observance of Memorial Day
DESCRIPTION:
URL:https://jaspercountyillinois.gov/event/county-offices-closed-due-to-observance-of-memorial-day/
LOCATION:IL
END:VEVENT
BEGIN:VEVENT
DTSTART;TZID=America/Chicago:20250520T180000
DTEND;TZID=America/Chicago:20250520T193000
DTSTAMP:20260422T133837
CREATED:20250327T195448Z
LAST-MODIFIED:20250609T124001Z
UID:10000396-1747764000-1747769400@jaspercountyillinois.gov
SUMMARY:City Council Meeting
DESCRIPTION:Regularly scheduled Newton City Council meetings are held at 6:00 pm on the first and third Tuesday of each month. The City Council meetings and committee meetings are held at City Hall located at 108 N. Van Buren in Newton.
URL:https://jaspercountyillinois.gov/event/city-council-meeting-58/
LOCATION:City Hall\, 108 N Van Buren St\, Newton\, IL\, 62448\, United States
CATEGORIES:Public Meetings
END:VEVENT
BEGIN:VEVENT
DTSTART;TZID=America/Chicago:20250515T190000
DTEND;TZID=America/Chicago:20250515T200000
DTSTAMP:20260422T133837
CREATED:20241203T202910Z
LAST-MODIFIED:20250520T182026Z
UID:10000328-1747335600-1747339200@jaspercountyillinois.gov
SUMMARY:County Board Meeting
DESCRIPTION:NOTICE OF TIME CHANGE FOR\nMAY 15\, 2025 COUNTY BOARD MEETING\nJASPER COUNTY\, ILLINOIS  \n7:00 p.m. \nNotice is hereby given that the May 15\, 2025 Meeting of the Jasper County Board will be held at its Board Room in the Jasper County Office Building in Newton\, in said County\, at 7:00 o’clock P.M.\, Central Standard Time. \nDated at Newton\, this 2nd\, day of May\, 2025. \nAmy Tarr\nCounty Clerk and Clerk of the County Board
URL:https://jaspercountyillinois.gov/event/county-board-meeting-29/
LOCATION:County Office Building\, 204 W Washington St\, Newton\, IL\, 62448\, United States
CATEGORIES:Public Meetings
END:VEVENT
BEGIN:VEVENT
DTSTART;TZID=America/Chicago:20250513T180000
DTEND;TZID=America/Chicago:20250513T190000
DTSTAMP:20260422T133837
CREATED:20250422T155335Z
LAST-MODIFIED:20250520T163016Z
UID:10000416-1747159200-1747162800@jaspercountyillinois.gov
SUMMARY:Zoning Board of Appeals Meeting
DESCRIPTION:There will be a meeting of the Zoning Board of Appeals on Tuesday\, May 13\, 2025 at 6:00 PM in the council room at Newton City Hall located at 108 N. Van Buren St.\, Newton\, Illinois.
URL:https://jaspercountyillinois.gov/event/zoning-board-of-appeals-meeting-3/
LOCATION:City Hall\, 108 N Van Buren St\, Newton\, IL\, 62448\, United States
CATEGORIES:Public Meetings
END:VEVENT
BEGIN:VEVENT
DTSTART;TZID=America/Chicago:20250506T180000
DTEND;TZID=America/Chicago:20250506T193000
DTSTAMP:20260422T133837
CREATED:20250327T195351Z
LAST-MODIFIED:20250522T140237Z
UID:10000395-1746554400-1746559800@jaspercountyillinois.gov
SUMMARY:City Council Meeting
DESCRIPTION:Regularly scheduled Newton City Council meetings are held at 6:00 pm on the first and third Tuesday of each month. The City Council meetings and committee meetings are held at City Hall located at 108 N. Van Buren in Newton.
URL:https://jaspercountyillinois.gov/event/city-council-meeting-57/
LOCATION:City Hall\, 108 N Van Buren St\, Newton\, IL\, 62448\, United States
CATEGORIES:Public Meetings
END:VEVENT
BEGIN:VEVENT
DTSTART;TZID=America/Chicago:20250506T173000
DTEND;TZID=America/Chicago:20250506T180000
DTSTAMP:20260422T133837
CREATED:20250501T204122Z
LAST-MODIFIED:20250515T210142Z
UID:10000422-1746552600-1746554400@jaspercountyillinois.gov
SUMMARY:Finance and Audit Committee Meeting
DESCRIPTION:There will be a Finance/Audit Committee Meeting on Tuesday\, May 6\, 2025 at 5:30 PM in the Council Room at Newton City Hall located at 108 N. Van Buren St.\, Newton\, Illinois.
URL:https://jaspercountyillinois.gov/event/finance-and-audit-committee-meeting-15/
LOCATION:City Hall\, 108 N Van Buren St\, Newton\, IL\, 62448\, United States
CATEGORIES:Committee Meetings
END:VEVENT
BEGIN:VEVENT
DTSTART;TZID=America/Chicago:20250430T193000
DTEND;TZID=America/Chicago:20250430T200000
DTSTAMP:20260422T133837
CREATED:20250424T155256Z
LAST-MODIFIED:20250501T203751Z
UID:10000420-1746041400-1746043200@jaspercountyillinois.gov
SUMMARY:Building and Grounds Committee Meeting
DESCRIPTION:There will be a meeting of the Building and Grounds Committee on Wednesday\, April 30\, 2025 immediately following the Electric Committee Meeting in the council room of the Newton City Hall at 108 N Van Buren\, Newton\, Illinois.
URL:https://jaspercountyillinois.gov/event/building-and-grounds-committee-meeting-8/
LOCATION:City Hall\, 108 N Van Buren St\, Newton\, IL\, 62448\, United States
CATEGORIES:Committee Meetings
END:VEVENT
BEGIN:VEVENT
DTSTART;TZID=America/Chicago:20250430T190000
DTEND;TZID=America/Chicago:20250430T200000
DTSTAMP:20260422T133837
CREATED:20250423T215528Z
LAST-MODIFIED:20250501T203649Z
UID:10000419-1746039600-1746043200@jaspercountyillinois.gov
SUMMARY:Electric Committee Meeting
DESCRIPTION:There will be a meeting of the Electric Committee on Wednesday\, April 30\, 2025 immediately following the Finance and Audit Committee Meeting in the City Council Room at Newton City Hall located at 108 N. Van Buren St.\, Newton\, Illinois. \n 
URL:https://jaspercountyillinois.gov/event/electric-committee-meeting-26/
LOCATION:City Hall\, 108 N Van Buren St\, Newton\, IL\, 62448\, United States
CATEGORIES:Committee Meetings
END:VEVENT
END:VCALENDAR